BEGIN:VCALENDAR
VERSION:2.0
PRODID:-//jEvents 2.0 for Joomla//EN
CALSCALE:GREGORIAN
METHOD:PUBLISH
BEGIN:VTIMEZONE
TZID:Europe/Brussels
BEGIN:STANDARD
DTSTART:20201213T090000
RDATE:20210328T030000
TZOFFSETFROM:+0200
TZOFFSETTO:+0100
TZNAME:Europe/Brussels CET
END:STANDARD
BEGIN:STANDARD
DTSTART:20211031T020000
RDATE:20220327T030000
TZOFFSETFROM:+0200
TZOFFSETTO:+0100
TZNAME:Europe/Brussels CET
END:STANDARD
BEGIN:STANDARD
DTSTART:20221030T020000
RDATE:20230326T030000
TZOFFSETFROM:+0200
TZOFFSETTO:+0100
TZNAME:Europe/Brussels CET
END:STANDARD
BEGIN:STANDARD
DTSTART:20231029T020000
RDATE:20240331T030000
TZOFFSETFROM:+0200
TZOFFSETTO:+0100
TZNAME:Europe/Brussels CET
END:STANDARD
BEGIN:STANDARD
DTSTART:20241027T020000
RDATE:20250330T030000
TZOFFSETFROM:+0200
TZOFFSETTO:+0100
TZNAME:Europe/Brussels CET
END:STANDARD
BEGIN:STANDARD
DTSTART:20251026T020000
RDATE:20260329T030000
TZOFFSETFROM:+0200
TZOFFSETTO:+0100
TZNAME:Europe/Brussels CET
END:STANDARD
BEGIN:STANDARD
DTSTART:20261025T020000
RDATE:20270328T030000
TZOFFSETFROM:+0200
TZOFFSETTO:+0100
TZNAME:Europe/Brussels CET
END:STANDARD
BEGIN:STANDARD
DTSTART:20271031T020000
RDATE:20280326T030000
TZOFFSETFROM:+0200
TZOFFSETTO:+0100
TZNAME:Europe/Brussels CET
END:STANDARD
BEGIN:STANDARD
DTSTART:20281029T020000
RDATE:20290325T030000
TZOFFSETFROM:+0200
TZOFFSETTO:+0100
TZNAME:Europe/Brussels CET
END:STANDARD
BEGIN:STANDARD
DTSTART:20291028T020000
RDATE:20300331T030000
TZOFFSETFROM:+0200
TZOFFSETTO:+0100
TZNAME:Europe/Brussels CET
END:STANDARD
BEGIN:STANDARD
DTSTART:20301027T020000
RDATE:20310330T030000
TZOFFSETFROM:+0200
TZOFFSETTO:+0100
TZNAME:Europe/Brussels CET
END:STANDARD
BEGIN:STANDARD
DTSTART:20311026T020000
RDATE:20320328T030000
TZOFFSETFROM:+0200
TZOFFSETTO:+0100
TZNAME:Europe/Brussels CET
END:STANDARD
BEGIN:STANDARD
DTSTART:20321031T020000
RDATE:20330327T030000
TZOFFSETFROM:+0200
TZOFFSETTO:+0100
TZNAME:Europe/Brussels CET
END:STANDARD
BEGIN:STANDARD
DTSTART:20331030T020000
RDATE:20340326T030000
TZOFFSETFROM:+0200
TZOFFSETTO:+0100
TZNAME:Europe/Brussels CET
END:STANDARD
BEGIN:STANDARD
DTSTART:20341029T020000
RDATE:20350325T030000
TZOFFSETFROM:+0200
TZOFFSETTO:+0100
TZNAME:Europe/Brussels CET
END:STANDARD
BEGIN:STANDARD
DTSTART:20351028T020000
RDATE:20360330T030000
TZOFFSETFROM:+0200
TZOFFSETTO:+0100
TZNAME:Europe/Brussels CET
END:STANDARD
BEGIN:STANDARD
DTSTART:20361026T020000
RDATE:20370329T030000
TZOFFSETFROM:+0200
TZOFFSETTO:+0100
TZNAME:Europe/Brussels CET
END:STANDARD
BEGIN:STANDARD
DTSTART:20371025T020000
TZOFFSETFROM:+0200
TZOFFSETTO:+0100
TZNAME:Europe/Brussels CET
END:STANDARD
BEGIN:DAYLIGHT
DTSTART:20210328T030000
RDATE:20211031T020000
TZOFFSETFROM:+0100
TZOFFSETTO:+0200
TZNAME:Europe/Brussels CEST
END:DAYLIGHT
BEGIN:DAYLIGHT
DTSTART:20220327T030000
RDATE:20221030T020000
TZOFFSETFROM:+0100
TZOFFSETTO:+0200
TZNAME:Europe/Brussels CEST
END:DAYLIGHT
BEGIN:DAYLIGHT
DTSTART:20230326T030000
RDATE:20231029T020000
TZOFFSETFROM:+0100
TZOFFSETTO:+0200
TZNAME:Europe/Brussels CEST
END:DAYLIGHT
BEGIN:DAYLIGHT
DTSTART:20240331T030000
RDATE:20241027T020000
TZOFFSETFROM:+0100
TZOFFSETTO:+0200
TZNAME:Europe/Brussels CEST
END:DAYLIGHT
BEGIN:DAYLIGHT
DTSTART:20250330T030000
RDATE:20251026T020000
TZOFFSETFROM:+0100
TZOFFSETTO:+0200
TZNAME:Europe/Brussels CEST
END:DAYLIGHT
BEGIN:DAYLIGHT
DTSTART:20260329T030000
RDATE:20261025T020000
TZOFFSETFROM:+0100
TZOFFSETTO:+0200
TZNAME:Europe/Brussels CEST
END:DAYLIGHT
BEGIN:DAYLIGHT
DTSTART:20270328T030000
RDATE:20271031T020000
TZOFFSETFROM:+0100
TZOFFSETTO:+0200
TZNAME:Europe/Brussels CEST
END:DAYLIGHT
BEGIN:DAYLIGHT
DTSTART:20280326T030000
RDATE:20281029T020000
TZOFFSETFROM:+0100
TZOFFSETTO:+0200
TZNAME:Europe/Brussels CEST
END:DAYLIGHT
BEGIN:DAYLIGHT
DTSTART:20290325T030000
RDATE:20291028T020000
TZOFFSETFROM:+0100
TZOFFSETTO:+0200
TZNAME:Europe/Brussels CEST
END:DAYLIGHT
BEGIN:DAYLIGHT
DTSTART:20300331T030000
RDATE:20301027T020000
TZOFFSETFROM:+0100
TZOFFSETTO:+0200
TZNAME:Europe/Brussels CEST
END:DAYLIGHT
BEGIN:DAYLIGHT
DTSTART:20310330T030000
RDATE:20311026T020000
TZOFFSETFROM:+0100
TZOFFSETTO:+0200
TZNAME:Europe/Brussels CEST
END:DAYLIGHT
BEGIN:DAYLIGHT
DTSTART:20320328T030000
RDATE:20321031T020000
TZOFFSETFROM:+0100
TZOFFSETTO:+0200
TZNAME:Europe/Brussels CEST
END:DAYLIGHT
BEGIN:DAYLIGHT
DTSTART:20330327T030000
RDATE:20331030T020000
TZOFFSETFROM:+0100
TZOFFSETTO:+0200
TZNAME:Europe/Brussels CEST
END:DAYLIGHT
BEGIN:DAYLIGHT
DTSTART:20340326T030000
RDATE:20341029T020000
TZOFFSETFROM:+0100
TZOFFSETTO:+0200
TZNAME:Europe/Brussels CEST
END:DAYLIGHT
BEGIN:DAYLIGHT
DTSTART:20350325T030000
RDATE:20351028T020000
TZOFFSETFROM:+0100
TZOFFSETTO:+0200
TZNAME:Europe/Brussels CEST
END:DAYLIGHT
BEGIN:DAYLIGHT
DTSTART:20360330T030000
RDATE:20361026T020000
TZOFFSETFROM:+0100
TZOFFSETTO:+0200
TZNAME:Europe/Brussels CEST
END:DAYLIGHT
BEGIN:DAYLIGHT
DTSTART:20370329T030000
RDATE:20371025T020000
TZOFFSETFROM:+0100
TZOFFSETTO:+0200
TZNAME:Europe/Brussels CEST
END:DAYLIGHT
END:VTIMEZONE
BEGIN:VEVENT
UID:fae1c0336beac0b3701e2455db708e43
CATEGORIES:Formations
CREATED:20211024T212605
SUMMARY:Définir, développer et évaluer des projets dans mon association (J4)
DESCRIPTION:<div class="page-header"><h2 itemprop="name">Définir, développer et évaluer
  des projets dans mon association<a itemprop="url" href="index.php?option=c
 om_content&amp;view=article&amp;id=398:definir-developper-et-evaluer-des-pr
 ojets-dans-mon-association&amp;catid=28&amp;Itemid=148"> </a></h2></div><p>
 <strong><strong><strong>Les 29 &amp; 30 novembre, 1<sup>er</sup> &amp; 14 d
 écembre 2021- de 9h à 17h,&nbsp;à l’Espace Belvaux rue Belvaux 189 – 4030 G
 rivegnée</strong></strong></strong></p><p>La formation vise à outiller les 
 associations dans la définition, le développement et l’évaluation de projet
 s porteurs du sens du bien commun et de l’intérêt général. &nbsp;</p><p><st
 rong>Objectifs</strong></p><ul><li>Appréhender les différentes étapes de la
  conduite d’un projet ;</li><li>Etablir le plan d’action et le budget.</li>
 <li>Evaluer</li><li>Penser ses pratiques et faire le point sur les actions 
 en cours ou déjà réalisées ;</li></ul><p><strong>Contenus</strong></p><p>Le
  contenu reprend les différentes étapes du projet et son cheminement partan
 t de la construction jusqu’à l’évaluation :</p><ul><li>Clarifier son idée ;
 </li><li>Dresser un état des lieux ;</li><li>Définir ses objectifs à court,
  moyen et long terme ;</li><li>Bâtir le plan d’action ;</li><li>Elaborer le
  budget prévisionnel ;</li><li>Rechercher des partenaires ;</li><li>Détermi
 ner les indicateurs et les critères pour évaluer les résultats obtenus pend
 ant et après l’action.</li></ul><p><strong>Méthodologie</strong></p><p>La f
 ormation se développe sur les projets amenés par les participants, elle alt
 erne des temps d’apports théoriques et des travaux pratiques.</p><p><strong
 >Public</strong></p><p>Animateurs, formateurs, chargés de projet, responsab
 les des secteurs associatifs et des secteurs non marchands publics ou privé
 .</p><p><strong>Prix</strong></p><p>80€&nbsp;pour les 4 journées de formati
 on remboursable par le Fond 4S pour les travailleurs relevant des CP 329.02
  et 329.03</p><h4><a href="index.php?option=com_rsform&amp;view=rsform&amp;
 formId=1&amp;Itemid=158" target="_self">Inscriptions</a></h4>
X-ALT-DESC;FMTTYPE=text/html:<div class="page-header"><h2 itemprop="name">Définir, développer et évaluer
  des projets dans mon association<a itemprop="url" href="https://peuple-et-
 culture-wb.be/index.php?option=com_content&amp;view=article&amp;id=398:defi
 nir-developper-et-evaluer-des-projets-dans-mon-association&amp;catid=28&amp
 ;Itemid=148"> </a></h2></div><p><strong><strong><strong>Les 29 &amp; 30 nov
 embre, 1<sup>er</sup> &amp; 14 décembre 2021- de 9h à 17h,&nbsp;à l’Espace 
 Belvaux rue Belvaux 189 – 4030 Grivegnée</strong></strong></strong></p><p>L
 a formation vise à outiller les associations dans la définition, le dévelop
 pement et l’évaluation de projets porteurs du sens du bien commun et de l’i
 ntérêt général. &nbsp;</p><p><strong>Objectifs</strong></p><ul><li>Appréhen
 der les différentes étapes de la conduite d’un projet ;</li><li>Etablir le 
 plan d’action et le budget.</li><li>Evaluer</li><li>Penser ses pratiques et
  faire le point sur les actions en cours ou déjà réalisées ;</li></ul><p><s
 trong>Contenus</strong></p><p>Le contenu reprend les différentes étapes du 
 projet et son cheminement partant de la construction jusqu’à l’évaluation :
 </p><ul><li>Clarifier son idée ;</li><li>Dresser un état des lieux ;</li><l
 i>Définir ses objectifs à court, moyen et long terme ;</li><li>Bâtir le pla
 n d’action ;</li><li>Elaborer le budget prévisionnel ;</li><li>Rechercher d
 es partenaires ;</li><li>Déterminer les indicateurs et les critères pour év
 aluer les résultats obtenus pendant et après l’action.</li></ul><p><strong>
 Méthodologie</strong></p><p>La formation se développe sur les projets amené
 s par les participants, elle alterne des temps d’apports théoriques et des 
 travaux pratiques.</p><p><strong>Public</strong></p><p>Animateurs, formateu
 rs, chargés de projet, responsables des secteurs associatifs et des secteur
 s non marchands publics ou privé.</p><p><strong>Prix</strong></p><p>80€&nbs
 p;pour les 4 journées de formation remboursable par le Fond 4S pour les tra
 vailleurs relevant des CP 329.02 et 329.03</p><h4><a href="https://peuple-e
 t-culture-wb.be/index.php?option=com_rsform&amp;view=rsform&amp;formId=1&am
 p;Itemid=158" target="_self">Inscriptions</a></h4>
DTSTAMP:20260420T220308
DTSTART;TZID=Europe/Brussels:20211214T090000
DTEND;TZID=Europe/Brussels:20211214T170000
SEQUENCE:0
TRANSP:OPAQUE
END:VEVENT
END:VCALENDAR