BEGIN:VCALENDAR
VERSION:2.0
PRODID:-//jEvents 2.0 for Joomla//EN
CALSCALE:GREGORIAN
METHOD:PUBLISH
BEGIN:VTIMEZONE
TZID:Europe/Brussels
BEGIN:STANDARD
DTSTART:20201103T140000
RDATE:20210328T030000
TZOFFSETFROM:+0200
TZOFFSETTO:+0100
TZNAME:Europe/Brussels CET
END:STANDARD
BEGIN:STANDARD
DTSTART:20211031T020000
RDATE:20220327T030000
TZOFFSETFROM:+0200
TZOFFSETTO:+0100
TZNAME:Europe/Brussels CET
END:STANDARD
BEGIN:STANDARD
DTSTART:20221030T020000
RDATE:20230326T030000
TZOFFSETFROM:+0200
TZOFFSETTO:+0100
TZNAME:Europe/Brussels CET
END:STANDARD
BEGIN:STANDARD
DTSTART:20231029T020000
RDATE:20240331T030000
TZOFFSETFROM:+0200
TZOFFSETTO:+0100
TZNAME:Europe/Brussels CET
END:STANDARD
BEGIN:STANDARD
DTSTART:20241027T020000
RDATE:20250330T030000
TZOFFSETFROM:+0200
TZOFFSETTO:+0100
TZNAME:Europe/Brussels CET
END:STANDARD
BEGIN:STANDARD
DTSTART:20251026T020000
RDATE:20260329T030000
TZOFFSETFROM:+0200
TZOFFSETTO:+0100
TZNAME:Europe/Brussels CET
END:STANDARD
BEGIN:STANDARD
DTSTART:20261025T020000
RDATE:20270328T030000
TZOFFSETFROM:+0200
TZOFFSETTO:+0100
TZNAME:Europe/Brussels CET
END:STANDARD
BEGIN:STANDARD
DTSTART:20271031T020000
RDATE:20280326T030000
TZOFFSETFROM:+0200
TZOFFSETTO:+0100
TZNAME:Europe/Brussels CET
END:STANDARD
BEGIN:STANDARD
DTSTART:20281029T020000
RDATE:20290325T030000
TZOFFSETFROM:+0200
TZOFFSETTO:+0100
TZNAME:Europe/Brussels CET
END:STANDARD
BEGIN:STANDARD
DTSTART:20291028T020000
RDATE:20300331T030000
TZOFFSETFROM:+0200
TZOFFSETTO:+0100
TZNAME:Europe/Brussels CET
END:STANDARD
BEGIN:STANDARD
DTSTART:20301027T020000
RDATE:20310330T030000
TZOFFSETFROM:+0200
TZOFFSETTO:+0100
TZNAME:Europe/Brussels CET
END:STANDARD
BEGIN:STANDARD
DTSTART:20311026T020000
RDATE:20320328T030000
TZOFFSETFROM:+0200
TZOFFSETTO:+0100
TZNAME:Europe/Brussels CET
END:STANDARD
BEGIN:STANDARD
DTSTART:20321031T020000
RDATE:20330327T030000
TZOFFSETFROM:+0200
TZOFFSETTO:+0100
TZNAME:Europe/Brussels CET
END:STANDARD
BEGIN:STANDARD
DTSTART:20331030T020000
RDATE:20340326T030000
TZOFFSETFROM:+0200
TZOFFSETTO:+0100
TZNAME:Europe/Brussels CET
END:STANDARD
BEGIN:STANDARD
DTSTART:20341029T020000
RDATE:20350325T030000
TZOFFSETFROM:+0200
TZOFFSETTO:+0100
TZNAME:Europe/Brussels CET
END:STANDARD
BEGIN:STANDARD
DTSTART:20351028T020000
RDATE:20360330T030000
TZOFFSETFROM:+0200
TZOFFSETTO:+0100
TZNAME:Europe/Brussels CET
END:STANDARD
BEGIN:STANDARD
DTSTART:20361026T020000
RDATE:20370329T030000
TZOFFSETFROM:+0200
TZOFFSETTO:+0100
TZNAME:Europe/Brussels CET
END:STANDARD
BEGIN:STANDARD
DTSTART:20371025T020000
TZOFFSETFROM:+0200
TZOFFSETTO:+0100
TZNAME:Europe/Brussels CET
END:STANDARD
BEGIN:DAYLIGHT
DTSTART:20210328T030000
RDATE:20211031T020000
TZOFFSETFROM:+0100
TZOFFSETTO:+0200
TZNAME:Europe/Brussels CEST
END:DAYLIGHT
BEGIN:DAYLIGHT
DTSTART:20220327T030000
RDATE:20221030T020000
TZOFFSETFROM:+0100
TZOFFSETTO:+0200
TZNAME:Europe/Brussels CEST
END:DAYLIGHT
BEGIN:DAYLIGHT
DTSTART:20230326T030000
RDATE:20231029T020000
TZOFFSETFROM:+0100
TZOFFSETTO:+0200
TZNAME:Europe/Brussels CEST
END:DAYLIGHT
BEGIN:DAYLIGHT
DTSTART:20240331T030000
RDATE:20241027T020000
TZOFFSETFROM:+0100
TZOFFSETTO:+0200
TZNAME:Europe/Brussels CEST
END:DAYLIGHT
BEGIN:DAYLIGHT
DTSTART:20250330T030000
RDATE:20251026T020000
TZOFFSETFROM:+0100
TZOFFSETTO:+0200
TZNAME:Europe/Brussels CEST
END:DAYLIGHT
BEGIN:DAYLIGHT
DTSTART:20260329T030000
RDATE:20261025T020000
TZOFFSETFROM:+0100
TZOFFSETTO:+0200
TZNAME:Europe/Brussels CEST
END:DAYLIGHT
BEGIN:DAYLIGHT
DTSTART:20270328T030000
RDATE:20271031T020000
TZOFFSETFROM:+0100
TZOFFSETTO:+0200
TZNAME:Europe/Brussels CEST
END:DAYLIGHT
BEGIN:DAYLIGHT
DTSTART:20280326T030000
RDATE:20281029T020000
TZOFFSETFROM:+0100
TZOFFSETTO:+0200
TZNAME:Europe/Brussels CEST
END:DAYLIGHT
BEGIN:DAYLIGHT
DTSTART:20290325T030000
RDATE:20291028T020000
TZOFFSETFROM:+0100
TZOFFSETTO:+0200
TZNAME:Europe/Brussels CEST
END:DAYLIGHT
BEGIN:DAYLIGHT
DTSTART:20300331T030000
RDATE:20301027T020000
TZOFFSETFROM:+0100
TZOFFSETTO:+0200
TZNAME:Europe/Brussels CEST
END:DAYLIGHT
BEGIN:DAYLIGHT
DTSTART:20310330T030000
RDATE:20311026T020000
TZOFFSETFROM:+0100
TZOFFSETTO:+0200
TZNAME:Europe/Brussels CEST
END:DAYLIGHT
BEGIN:DAYLIGHT
DTSTART:20320328T030000
RDATE:20321031T020000
TZOFFSETFROM:+0100
TZOFFSETTO:+0200
TZNAME:Europe/Brussels CEST
END:DAYLIGHT
BEGIN:DAYLIGHT
DTSTART:20330327T030000
RDATE:20331030T020000
TZOFFSETFROM:+0100
TZOFFSETTO:+0200
TZNAME:Europe/Brussels CEST
END:DAYLIGHT
BEGIN:DAYLIGHT
DTSTART:20340326T030000
RDATE:20341029T020000
TZOFFSETFROM:+0100
TZOFFSETTO:+0200
TZNAME:Europe/Brussels CEST
END:DAYLIGHT
BEGIN:DAYLIGHT
DTSTART:20350325T030000
RDATE:20351028T020000
TZOFFSETFROM:+0100
TZOFFSETTO:+0200
TZNAME:Europe/Brussels CEST
END:DAYLIGHT
BEGIN:DAYLIGHT
DTSTART:20360330T030000
RDATE:20361026T020000
TZOFFSETFROM:+0100
TZOFFSETTO:+0200
TZNAME:Europe/Brussels CEST
END:DAYLIGHT
BEGIN:DAYLIGHT
DTSTART:20370329T030000
RDATE:20371025T020000
TZOFFSETFROM:+0100
TZOFFSETTO:+0200
TZNAME:Europe/Brussels CEST
END:DAYLIGHT
END:VTIMEZONE
BEGIN:VEVENT
UID:213eb139bb0a278a2023c901df3f0f52
CATEGORIES:Université populaire
CREATED:20211029T112004
SUMMARY:Rencontre avec le collectif Matsuda
LOCATION:Cafétariat collective Kali rue Saint-Thomas\, 32 - 4000 Liège
DESCRIPTION:Rencontre avec le collectif Matsuda. \n\n - 14h à 17 h - Atelier Imaginatio
 n-Réflexion \n - 18h30 – 20h30 – Présentation du livre &amp; Discussion ave
 c les auteur.e.s\n - 20h30 - Cantine à prix libreCafétéria Collective KALI 
 (rue saint-thomas Liège) \nQuel rapport avons-nous avec la police dans notr
 e vie quotidienne ?\nPasser par l’imagination et la réflexion est une façon
  de se mettre en situation et de rendre concrètes les propositions abolitio
 nnistes. L’idée est de partir des expériences de chacun⋅es pour voir commen
 t on y répond et quelles sont les ressources mobilisables. Le but est d’amé
 liorer notre compréhension des situations qui posent problèmes et d’être pl
 us fort⋅e⋅s pour y faire face si elles arrivent.\n \n \n \n
X-ALT-DESC;FMTTYPE=text/html:<p><span style="color: #d23c3f;"><span style="font-family: Arial, sans-seri
 f;"><span style="font-family: arial black, sans-serif;"><span style="color:
  #000000;">R</span></span><span style="font-family: arial black, sans-serif
 ; color: #000000;">encontre avec le collectif Matsuda. </span></span></span
 ></p><ul><li><span style="color: #000000;"><span style="font-family: Arial,
  sans-serif;"><span style="font-family: arial black, sans-serif;">14h à 17 
 h - </span><span style="font-family: arial black, sans-serif;">Atelier Imag
 ination-Réflexion</span></span><strong>&nbsp;</strong></span></li><li><span
  style="font-family: Arial, sans-serif;"><span style="font-family: arial bl
 ack, sans-serif;">18h30</span><span style="font-family: arial black, sans-s
 erif;"> – </span><span style="font-family: arial black, sans-serif;">20h30 
 – </span><span style="font-family: arial black, sans-serif;">Présentation d
 u livre &amp; </span><span style="font-family: arial black, sans-serif;">D<
 /span><span style="font-family: arial black, sans-serif;">iscussion avec le
 s auteur.e.s</span></span></li><li><span style="font-family: Arial, sans-se
 rif;"><span style="font-family: arial black, sans-serif;">20h30 - </span><s
 pan style="font-family: arial black, sans-serif;">Cantine à prix libre</spa
 n></span></li></ul><p><span style="font-family: Arial, sans-serif;"><span s
 tyle="font-family: arial black, sans-serif;">Cafétéria </span><span style="
 font-family: arial black, sans-serif;">C</span><span style="font-family: ar
 ial black, sans-serif;">ollective</span><span style="font-family: arial bla
 ck, sans-serif;"> KALI (rue saint-thomas Liège) </span></span></p><p><stron
 g><span style="font-family: Arial, sans-serif;">Quel rapport avons-nous ave
 c la police dans notre vie quotidienne&nbsp;?</span></strong></p><p><span s
 tyle="font-family: Arial, sans-serif;">Passer par l’imagination et la réfle
 xion est une façon de se mettre en situation et de rendre concrètes les pro
 positions abolitionnistes. L’idée est de partir des expériences de chacun⋅e
 s pour voir comment on y répond et quelles sont les ressources mobilisables
 . Le but est d’améliorer notre compréhension des situations qui posent prob
 lèmes et d’être plus fort⋅e<span style="font-family: Arial, sans-serif;">⋅<
 /span>s pour y faire face si elles arrivent.</span></p><p>&nbsp;</p><p>&nbs
 p;</p><p>&nbsp;</p>
CONTACT:Places limitées – inscriptions obligatoires : Cette adresse e-mail est protégée contre les robots spammeurs. Vous devez activer le JavaScript pour la visualiser. - ou par sms au 0486/833.835
DTSTAMP:20260420T231234
DTSTART;TZID=Europe/Brussels:20211104T140000
DTEND;TZID=Europe/Brussels:20211104T220000
SEQUENCE:0
TRANSP:OPAQUE
END:VEVENT
END:VCALENDAR