BEGIN:VCALENDAR
VERSION:2.0
PRODID:-//jEvents 2.0 for Joomla//EN
CALSCALE:GREGORIAN
METHOD:PUBLISH
BEGIN:VTIMEZONE
TZID:Europe/Brussels
BEGIN:STANDARD
DTSTART:20201109T094500
RDATE:20210328T030000
TZOFFSETFROM:+0200
TZOFFSETTO:+0100
TZNAME:Europe/Brussels CET
END:STANDARD
BEGIN:STANDARD
DTSTART:20211031T020000
RDATE:20220327T030000
TZOFFSETFROM:+0200
TZOFFSETTO:+0100
TZNAME:Europe/Brussels CET
END:STANDARD
BEGIN:STANDARD
DTSTART:20221030T020000
RDATE:20230326T030000
TZOFFSETFROM:+0200
TZOFFSETTO:+0100
TZNAME:Europe/Brussels CET
END:STANDARD
BEGIN:STANDARD
DTSTART:20231029T020000
RDATE:20240331T030000
TZOFFSETFROM:+0200
TZOFFSETTO:+0100
TZNAME:Europe/Brussels CET
END:STANDARD
BEGIN:STANDARD
DTSTART:20241027T020000
RDATE:20250330T030000
TZOFFSETFROM:+0200
TZOFFSETTO:+0100
TZNAME:Europe/Brussels CET
END:STANDARD
BEGIN:STANDARD
DTSTART:20251026T020000
RDATE:20260329T030000
TZOFFSETFROM:+0200
TZOFFSETTO:+0100
TZNAME:Europe/Brussels CET
END:STANDARD
BEGIN:STANDARD
DTSTART:20261025T020000
RDATE:20270328T030000
TZOFFSETFROM:+0200
TZOFFSETTO:+0100
TZNAME:Europe/Brussels CET
END:STANDARD
BEGIN:STANDARD
DTSTART:20271031T020000
RDATE:20280326T030000
TZOFFSETFROM:+0200
TZOFFSETTO:+0100
TZNAME:Europe/Brussels CET
END:STANDARD
BEGIN:STANDARD
DTSTART:20281029T020000
RDATE:20290325T030000
TZOFFSETFROM:+0200
TZOFFSETTO:+0100
TZNAME:Europe/Brussels CET
END:STANDARD
BEGIN:STANDARD
DTSTART:20291028T020000
RDATE:20300331T030000
TZOFFSETFROM:+0200
TZOFFSETTO:+0100
TZNAME:Europe/Brussels CET
END:STANDARD
BEGIN:STANDARD
DTSTART:20301027T020000
RDATE:20310330T030000
TZOFFSETFROM:+0200
TZOFFSETTO:+0100
TZNAME:Europe/Brussels CET
END:STANDARD
BEGIN:STANDARD
DTSTART:20311026T020000
RDATE:20320328T030000
TZOFFSETFROM:+0200
TZOFFSETTO:+0100
TZNAME:Europe/Brussels CET
END:STANDARD
BEGIN:STANDARD
DTSTART:20321031T020000
RDATE:20330327T030000
TZOFFSETFROM:+0200
TZOFFSETTO:+0100
TZNAME:Europe/Brussels CET
END:STANDARD
BEGIN:STANDARD
DTSTART:20331030T020000
RDATE:20340326T030000
TZOFFSETFROM:+0200
TZOFFSETTO:+0100
TZNAME:Europe/Brussels CET
END:STANDARD
BEGIN:STANDARD
DTSTART:20341029T020000
RDATE:20350325T030000
TZOFFSETFROM:+0200
TZOFFSETTO:+0100
TZNAME:Europe/Brussels CET
END:STANDARD
BEGIN:STANDARD
DTSTART:20351028T020000
RDATE:20360330T030000
TZOFFSETFROM:+0200
TZOFFSETTO:+0100
TZNAME:Europe/Brussels CET
END:STANDARD
BEGIN:STANDARD
DTSTART:20361026T020000
RDATE:20370329T030000
TZOFFSETFROM:+0200
TZOFFSETTO:+0100
TZNAME:Europe/Brussels CET
END:STANDARD
BEGIN:STANDARD
DTSTART:20371025T020000
TZOFFSETFROM:+0200
TZOFFSETTO:+0100
TZNAME:Europe/Brussels CET
END:STANDARD
BEGIN:DAYLIGHT
DTSTART:20210328T030000
RDATE:20211031T020000
TZOFFSETFROM:+0100
TZOFFSETTO:+0200
TZNAME:Europe/Brussels CEST
END:DAYLIGHT
BEGIN:DAYLIGHT
DTSTART:20220327T030000
RDATE:20221030T020000
TZOFFSETFROM:+0100
TZOFFSETTO:+0200
TZNAME:Europe/Brussels CEST
END:DAYLIGHT
BEGIN:DAYLIGHT
DTSTART:20230326T030000
RDATE:20231029T020000
TZOFFSETFROM:+0100
TZOFFSETTO:+0200
TZNAME:Europe/Brussels CEST
END:DAYLIGHT
BEGIN:DAYLIGHT
DTSTART:20240331T030000
RDATE:20241027T020000
TZOFFSETFROM:+0100
TZOFFSETTO:+0200
TZNAME:Europe/Brussels CEST
END:DAYLIGHT
BEGIN:DAYLIGHT
DTSTART:20250330T030000
RDATE:20251026T020000
TZOFFSETFROM:+0100
TZOFFSETTO:+0200
TZNAME:Europe/Brussels CEST
END:DAYLIGHT
BEGIN:DAYLIGHT
DTSTART:20260329T030000
RDATE:20261025T020000
TZOFFSETFROM:+0100
TZOFFSETTO:+0200
TZNAME:Europe/Brussels CEST
END:DAYLIGHT
BEGIN:DAYLIGHT
DTSTART:20270328T030000
RDATE:20271031T020000
TZOFFSETFROM:+0100
TZOFFSETTO:+0200
TZNAME:Europe/Brussels CEST
END:DAYLIGHT
BEGIN:DAYLIGHT
DTSTART:20280326T030000
RDATE:20281029T020000
TZOFFSETFROM:+0100
TZOFFSETTO:+0200
TZNAME:Europe/Brussels CEST
END:DAYLIGHT
BEGIN:DAYLIGHT
DTSTART:20290325T030000
RDATE:20291028T020000
TZOFFSETFROM:+0100
TZOFFSETTO:+0200
TZNAME:Europe/Brussels CEST
END:DAYLIGHT
BEGIN:DAYLIGHT
DTSTART:20300331T030000
RDATE:20301027T020000
TZOFFSETFROM:+0100
TZOFFSETTO:+0200
TZNAME:Europe/Brussels CEST
END:DAYLIGHT
BEGIN:DAYLIGHT
DTSTART:20310330T030000
RDATE:20311026T020000
TZOFFSETFROM:+0100
TZOFFSETTO:+0200
TZNAME:Europe/Brussels CEST
END:DAYLIGHT
BEGIN:DAYLIGHT
DTSTART:20320328T030000
RDATE:20321031T020000
TZOFFSETFROM:+0100
TZOFFSETTO:+0200
TZNAME:Europe/Brussels CEST
END:DAYLIGHT
BEGIN:DAYLIGHT
DTSTART:20330327T030000
RDATE:20331030T020000
TZOFFSETFROM:+0100
TZOFFSETTO:+0200
TZNAME:Europe/Brussels CEST
END:DAYLIGHT
BEGIN:DAYLIGHT
DTSTART:20340326T030000
RDATE:20341029T020000
TZOFFSETFROM:+0100
TZOFFSETTO:+0200
TZNAME:Europe/Brussels CEST
END:DAYLIGHT
BEGIN:DAYLIGHT
DTSTART:20350325T030000
RDATE:20351028T020000
TZOFFSETFROM:+0100
TZOFFSETTO:+0200
TZNAME:Europe/Brussels CEST
END:DAYLIGHT
BEGIN:DAYLIGHT
DTSTART:20360330T030000
RDATE:20361026T020000
TZOFFSETFROM:+0100
TZOFFSETTO:+0200
TZNAME:Europe/Brussels CEST
END:DAYLIGHT
BEGIN:DAYLIGHT
DTSTART:20370329T030000
RDATE:20371025T020000
TZOFFSETFROM:+0100
TZOFFSETTO:+0200
TZNAME:Europe/Brussels CEST
END:DAYLIGHT
END:VTIMEZONE
BEGIN:VEVENT
UID:3259f3786998053680fac821079ab1f3
CATEGORIES:Formations
CREATED:20211103T102108
SUMMARY:Préjugé quand tu ne me tiens plus - Changeons de regard sur l'"autre" (J1)
LOCATION:Maison des Sports\, Liège
DESCRIPTION:10, 17 et 31 mars de 09h45 à 16h @ Maison des Sports, rue des Prémontrés 12
 , 4000 Liège\n\nLa formation, organisée en partenariat avec le CRIPEL, perm
 et d’acquérir des connaissances et des compétences à même de faire évoluer 
 les mentalités par le questionnement des stéréotypes, le travail de l’altér
 ité, l’analyse de situations problématiques de racisme et la rechercher de 
 solutions.\nObjectifs  \n\n - Faire évoluer des représentations et stéréoty
 pes ;\n - Amener un changement des mentalités par la découverte d’altérité,
  par l’acquisition d’un respect à l’égard de cultures différentes.\n - Anal
 yse de situations problématiques de racisme ;\n - Recherche de solutions pa
 r la co-construction réflexive en commun.Contenu \n\n - Diverses activités 
 de prise de conscience de nos préjugés et stéréotypes ;\n - Signification, 
 illustration par des exemples de la vie au quotidien dans tous les domaines
  ;\n - Techniques d’animation pour travailler sur les préjugés et stéréotyp
 es : vision de court métrage, mise en situation par jeux de rôles (« Je me 
 positionne »), par le cercle concentrique ;\n - Clés pour les décoder et le
 s déconstruire.\n - Propositions communes et pistes de solutions pour mieux
  gérer les situations de racisme et d’intoléranceMéthodologie \nL’animation
  est avant tout centrée sur la parole des participants, leur responsabilisa
 tion, leur implication et la mise en valeur de leurs ressources. Elle vise 
 à construire avec eux, une collaboration dynamique, opérationnelle et produ
 ctive dans des échanges volontaires respectueux de chacun.\nLa 3ème journée
  est consacrée aux échanges d’expériences sur base de situations concrètes 
 professionnelles conflictuelles apportées par les participants ; situations
  concrètes de problèmes de racisme, d’intolérance, de rejet identitaire. \n
 Public \n Travailleur.euse.s salarié.e.s ou bénévoles des secteurs associat
 if ou non marchand public et privé travaillant avec des groupes d’adultes o
 u de jeunes que ce soit en animation, en formation, ou en classe.\nInterven
 ant : Foued Bellali, animateur à l’asbl 2Bouts, formateur spécialisé en ges
 tion de la diversité, racisme et interculturalité.\nPrix : 90€\n
X-ALT-DESC;FMTTYPE=text/html:<p><strong>10, 17 et 31 mars de 09h45 à 16h @ Maison&nbsp;des Sports, rue d
 es Prémontrés 12, 4000 Liège<br /></strong></p><p>La formation, organisée e
 n partenariat avec le CRIPEL, permet d’acquérir des connaissances et des co
 mpétences à même de faire évoluer les mentalités par le questionnement des 
 stéréotypes, le travail de l’altérité, l’analyse de situations problématiqu
 es de racisme et la rechercher de solutions.</p><p><strong>Objectifs </stro
 ng>&nbsp;</p><ul><li>Faire évoluer des représentations et stéréotypes&nbsp;
 ;</li><li>Amener un changement des mentalités par la découverte d’altérité,
  par l’acquisition d’un respect à l’égard de cultures différentes.</li><li>
 Analyse de situations problématiques de racisme&nbsp;;</li><li>Recherche de
  solutions par la co-construction réflexive en commun.</li></ul><p><strong>
 Contenu&nbsp;</strong></p><ul><li>Diverses activités de prise de conscience
  de nos préjugés et stéréotypes&nbsp;;</li><li>Signification, illustration 
 par des exemples de la vie au quotidien dans tous les domaines&nbsp;;</li><
 li>Techniques d’animation pour travailler sur les préjugés et stéréotypes&n
 bsp;: vision de court métrage, mise en situation par jeux de rôles («&nbsp;
 Je me positionne&nbsp;»), par le cercle concentrique&nbsp;;</li><li>Clés po
 ur les décoder et les déconstruire.</li><li>Propositions communes et pistes
  de solutions pour mieux gérer les situations de racisme et d’intolérance</
 li></ul><p><strong>Méthodologie&nbsp;</strong></p><p>L’animation est avant 
 tout centrée sur la parole des participants, leur responsabilisation, leur 
 implication et la mise en valeur de leurs ressources. Elle vise à construir
 e avec eux, une collaboration dynamique, opérationnelle et productive dans 
 des échanges volontaires respectueux de chacun.</p><p>La 3<sup>ème</sup> jo
 urnée est consacrée aux échanges d’expériences sur base de situations concr
 ètes professionnelles conflictuelles apportées par les participants&nbsp;; 
 situations concrètes de problèmes de racisme, d’intolérance, de rejet ident
 itaire.&nbsp;</p><p><strong>Public&nbsp;<br /> </strong>Travailleur.euse.s 
 salarié.e.s ou bénévoles des secteurs associatif ou non marchand public et 
 privé travaillant avec des groupes d’adultes ou de jeunes que ce soit en an
 imation, en formation, ou en classe.</p><p><strong>Intervenant&nbsp;: </str
 ong>Foued Bellali, animateur à l’asbl 2Bouts, formateur spécialisé en gesti
 on de la diversité, racisme et interculturalité.</p><p><strong>Prix</strong
 >&nbsp;: 90€</p>
CONTACT:Cette adresse e-mail est protégée contre les robots spammeurs. Vous devez activer le JavaScript pour la visualiser.
DTSTAMP:20260420T232133
DTSTART;TZID=Europe/Brussels:20211110T094500
DTEND;TZID=Europe/Brussels:20211110T160000
SEQUENCE:0
TRANSP:OPAQUE
END:VEVENT
END:VCALENDAR