BEGIN:VCALENDAR
VERSION:2.0
PRODID:-//jEvents 2.0 for Joomla//EN
CALSCALE:GREGORIAN
METHOD:PUBLISH
BEGIN:VTIMEZONE
TZID:Europe/Brussels
BEGIN:STANDARD
DTSTART:20211031T020000
RDATE:20220327T030000
TZOFFSETFROM:+0200
TZOFFSETTO:+0100
TZNAME:Europe/Brussels CET
END:STANDARD
BEGIN:STANDARD
DTSTART:20221030T020000
RDATE:20230326T030000
TZOFFSETFROM:+0200
TZOFFSETTO:+0100
TZNAME:Europe/Brussels CET
END:STANDARD
BEGIN:STANDARD
DTSTART:20231029T020000
RDATE:20240331T030000
TZOFFSETFROM:+0200
TZOFFSETTO:+0100
TZNAME:Europe/Brussels CET
END:STANDARD
BEGIN:STANDARD
DTSTART:20241027T020000
RDATE:20250330T030000
TZOFFSETFROM:+0200
TZOFFSETTO:+0100
TZNAME:Europe/Brussels CET
END:STANDARD
BEGIN:STANDARD
DTSTART:20251026T020000
RDATE:20260329T030000
TZOFFSETFROM:+0200
TZOFFSETTO:+0100
TZNAME:Europe/Brussels CET
END:STANDARD
BEGIN:STANDARD
DTSTART:20261025T020000
RDATE:20270328T030000
TZOFFSETFROM:+0200
TZOFFSETTO:+0100
TZNAME:Europe/Brussels CET
END:STANDARD
BEGIN:STANDARD
DTSTART:20271031T020000
RDATE:20280326T030000
TZOFFSETFROM:+0200
TZOFFSETTO:+0100
TZNAME:Europe/Brussels CET
END:STANDARD
BEGIN:STANDARD
DTSTART:20281029T020000
RDATE:20290325T030000
TZOFFSETFROM:+0200
TZOFFSETTO:+0100
TZNAME:Europe/Brussels CET
END:STANDARD
BEGIN:STANDARD
DTSTART:20291028T020000
RDATE:20300331T030000
TZOFFSETFROM:+0200
TZOFFSETTO:+0100
TZNAME:Europe/Brussels CET
END:STANDARD
BEGIN:STANDARD
DTSTART:20301027T020000
RDATE:20310330T030000
TZOFFSETFROM:+0200
TZOFFSETTO:+0100
TZNAME:Europe/Brussels CET
END:STANDARD
BEGIN:STANDARD
DTSTART:20311026T020000
RDATE:20320328T030000
TZOFFSETFROM:+0200
TZOFFSETTO:+0100
TZNAME:Europe/Brussels CET
END:STANDARD
BEGIN:STANDARD
DTSTART:20321031T020000
RDATE:20330327T030000
TZOFFSETFROM:+0200
TZOFFSETTO:+0100
TZNAME:Europe/Brussels CET
END:STANDARD
BEGIN:STANDARD
DTSTART:20331030T020000
RDATE:20340326T030000
TZOFFSETFROM:+0200
TZOFFSETTO:+0100
TZNAME:Europe/Brussels CET
END:STANDARD
BEGIN:STANDARD
DTSTART:20341029T020000
RDATE:20350325T030000
TZOFFSETFROM:+0200
TZOFFSETTO:+0100
TZNAME:Europe/Brussels CET
END:STANDARD
BEGIN:STANDARD
DTSTART:20351028T020000
RDATE:20360330T030000
TZOFFSETFROM:+0200
TZOFFSETTO:+0100
TZNAME:Europe/Brussels CET
END:STANDARD
BEGIN:STANDARD
DTSTART:20361026T020000
RDATE:20370329T030000
TZOFFSETFROM:+0200
TZOFFSETTO:+0100
TZNAME:Europe/Brussels CET
END:STANDARD
BEGIN:STANDARD
DTSTART:20371025T020000
TZOFFSETFROM:+0200
TZOFFSETTO:+0100
TZNAME:Europe/Brussels CET
END:STANDARD
BEGIN:DAYLIGHT
DTSTART:20211004T090000
RDATE:20211031T020000
TZOFFSETFROM:+0100
TZOFFSETTO:+0200
TZNAME:Europe/Brussels CEST
END:DAYLIGHT
BEGIN:DAYLIGHT
DTSTART:20220327T030000
RDATE:20221030T020000
TZOFFSETFROM:+0100
TZOFFSETTO:+0200
TZNAME:Europe/Brussels CEST
END:DAYLIGHT
BEGIN:DAYLIGHT
DTSTART:20230326T030000
RDATE:20231029T020000
TZOFFSETFROM:+0100
TZOFFSETTO:+0200
TZNAME:Europe/Brussels CEST
END:DAYLIGHT
BEGIN:DAYLIGHT
DTSTART:20240331T030000
RDATE:20241027T020000
TZOFFSETFROM:+0100
TZOFFSETTO:+0200
TZNAME:Europe/Brussels CEST
END:DAYLIGHT
BEGIN:DAYLIGHT
DTSTART:20250330T030000
RDATE:20251026T020000
TZOFFSETFROM:+0100
TZOFFSETTO:+0200
TZNAME:Europe/Brussels CEST
END:DAYLIGHT
BEGIN:DAYLIGHT
DTSTART:20260329T030000
RDATE:20261025T020000
TZOFFSETFROM:+0100
TZOFFSETTO:+0200
TZNAME:Europe/Brussels CEST
END:DAYLIGHT
BEGIN:DAYLIGHT
DTSTART:20270328T030000
RDATE:20271031T020000
TZOFFSETFROM:+0100
TZOFFSETTO:+0200
TZNAME:Europe/Brussels CEST
END:DAYLIGHT
BEGIN:DAYLIGHT
DTSTART:20280326T030000
RDATE:20281029T020000
TZOFFSETFROM:+0100
TZOFFSETTO:+0200
TZNAME:Europe/Brussels CEST
END:DAYLIGHT
BEGIN:DAYLIGHT
DTSTART:20290325T030000
RDATE:20291028T020000
TZOFFSETFROM:+0100
TZOFFSETTO:+0200
TZNAME:Europe/Brussels CEST
END:DAYLIGHT
BEGIN:DAYLIGHT
DTSTART:20300331T030000
RDATE:20301027T020000
TZOFFSETFROM:+0100
TZOFFSETTO:+0200
TZNAME:Europe/Brussels CEST
END:DAYLIGHT
BEGIN:DAYLIGHT
DTSTART:20310330T030000
RDATE:20311026T020000
TZOFFSETFROM:+0100
TZOFFSETTO:+0200
TZNAME:Europe/Brussels CEST
END:DAYLIGHT
BEGIN:DAYLIGHT
DTSTART:20320328T030000
RDATE:20321031T020000
TZOFFSETFROM:+0100
TZOFFSETTO:+0200
TZNAME:Europe/Brussels CEST
END:DAYLIGHT
BEGIN:DAYLIGHT
DTSTART:20330327T030000
RDATE:20331030T020000
TZOFFSETFROM:+0100
TZOFFSETTO:+0200
TZNAME:Europe/Brussels CEST
END:DAYLIGHT
BEGIN:DAYLIGHT
DTSTART:20340326T030000
RDATE:20341029T020000
TZOFFSETFROM:+0100
TZOFFSETTO:+0200
TZNAME:Europe/Brussels CEST
END:DAYLIGHT
BEGIN:DAYLIGHT
DTSTART:20350325T030000
RDATE:20351028T020000
TZOFFSETFROM:+0100
TZOFFSETTO:+0200
TZNAME:Europe/Brussels CEST
END:DAYLIGHT
BEGIN:DAYLIGHT
DTSTART:20360330T030000
RDATE:20361026T020000
TZOFFSETFROM:+0100
TZOFFSETTO:+0200
TZNAME:Europe/Brussels CEST
END:DAYLIGHT
BEGIN:DAYLIGHT
DTSTART:20370329T030000
RDATE:20371025T020000
TZOFFSETFROM:+0100
TZOFFSETTO:+0200
TZNAME:Europe/Brussels CEST
END:DAYLIGHT
END:VTIMEZONE
BEGIN:VEVENT
UID:76b47bfcdc3f7f32156cc5cf7d7aa416
CATEGORIES:Formations
CREATED:20211103T104148
SUMMARY:Education permanente - Préparer sa demande de reconnaissance : La demande de principe
LOCATION:Peuple et culture\, rue du Beau Mur 45\, 4030 Liège
DESCRIPTION:<p><strong>Les 5, 6 et 7 octobre 2022 de 9h à 17h</strong> <strong>@Peuple 
 et Culture, rue du Beau Mur 45, 4030 Liège (Grivegnée)</strong></p><p><span
  style="color: #d23c3f;"><strong>Objectifs</strong></span></p><p>La formati
 on vise à accompagner les associations qui désirent développer des projets 
 d’éducation permanente (décret de la FWB du 17 juillet 2003), c’est-à-dire 
 ayant pour objectif de favoriser et développer chez les adultes une prise d
 e conscience et une connaissance critique des réalités de la société; des c
 apacités d’analyse, de choix, d’action et d’évaluation ; des attitudes de r
 esponsabilité et de participation active à la vie sociale, économique, cult
 urelle et politique.</p><p><span style="color: #d23c3f;"><strong>Contenus</
 strong></span></p><ul><li>Appropriation des textes réglementaires ;</li><li
 >Réfléchir les activités et les projets des participants pour les inscrire 
 dans les critères quantitatifs et qualitatifs du champ de l’Éducation perma
 nente ;</li><li>Penser les processus et les méthodologies pour développer d
 es prises de conscience, la connaissance critique des réalités de la sociét
 é; des capacités d’analyse, de choix, d’action et d’évaluation; des attitud
 es de responsabilité et de participation active à la vie sociale, économiqu
 e, culturelle et politique ;</li><li>Questionner ses pratiques pour mesurer
  ses forces, ses faiblesses et évaluer ses besoins.</li></ul><p><span style
 ="color: #d23c3f;"><strong>Méthodologie</strong></span></p><p>La méthodolog
 ie est ascendante, elle s’appuie sur les activités et projets amenés par le
 s participants. L’appropriation du cadre légal s’effectue collectivement pa
 r la lecture, le questionnement et l’échange.</p><p><span style="color: #d2
 3c3f;"><strong>Public</strong></span></p><p>Les associations qui envisagent
  de demander une reconnaissance en éducation permanente.</p><p><span style=
 "color: #d23c3f;"><strong>Prix</strong></span></p><p>60€</p><p><strong><a h
 ref="index.php?option=com_rsform&amp;view=rsform&amp;formId=1&amp;Itemid=15
 8" target="_blank" rel="noopener">Inscriptions</a></strong></p><div class="
 itp-social-buttons-box"><div class="itp-sbb-bl">&nbsp;infos et réservations
  :nancy.hardy<span id="cloak6206aa40ee20ede89e7a1f1a62488760"><joomla-hidde
 n-mail  is-link="1" is-email="0" first="cGllcnJlLmFybm9sZHk=" last="cGV1cGx
 lLWV0LWN1bHR1cmUtd2IuYmU=" text="QHBldXBsZS1ldC1jdWx0dXJlLXdiLmJl" base="" 
 >Cette adresse e-mail est protégée contre les robots spammeurs. Vous devez 
 activer le JavaScript pour la visualiser.</joomla-hidden-mail></span></div>
 </div>
X-ALT-DESC;FMTTYPE=text/html:<p><strong>Les 5, 6 et 7 octobre 2022 de 9h à 17h</strong> <strong>@Peuple 
 et Culture, rue du Beau Mur 45, 4030 Liège (Grivegnée)</strong></p><p><span
  style="color: #d23c3f;"><strong>Objectifs</strong></span></p><p>La formati
 on vise à accompagner les associations qui désirent développer des projets 
 d’éducation permanente (décret de la FWB du 17 juillet 2003), c’est-à-dire 
 ayant pour objectif de favoriser et développer chez les adultes une prise d
 e conscience et une connaissance critique des réalités de la société; des c
 apacités d’analyse, de choix, d’action et d’évaluation ; des attitudes de r
 esponsabilité et de participation active à la vie sociale, économique, cult
 urelle et politique.</p><p><span style="color: #d23c3f;"><strong>Contenus</
 strong></span></p><ul><li>Appropriation des textes réglementaires ;</li><li
 >Réfléchir les activités et les projets des participants pour les inscrire 
 dans les critères quantitatifs et qualitatifs du champ de l’Éducation perma
 nente ;</li><li>Penser les processus et les méthodologies pour développer d
 es prises de conscience, la connaissance critique des réalités de la sociét
 é; des capacités d’analyse, de choix, d’action et d’évaluation; des attitud
 es de responsabilité et de participation active à la vie sociale, économiqu
 e, culturelle et politique ;</li><li>Questionner ses pratiques pour mesurer
  ses forces, ses faiblesses et évaluer ses besoins.</li></ul><p><span style
 ="color: #d23c3f;"><strong>Méthodologie</strong></span></p><p>La méthodolog
 ie est ascendante, elle s’appuie sur les activités et projets amenés par le
 s participants. L’appropriation du cadre légal s’effectue collectivement pa
 r la lecture, le questionnement et l’échange.</p><p><span style="color: #d2
 3c3f;"><strong>Public</strong></span></p><p>Les associations qui envisagent
  de demander une reconnaissance en éducation permanente.</p><p><span style=
 "color: #d23c3f;"><strong>Prix</strong></span></p><p>60€</p><p><strong><a h
 ref="https://peuple-et-culture-wb.be/index.php?option=com_rsform&amp;view=r
 sform&amp;formId=1&amp;Itemid=158" target="_blank" rel="noopener">Inscripti
 ons</a></strong></p><div class="itp-social-buttons-box"><div class="itp-sbb
 -bl">&nbsp;infos et réservations :nancy.hardy<span id="cloak6206aa40ee20ede
 89e7a1f1a62488760"><joomla-hidden-mail  is-link="1" is-email="0" first="cGl
 lcnJlLmFybm9sZHk=" last="cGV1cGxlLWV0LWN1bHR1cmUtd2IuYmU=" text="QHBldXBsZS
 1ldC1jdWx0dXJlLXdiLmJl" base="" >Cette adresse e-mail est protégée contre l
 es robots spammeurs. Vous devez activer le JavaScript pour la visualiser.</
 joomla-hidden-mail></span></div></div>
CONTACT:Cette adresse e-mail est protégée contre les robots spammeurs. Vous devez activer le JavaScript pour la visualiser.
DTSTAMP:20260420T101238
DTSTART;TZID=Europe/Brussels:20221005T090000
DTEND;TZID=Europe/Brussels:20221007T170000
SEQUENCE:0
TRANSP:OPAQUE
END:VEVENT
END:VCALENDAR