BEGIN:VCALENDAR
VERSION:2.0
PRODID:-//jEvents 2.0 for Joomla//EN
CALSCALE:GREGORIAN
METHOD:PUBLISH
BEGIN:VTIMEZONE
TZID:Europe/Brussels
BEGIN:STANDARD
DTSTART:20211031T020000
RDATE:20220327T030000
TZOFFSETFROM:+0200
TZOFFSETTO:+0100
TZNAME:Europe/Brussels CET
END:STANDARD
BEGIN:STANDARD
DTSTART:20221030T020000
RDATE:20230326T030000
TZOFFSETFROM:+0200
TZOFFSETTO:+0100
TZNAME:Europe/Brussels CET
END:STANDARD
BEGIN:STANDARD
DTSTART:20231029T020000
RDATE:20240331T030000
TZOFFSETFROM:+0200
TZOFFSETTO:+0100
TZNAME:Europe/Brussels CET
END:STANDARD
BEGIN:STANDARD
DTSTART:20241027T020000
RDATE:20250330T030000
TZOFFSETFROM:+0200
TZOFFSETTO:+0100
TZNAME:Europe/Brussels CET
END:STANDARD
BEGIN:STANDARD
DTSTART:20251026T020000
RDATE:20260329T030000
TZOFFSETFROM:+0200
TZOFFSETTO:+0100
TZNAME:Europe/Brussels CET
END:STANDARD
BEGIN:STANDARD
DTSTART:20261025T020000
RDATE:20270328T030000
TZOFFSETFROM:+0200
TZOFFSETTO:+0100
TZNAME:Europe/Brussels CET
END:STANDARD
BEGIN:STANDARD
DTSTART:20271031T020000
RDATE:20280326T030000
TZOFFSETFROM:+0200
TZOFFSETTO:+0100
TZNAME:Europe/Brussels CET
END:STANDARD
BEGIN:STANDARD
DTSTART:20281029T020000
RDATE:20290325T030000
TZOFFSETFROM:+0200
TZOFFSETTO:+0100
TZNAME:Europe/Brussels CET
END:STANDARD
BEGIN:STANDARD
DTSTART:20291028T020000
RDATE:20300331T030000
TZOFFSETFROM:+0200
TZOFFSETTO:+0100
TZNAME:Europe/Brussels CET
END:STANDARD
BEGIN:STANDARD
DTSTART:20301027T020000
RDATE:20310330T030000
TZOFFSETFROM:+0200
TZOFFSETTO:+0100
TZNAME:Europe/Brussels CET
END:STANDARD
BEGIN:STANDARD
DTSTART:20311026T020000
RDATE:20320328T030000
TZOFFSETFROM:+0200
TZOFFSETTO:+0100
TZNAME:Europe/Brussels CET
END:STANDARD
BEGIN:STANDARD
DTSTART:20321031T020000
RDATE:20330327T030000
TZOFFSETFROM:+0200
TZOFFSETTO:+0100
TZNAME:Europe/Brussels CET
END:STANDARD
BEGIN:STANDARD
DTSTART:20331030T020000
RDATE:20340326T030000
TZOFFSETFROM:+0200
TZOFFSETTO:+0100
TZNAME:Europe/Brussels CET
END:STANDARD
BEGIN:STANDARD
DTSTART:20341029T020000
RDATE:20350325T030000
TZOFFSETFROM:+0200
TZOFFSETTO:+0100
TZNAME:Europe/Brussels CET
END:STANDARD
BEGIN:STANDARD
DTSTART:20351028T020000
RDATE:20360330T030000
TZOFFSETFROM:+0200
TZOFFSETTO:+0100
TZNAME:Europe/Brussels CET
END:STANDARD
BEGIN:STANDARD
DTSTART:20361026T020000
RDATE:20370329T030000
TZOFFSETFROM:+0200
TZOFFSETTO:+0100
TZNAME:Europe/Brussels CET
END:STANDARD
BEGIN:STANDARD
DTSTART:20371025T020000
TZOFFSETFROM:+0200
TZOFFSETTO:+0100
TZNAME:Europe/Brussels CET
END:STANDARD
BEGIN:DAYLIGHT
DTSTART:20210927T090000
RDATE:20211031T020000
TZOFFSETFROM:+0100
TZOFFSETTO:+0200
TZNAME:Europe/Brussels CEST
END:DAYLIGHT
BEGIN:DAYLIGHT
DTSTART:20220327T030000
RDATE:20221030T020000
TZOFFSETFROM:+0100
TZOFFSETTO:+0200
TZNAME:Europe/Brussels CEST
END:DAYLIGHT
BEGIN:DAYLIGHT
DTSTART:20230326T030000
RDATE:20231029T020000
TZOFFSETFROM:+0100
TZOFFSETTO:+0200
TZNAME:Europe/Brussels CEST
END:DAYLIGHT
BEGIN:DAYLIGHT
DTSTART:20240331T030000
RDATE:20241027T020000
TZOFFSETFROM:+0100
TZOFFSETTO:+0200
TZNAME:Europe/Brussels CEST
END:DAYLIGHT
BEGIN:DAYLIGHT
DTSTART:20250330T030000
RDATE:20251026T020000
TZOFFSETFROM:+0100
TZOFFSETTO:+0200
TZNAME:Europe/Brussels CEST
END:DAYLIGHT
BEGIN:DAYLIGHT
DTSTART:20260329T030000
RDATE:20261025T020000
TZOFFSETFROM:+0100
TZOFFSETTO:+0200
TZNAME:Europe/Brussels CEST
END:DAYLIGHT
BEGIN:DAYLIGHT
DTSTART:20270328T030000
RDATE:20271031T020000
TZOFFSETFROM:+0100
TZOFFSETTO:+0200
TZNAME:Europe/Brussels CEST
END:DAYLIGHT
BEGIN:DAYLIGHT
DTSTART:20280326T030000
RDATE:20281029T020000
TZOFFSETFROM:+0100
TZOFFSETTO:+0200
TZNAME:Europe/Brussels CEST
END:DAYLIGHT
BEGIN:DAYLIGHT
DTSTART:20290325T030000
RDATE:20291028T020000
TZOFFSETFROM:+0100
TZOFFSETTO:+0200
TZNAME:Europe/Brussels CEST
END:DAYLIGHT
BEGIN:DAYLIGHT
DTSTART:20300331T030000
RDATE:20301027T020000
TZOFFSETFROM:+0100
TZOFFSETTO:+0200
TZNAME:Europe/Brussels CEST
END:DAYLIGHT
BEGIN:DAYLIGHT
DTSTART:20310330T030000
RDATE:20311026T020000
TZOFFSETFROM:+0100
TZOFFSETTO:+0200
TZNAME:Europe/Brussels CEST
END:DAYLIGHT
BEGIN:DAYLIGHT
DTSTART:20320328T030000
RDATE:20321031T020000
TZOFFSETFROM:+0100
TZOFFSETTO:+0200
TZNAME:Europe/Brussels CEST
END:DAYLIGHT
BEGIN:DAYLIGHT
DTSTART:20330327T030000
RDATE:20331030T020000
TZOFFSETFROM:+0100
TZOFFSETTO:+0200
TZNAME:Europe/Brussels CEST
END:DAYLIGHT
BEGIN:DAYLIGHT
DTSTART:20340326T030000
RDATE:20341029T020000
TZOFFSETFROM:+0100
TZOFFSETTO:+0200
TZNAME:Europe/Brussels CEST
END:DAYLIGHT
BEGIN:DAYLIGHT
DTSTART:20350325T030000
RDATE:20351028T020000
TZOFFSETFROM:+0100
TZOFFSETTO:+0200
TZNAME:Europe/Brussels CEST
END:DAYLIGHT
BEGIN:DAYLIGHT
DTSTART:20360330T030000
RDATE:20361026T020000
TZOFFSETFROM:+0100
TZOFFSETTO:+0200
TZNAME:Europe/Brussels CEST
END:DAYLIGHT
BEGIN:DAYLIGHT
DTSTART:20370329T030000
RDATE:20371025T020000
TZOFFSETFROM:+0100
TZOFFSETTO:+0200
TZNAME:Europe/Brussels CEST
END:DAYLIGHT
END:VTIMEZONE
BEGIN:VEVENT
UID:2f65dd10b57cf824bc6c1d0048e0091e
CATEGORIES:Formations
CREATED:20211103T131210
SUMMARY:Formation à l'animation interculturelle par les pairs - EPTO (J5)
LOCATION:Peuple et culture\, rue du Beau Mur 45\, 4030 Liège
DESCRIPTION:<p><strong>Les 17, 18, 21, 22 et 23 novembre 2022, de 09h00 à 17h00 @Peuple
  et Culture, rue du Beau Mur 45,</strong></p><p><strong>4030 Liège (Grivegn
 ée)</strong></p><p>La formation, basée sur la méthode développée par l’orga
 nisation EPTO (European Peer Training Organisation), propose un programme d
 ’éducation interculturelle permettant aux participants de devenir eux-mêmes
  acteurs dans la lutte contre les préjugés et les discriminations.</p><p st
 yle="text-align: justify;">&nbsp;</p><p style="text-align: justify;"><stron
 g><span style="color: #800000;">Objectifs</span>&nbsp;</strong></p><ul styl
 e="text-align: justify;"><li>Encourager les participants à reconnaître et c
 onfronter les préjugés et discriminations sous toutes leurs formes</li><li>
 Comprendre les comportements et les processus d'inclusion et d'exclusion ;<
 /li><li>Développer des compétences en gestion de conflit et créer un enviro
 nnement inclusif au sein d'un groupe.</li></ul><p style="text-align: justif
 y;"><span style="color: #800000;"><strong>Contenu</strong></span></p><p sty
 le="text-align: justify;">L'éducation par les pairs se base sur quelques pr
 incipes :</p><ul style="text-align: justify;"><li>Les groupes de pairs ont 
 une grande influence sur l’évolution et le développement des jeunes en tant
  qu’instance fondamentale de la socialisation. Les travailleurs socio-cultu
 rels ont l’immense capacité d’influencer les sociétés dans lesquelles ils v
 ivent ;</li><li>Les « peer trainers » ont besoin de comprendre leurs forces
  et leurs faiblesses, leurs compétences et leurs limites, leurs attitudes e
 t leurs valeurs ;</li><li>Chaque participant est à la fois apprenant et for
 mateur</li><li>dans un système d’éducation efficient ;</li><li>La formation
  est une forme d’action sociale.</li></ul><p style="text-align: justify;"><
 span style="color: #800000;"><strong>Méthodologie</strong></span></p><p sty
 le="text-align: justify;">Mise en situation d’expérimentation d’outils d’an
 imation, de jeux interculturels et de méthodes interactives d’éducation int
 erculturelle. Apports théoriques et</p><p style="text-align: justify;">péda
 gogiques en lien avec ce que les différents outils questionnent et révèlent
 .</p><p style="text-align: justify;"><strong><span style="color: #800000;">
 Public</span></strong></p><p style="text-align: justify;">Secteur jeunesse,
  éducation et enseignement : écoles de devoirs, maisons de jeunes, centre d
 e jeunes, écoles, clubs sportifs, intervenants éducatifs et sociaux des vil
 les et communes, etc.</p><p style="text-align: justify;"><strong><span styl
 e="color: #800000;">Informations et inscriptions</span></strong><span style
 ="color: #800000;"></span></p><p><joomla-hidden-mail class="moz-txt-link-ab
 breviated"  is-link="1" is-email="1" first="Zm9ybWF0aW9ucw==" last="Y3JpcGV
 sLmJl" text="Zm9ybWF0aW9uc0BjcmlwZWwuYmU=" base="" >Cette adresse e-mail es
 t protégée contre les robots spammeurs. Vous devez activer le JavaScript po
 ur la visualiser.</joomla-hidden-mail></p>
CONTACT:Cette adresse e-mail est protégée contre les robots spammeurs. Vous devez activer le JavaScript pour la visualiser.
DTSTAMP:20260420T110912
DTSTART;TZID=Europe/Brussels:20220928T090000
DTEND;TZID=Europe/Brussels:20220928T170000
SEQUENCE:0
TRANSP:OPAQUE
END:VEVENT
END:VCALENDAR