BEGIN:VCALENDAR
VERSION:2.0
PRODID:-//jEvents 2.0 for Joomla//EN
CALSCALE:GREGORIAN
METHOD:PUBLISH
BEGIN:VTIMEZONE
TZID:Europe/Brussels
BEGIN:STANDARD
DTSTART:20201214T090000
RDATE:20210328T030000
TZOFFSETFROM:+0200
TZOFFSETTO:+0100
TZNAME:Europe/Brussels CET
END:STANDARD
BEGIN:STANDARD
DTSTART:20211031T020000
RDATE:20220327T030000
TZOFFSETFROM:+0200
TZOFFSETTO:+0100
TZNAME:Europe/Brussels CET
END:STANDARD
BEGIN:STANDARD
DTSTART:20221030T020000
RDATE:20230326T030000
TZOFFSETFROM:+0200
TZOFFSETTO:+0100
TZNAME:Europe/Brussels CET
END:STANDARD
BEGIN:STANDARD
DTSTART:20231029T020000
RDATE:20240331T030000
TZOFFSETFROM:+0200
TZOFFSETTO:+0100
TZNAME:Europe/Brussels CET
END:STANDARD
BEGIN:STANDARD
DTSTART:20241027T020000
RDATE:20250330T030000
TZOFFSETFROM:+0200
TZOFFSETTO:+0100
TZNAME:Europe/Brussels CET
END:STANDARD
BEGIN:STANDARD
DTSTART:20251026T020000
RDATE:20260329T030000
TZOFFSETFROM:+0200
TZOFFSETTO:+0100
TZNAME:Europe/Brussels CET
END:STANDARD
BEGIN:STANDARD
DTSTART:20261025T020000
RDATE:20270328T030000
TZOFFSETFROM:+0200
TZOFFSETTO:+0100
TZNAME:Europe/Brussels CET
END:STANDARD
BEGIN:STANDARD
DTSTART:20271031T020000
RDATE:20280326T030000
TZOFFSETFROM:+0200
TZOFFSETTO:+0100
TZNAME:Europe/Brussels CET
END:STANDARD
BEGIN:STANDARD
DTSTART:20281029T020000
RDATE:20290325T030000
TZOFFSETFROM:+0200
TZOFFSETTO:+0100
TZNAME:Europe/Brussels CET
END:STANDARD
BEGIN:STANDARD
DTSTART:20291028T020000
RDATE:20300331T030000
TZOFFSETFROM:+0200
TZOFFSETTO:+0100
TZNAME:Europe/Brussels CET
END:STANDARD
BEGIN:STANDARD
DTSTART:20301027T020000
RDATE:20310330T030000
TZOFFSETFROM:+0200
TZOFFSETTO:+0100
TZNAME:Europe/Brussels CET
END:STANDARD
BEGIN:STANDARD
DTSTART:20311026T020000
RDATE:20320328T030000
TZOFFSETFROM:+0200
TZOFFSETTO:+0100
TZNAME:Europe/Brussels CET
END:STANDARD
BEGIN:STANDARD
DTSTART:20321031T020000
RDATE:20330327T030000
TZOFFSETFROM:+0200
TZOFFSETTO:+0100
TZNAME:Europe/Brussels CET
END:STANDARD
BEGIN:STANDARD
DTSTART:20331030T020000
RDATE:20340326T030000
TZOFFSETFROM:+0200
TZOFFSETTO:+0100
TZNAME:Europe/Brussels CET
END:STANDARD
BEGIN:STANDARD
DTSTART:20341029T020000
RDATE:20350325T030000
TZOFFSETFROM:+0200
TZOFFSETTO:+0100
TZNAME:Europe/Brussels CET
END:STANDARD
BEGIN:STANDARD
DTSTART:20351028T020000
RDATE:20360330T030000
TZOFFSETFROM:+0200
TZOFFSETTO:+0100
TZNAME:Europe/Brussels CET
END:STANDARD
BEGIN:STANDARD
DTSTART:20361026T020000
RDATE:20370329T030000
TZOFFSETFROM:+0200
TZOFFSETTO:+0100
TZNAME:Europe/Brussels CET
END:STANDARD
BEGIN:STANDARD
DTSTART:20371025T020000
TZOFFSETFROM:+0200
TZOFFSETTO:+0100
TZNAME:Europe/Brussels CET
END:STANDARD
BEGIN:DAYLIGHT
DTSTART:20210328T030000
RDATE:20211031T020000
TZOFFSETFROM:+0100
TZOFFSETTO:+0200
TZNAME:Europe/Brussels CEST
END:DAYLIGHT
BEGIN:DAYLIGHT
DTSTART:20220327T030000
RDATE:20221030T020000
TZOFFSETFROM:+0100
TZOFFSETTO:+0200
TZNAME:Europe/Brussels CEST
END:DAYLIGHT
BEGIN:DAYLIGHT
DTSTART:20230326T030000
RDATE:20231029T020000
TZOFFSETFROM:+0100
TZOFFSETTO:+0200
TZNAME:Europe/Brussels CEST
END:DAYLIGHT
BEGIN:DAYLIGHT
DTSTART:20240331T030000
RDATE:20241027T020000
TZOFFSETFROM:+0100
TZOFFSETTO:+0200
TZNAME:Europe/Brussels CEST
END:DAYLIGHT
BEGIN:DAYLIGHT
DTSTART:20250330T030000
RDATE:20251026T020000
TZOFFSETFROM:+0100
TZOFFSETTO:+0200
TZNAME:Europe/Brussels CEST
END:DAYLIGHT
BEGIN:DAYLIGHT
DTSTART:20260329T030000
RDATE:20261025T020000
TZOFFSETFROM:+0100
TZOFFSETTO:+0200
TZNAME:Europe/Brussels CEST
END:DAYLIGHT
BEGIN:DAYLIGHT
DTSTART:20270328T030000
RDATE:20271031T020000
TZOFFSETFROM:+0100
TZOFFSETTO:+0200
TZNAME:Europe/Brussels CEST
END:DAYLIGHT
BEGIN:DAYLIGHT
DTSTART:20280326T030000
RDATE:20281029T020000
TZOFFSETFROM:+0100
TZOFFSETTO:+0200
TZNAME:Europe/Brussels CEST
END:DAYLIGHT
BEGIN:DAYLIGHT
DTSTART:20290325T030000
RDATE:20291028T020000
TZOFFSETFROM:+0100
TZOFFSETTO:+0200
TZNAME:Europe/Brussels CEST
END:DAYLIGHT
BEGIN:DAYLIGHT
DTSTART:20300331T030000
RDATE:20301027T020000
TZOFFSETFROM:+0100
TZOFFSETTO:+0200
TZNAME:Europe/Brussels CEST
END:DAYLIGHT
BEGIN:DAYLIGHT
DTSTART:20310330T030000
RDATE:20311026T020000
TZOFFSETFROM:+0100
TZOFFSETTO:+0200
TZNAME:Europe/Brussels CEST
END:DAYLIGHT
BEGIN:DAYLIGHT
DTSTART:20320328T030000
RDATE:20321031T020000
TZOFFSETFROM:+0100
TZOFFSETTO:+0200
TZNAME:Europe/Brussels CEST
END:DAYLIGHT
BEGIN:DAYLIGHT
DTSTART:20330327T030000
RDATE:20331030T020000
TZOFFSETFROM:+0100
TZOFFSETTO:+0200
TZNAME:Europe/Brussels CEST
END:DAYLIGHT
BEGIN:DAYLIGHT
DTSTART:20340326T030000
RDATE:20341029T020000
TZOFFSETFROM:+0100
TZOFFSETTO:+0200
TZNAME:Europe/Brussels CEST
END:DAYLIGHT
BEGIN:DAYLIGHT
DTSTART:20350325T030000
RDATE:20351028T020000
TZOFFSETFROM:+0100
TZOFFSETTO:+0200
TZNAME:Europe/Brussels CEST
END:DAYLIGHT
BEGIN:DAYLIGHT
DTSTART:20360330T030000
RDATE:20361026T020000
TZOFFSETFROM:+0100
TZOFFSETTO:+0200
TZNAME:Europe/Brussels CEST
END:DAYLIGHT
BEGIN:DAYLIGHT
DTSTART:20370329T030000
RDATE:20371025T020000
TZOFFSETFROM:+0100
TZOFFSETTO:+0200
TZNAME:Europe/Brussels CEST
END:DAYLIGHT
END:VTIMEZONE
BEGIN:VEVENT
UID:40c1c3d039b65d28234a53d341619ea8
CATEGORIES:Formations
CREATED:20211103T131643
SUMMARY:Comprendre l'appel à projet ILI Région Wallonne (J1)
LOCATION:Peuple et culture\, rue du Beau Mur 45\, 4030 Liège
DESCRIPTION:<p><strong>Les mercredi 15 et vendredi 17 décembre 2021</strong><strong>,&n
 bsp;<strong>de 9:00 à 16:30 @ Peuple et Culture, rue du Beau Mur 45, 4030 L
 iège (Grivegnée)</strong></strong></p><p><span style="color: #800000;"><str
 ong>Objectifs</strong></span></p><p><strong>L’objectif du module de formati
 on est de permettre aux associations &nbsp;d’appréhender le décret wallon d
 ’intégration en vue d’optimaliser leur candidature à l’appel à projets des 
 initiatives locales d’intégration et l’évaluation de leurs actions.</strong
 ></p><p><span style="color: #800000;"><strong>Contenus</strong></span></p><
 p>Le groupe sera invité à</p><p>-&nbsp;&nbsp;&nbsp;&nbsp;&nbsp;&nbsp;&nbsp;
 &nbsp;&nbsp; Examiner le cadre légal sur lequel repose l’appel à projets ;<
 /p><p>-&nbsp;&nbsp;&nbsp;&nbsp;&nbsp;&nbsp;&nbsp;&nbsp;&nbsp; Analyser le f
 ormulaire pour se l’approprier ;</p><p>-&nbsp;&nbsp;&nbsp;&nbsp;&nbsp;&nbsp
 ;&nbsp;&nbsp;&nbsp; Comprendre les relations contractuelles entre les assoc
 iations qui répondent à l’appel à projets et les pouvoirs qui les subventio
 nnent ;</p><p><span style="color: #800000;"><strong>Méthodologie</strong></
 span></p><p>La pédagogie est ascendante, elle part du vécu et des expérienc
 es des participant.e.s. Ce savoir expérientiel mutualisé sera complété d’ap
 ports théoriques&nbsp; nécessaires à appréhender le cadre institutionnel ai
 nsi que les droits et les devoirs de chacune des parties.</p><p><span style
 ="color: #800000;"><strong>Public</strong></span></p><p>Les ILIS (Initiativ
 es locales d’intégration) et les associations en éducation permanente.</p><
 p><strong><span style="color: #800000;">Prix</span></strong></p><p>15€</p><
 p><a href="index.php?option=com_rsform&amp;view=rsform&amp;formId=1&amp;Ite
 mid=158" target="_blank" rel="noopener"><span style="color: #800000;"><stro
 ng>Inscriptions</strong></span></a></p>
X-ALT-DESC;FMTTYPE=text/html:<p><strong>Les mercredi 15 et vendredi 17 décembre 2021</strong><strong>,&n
 bsp;<strong>de 9:00 à 16:30 @ Peuple et Culture, rue du Beau Mur 45, 4030 L
 iège (Grivegnée)</strong></strong></p><p><span style="color: #800000;"><str
 ong>Objectifs</strong></span></p><p><strong>L’objectif du module de formati
 on est de permettre aux associations &nbsp;d’appréhender le décret wallon d
 ’intégration en vue d’optimaliser leur candidature à l’appel à projets des 
 initiatives locales d’intégration et l’évaluation de leurs actions.</strong
 ></p><p><span style="color: #800000;"><strong>Contenus</strong></span></p><
 p>Le groupe sera invité à</p><p>-&nbsp;&nbsp;&nbsp;&nbsp;&nbsp;&nbsp;&nbsp;
 &nbsp;&nbsp; Examiner le cadre légal sur lequel repose l’appel à projets ;<
 /p><p>-&nbsp;&nbsp;&nbsp;&nbsp;&nbsp;&nbsp;&nbsp;&nbsp;&nbsp; Analyser le f
 ormulaire pour se l’approprier ;</p><p>-&nbsp;&nbsp;&nbsp;&nbsp;&nbsp;&nbsp
 ;&nbsp;&nbsp;&nbsp; Comprendre les relations contractuelles entre les assoc
 iations qui répondent à l’appel à projets et les pouvoirs qui les subventio
 nnent ;</p><p><span style="color: #800000;"><strong>Méthodologie</strong></
 span></p><p>La pédagogie est ascendante, elle part du vécu et des expérienc
 es des participant.e.s. Ce savoir expérientiel mutualisé sera complété d’ap
 ports théoriques&nbsp; nécessaires à appréhender le cadre institutionnel ai
 nsi que les droits et les devoirs de chacune des parties.</p><p><span style
 ="color: #800000;"><strong>Public</strong></span></p><p>Les ILIS (Initiativ
 es locales d’intégration) et les associations en éducation permanente.</p><
 p><strong><span style="color: #800000;">Prix</span></strong></p><p>15€</p><
 p><a href="https://peuple-et-culture-wb.be/index.php?option=com_rsform&amp;
 view=rsform&amp;formId=1&amp;Itemid=158" target="_blank" rel="noopener"><sp
 an style="color: #800000;"><strong>Inscriptions</strong></span></a></p>
CONTACT:Cette adresse e-mail est protégée contre les robots spammeurs. Vous devez activer le JavaScript pour la visualiser.
DTSTAMP:20260420T220308
DTSTART;TZID=Europe/Brussels:20211215T090000
DTEND;TZID=Europe/Brussels:20211215T170000
SEQUENCE:0
TRANSP:OPAQUE
END:VEVENT
END:VCALENDAR