BEGIN:VCALENDAR
VERSION:2.0
PRODID:-//jEvents 2.0 for Joomla//EN
CALSCALE:GREGORIAN
METHOD:PUBLISH
BEGIN:VTIMEZONE
TZID:Europe/Brussels
BEGIN:STANDARD
DTSTART:20201118T090000
RDATE:20210328T030000
TZOFFSETFROM:+0200
TZOFFSETTO:+0100
TZNAME:Europe/Brussels CET
END:STANDARD
BEGIN:STANDARD
DTSTART:20211031T020000
RDATE:20220327T030000
TZOFFSETFROM:+0200
TZOFFSETTO:+0100
TZNAME:Europe/Brussels CET
END:STANDARD
BEGIN:STANDARD
DTSTART:20221030T020000
RDATE:20230326T030000
TZOFFSETFROM:+0200
TZOFFSETTO:+0100
TZNAME:Europe/Brussels CET
END:STANDARD
BEGIN:STANDARD
DTSTART:20231029T020000
RDATE:20240331T030000
TZOFFSETFROM:+0200
TZOFFSETTO:+0100
TZNAME:Europe/Brussels CET
END:STANDARD
BEGIN:STANDARD
DTSTART:20241027T020000
RDATE:20250330T030000
TZOFFSETFROM:+0200
TZOFFSETTO:+0100
TZNAME:Europe/Brussels CET
END:STANDARD
BEGIN:STANDARD
DTSTART:20251026T020000
RDATE:20260329T030000
TZOFFSETFROM:+0200
TZOFFSETTO:+0100
TZNAME:Europe/Brussels CET
END:STANDARD
BEGIN:STANDARD
DTSTART:20261025T020000
RDATE:20270328T030000
TZOFFSETFROM:+0200
TZOFFSETTO:+0100
TZNAME:Europe/Brussels CET
END:STANDARD
BEGIN:STANDARD
DTSTART:20271031T020000
RDATE:20280326T030000
TZOFFSETFROM:+0200
TZOFFSETTO:+0100
TZNAME:Europe/Brussels CET
END:STANDARD
BEGIN:STANDARD
DTSTART:20281029T020000
RDATE:20290325T030000
TZOFFSETFROM:+0200
TZOFFSETTO:+0100
TZNAME:Europe/Brussels CET
END:STANDARD
BEGIN:STANDARD
DTSTART:20291028T020000
RDATE:20300331T030000
TZOFFSETFROM:+0200
TZOFFSETTO:+0100
TZNAME:Europe/Brussels CET
END:STANDARD
BEGIN:STANDARD
DTSTART:20301027T020000
RDATE:20310330T030000
TZOFFSETFROM:+0200
TZOFFSETTO:+0100
TZNAME:Europe/Brussels CET
END:STANDARD
BEGIN:STANDARD
DTSTART:20311026T020000
RDATE:20320328T030000
TZOFFSETFROM:+0200
TZOFFSETTO:+0100
TZNAME:Europe/Brussels CET
END:STANDARD
BEGIN:STANDARD
DTSTART:20321031T020000
RDATE:20330327T030000
TZOFFSETFROM:+0200
TZOFFSETTO:+0100
TZNAME:Europe/Brussels CET
END:STANDARD
BEGIN:STANDARD
DTSTART:20331030T020000
RDATE:20340326T030000
TZOFFSETFROM:+0200
TZOFFSETTO:+0100
TZNAME:Europe/Brussels CET
END:STANDARD
BEGIN:STANDARD
DTSTART:20341029T020000
RDATE:20350325T030000
TZOFFSETFROM:+0200
TZOFFSETTO:+0100
TZNAME:Europe/Brussels CET
END:STANDARD
BEGIN:STANDARD
DTSTART:20351028T020000
RDATE:20360330T030000
TZOFFSETFROM:+0200
TZOFFSETTO:+0100
TZNAME:Europe/Brussels CET
END:STANDARD
BEGIN:STANDARD
DTSTART:20361026T020000
RDATE:20370329T030000
TZOFFSETFROM:+0200
TZOFFSETTO:+0100
TZNAME:Europe/Brussels CET
END:STANDARD
BEGIN:STANDARD
DTSTART:20371025T020000
TZOFFSETFROM:+0200
TZOFFSETTO:+0100
TZNAME:Europe/Brussels CET
END:STANDARD
BEGIN:DAYLIGHT
DTSTART:20210328T030000
RDATE:20211031T020000
TZOFFSETFROM:+0100
TZOFFSETTO:+0200
TZNAME:Europe/Brussels CEST
END:DAYLIGHT
BEGIN:DAYLIGHT
DTSTART:20220327T030000
RDATE:20221030T020000
TZOFFSETFROM:+0100
TZOFFSETTO:+0200
TZNAME:Europe/Brussels CEST
END:DAYLIGHT
BEGIN:DAYLIGHT
DTSTART:20230326T030000
RDATE:20231029T020000
TZOFFSETFROM:+0100
TZOFFSETTO:+0200
TZNAME:Europe/Brussels CEST
END:DAYLIGHT
BEGIN:DAYLIGHT
DTSTART:20240331T030000
RDATE:20241027T020000
TZOFFSETFROM:+0100
TZOFFSETTO:+0200
TZNAME:Europe/Brussels CEST
END:DAYLIGHT
BEGIN:DAYLIGHT
DTSTART:20250330T030000
RDATE:20251026T020000
TZOFFSETFROM:+0100
TZOFFSETTO:+0200
TZNAME:Europe/Brussels CEST
END:DAYLIGHT
BEGIN:DAYLIGHT
DTSTART:20260329T030000
RDATE:20261025T020000
TZOFFSETFROM:+0100
TZOFFSETTO:+0200
TZNAME:Europe/Brussels CEST
END:DAYLIGHT
BEGIN:DAYLIGHT
DTSTART:20270328T030000
RDATE:20271031T020000
TZOFFSETFROM:+0100
TZOFFSETTO:+0200
TZNAME:Europe/Brussels CEST
END:DAYLIGHT
BEGIN:DAYLIGHT
DTSTART:20280326T030000
RDATE:20281029T020000
TZOFFSETFROM:+0100
TZOFFSETTO:+0200
TZNAME:Europe/Brussels CEST
END:DAYLIGHT
BEGIN:DAYLIGHT
DTSTART:20290325T030000
RDATE:20291028T020000
TZOFFSETFROM:+0100
TZOFFSETTO:+0200
TZNAME:Europe/Brussels CEST
END:DAYLIGHT
BEGIN:DAYLIGHT
DTSTART:20300331T030000
RDATE:20301027T020000
TZOFFSETFROM:+0100
TZOFFSETTO:+0200
TZNAME:Europe/Brussels CEST
END:DAYLIGHT
BEGIN:DAYLIGHT
DTSTART:20310330T030000
RDATE:20311026T020000
TZOFFSETFROM:+0100
TZOFFSETTO:+0200
TZNAME:Europe/Brussels CEST
END:DAYLIGHT
BEGIN:DAYLIGHT
DTSTART:20320328T030000
RDATE:20321031T020000
TZOFFSETFROM:+0100
TZOFFSETTO:+0200
TZNAME:Europe/Brussels CEST
END:DAYLIGHT
BEGIN:DAYLIGHT
DTSTART:20330327T030000
RDATE:20331030T020000
TZOFFSETFROM:+0100
TZOFFSETTO:+0200
TZNAME:Europe/Brussels CEST
END:DAYLIGHT
BEGIN:DAYLIGHT
DTSTART:20340326T030000
RDATE:20341029T020000
TZOFFSETFROM:+0100
TZOFFSETTO:+0200
TZNAME:Europe/Brussels CEST
END:DAYLIGHT
BEGIN:DAYLIGHT
DTSTART:20350325T030000
RDATE:20351028T020000
TZOFFSETFROM:+0100
TZOFFSETTO:+0200
TZNAME:Europe/Brussels CEST
END:DAYLIGHT
BEGIN:DAYLIGHT
DTSTART:20360330T030000
RDATE:20361026T020000
TZOFFSETFROM:+0100
TZOFFSETTO:+0200
TZNAME:Europe/Brussels CEST
END:DAYLIGHT
BEGIN:DAYLIGHT
DTSTART:20370329T030000
RDATE:20371025T020000
TZOFFSETFROM:+0100
TZOFFSETTO:+0200
TZNAME:Europe/Brussels CEST
END:DAYLIGHT
END:VTIMEZONE
BEGIN:VEVENT
UID:3e480a193efc52548d23aecebaf82424
CATEGORIES:Formations
CREATED:20211103T134910
SUMMARY:Formation à l'animation interculturelle par les pairs - EPTO (J2)
LOCATION:Peuple et culture\, rue du Beau Mur 45\, 4030 Liège
DESCRIPTION:Les 18, 19, 22, 23 et 24 novembre 2021, de 09h00 à 17h00 @Peuple et Culture
 , rue du Beau Mur 45,\n4030 Liège (Grivegnée)\nLa formation, basée sur la m
 éthode développée par l’organisation EPTO (European Peer Training Organisat
 ion), propose un programme d’éducation interculturelle permettant aux parti
 cipants de devenir eux-mêmes acteurs dans la lutte contre les préjugés et l
 es discriminations.\n \nObjectifs \n\n - Encourager les participants à reco
 nnaître et confronter les préjugés et discriminations sous toutes leurs for
 mes\n - Comprendre les comportements et les processus d'inclusion et d'excl
 usion ;\n - Développer des compétences en gestion de conflit et créer un en
 vironnement inclusif au sein d'un groupe.Contenu\nL'éducation par les pairs
  se base sur quelques principes :\n\n - Les groupes de pairs ont une grande
  influence sur l’évolution et le développement des jeunes en tant qu’instan
 ce fondamentale de la socialisation. Les travailleurs socio-culturels ont l
 ’immense capacité d’influencer les sociétés dans lesquelles ils vivent ;\n 
 - Les « peer trainers » ont besoin de comprendre leurs forces et leurs faib
 lesses, leurs compétences et leurs limites, leurs attitudes et leurs valeur
 s ;\n - Chaque participant est à la fois apprenant et formateur\n - dans un
  système d’éducation efficient ;\n - La formation est une forme d’action so
 ciale.Méthodologie\nMise en situation d’expérimentation d’outils d’animatio
 n, de jeux interculturels et de méthodes interactives d’éducation intercult
 urelle. Apports théoriques et\npédagogiques en lien avec ce que les différe
 nts outils questionnent et révèlent.\nPublic\nSecteur jeunesse, éducation e
 t enseignement : écoles de devoirs, maisons de jeunes, centre de jeunes, éc
 oles, clubs sportifs, intervenants éducatifs et sociaux des villes et commu
 nes, etc.\nInformations et inscriptions\nCette adresse e-mail est protégée 
 contre les robots spammeurs. Vous devez activer le JavaScript pour la visua
 liser.\n
X-ALT-DESC;FMTTYPE=text/html:<p><strong>Les 18, 19, 22, 23 et 24 novembre 2021, de 09h00 à 17h00 @Peuple
  et Culture, rue du Beau Mur 45,</strong></p><p><strong>4030 Liège (Grivegn
 ée)</strong></p><p>La formation, basée sur la méthode développée par l’orga
 nisation EPTO (European Peer Training Organisation), propose un programme d
 ’éducation interculturelle permettant aux participants de devenir eux-mêmes
  acteurs dans la lutte contre les préjugés et les discriminations.</p><p st
 yle="text-align: justify;">&nbsp;</p><p style="text-align: justify;"><stron
 g><span style="color: #800000;">Objectifs</span>&nbsp;</strong></p><ul styl
 e="text-align: justify;"><li>Encourager les participants à reconnaître et c
 onfronter les préjugés et discriminations sous toutes leurs formes</li><li>
 Comprendre les comportements et les processus d'inclusion et d'exclusion ;<
 /li><li>Développer des compétences en gestion de conflit et créer un enviro
 nnement inclusif au sein d'un groupe.</li></ul><p style="text-align: justif
 y;"><span style="color: #800000;"><strong>Contenu</strong></span></p><p sty
 le="text-align: justify;">L'éducation par les pairs se base sur quelques pr
 incipes :</p><ul style="text-align: justify;"><li>Les groupes de pairs ont 
 une grande influence sur l’évolution et le développement des jeunes en tant
  qu’instance fondamentale de la socialisation. Les travailleurs socio-cultu
 rels ont l’immense capacité d’influencer les sociétés dans lesquelles ils v
 ivent ;</li><li>Les « peer trainers » ont besoin de comprendre leurs forces
  et leurs faiblesses, leurs compétences et leurs limites, leurs attitudes e
 t leurs valeurs ;</li><li>Chaque participant est à la fois apprenant et for
 mateur</li><li>dans un système d’éducation efficient ;</li><li>La formation
  est une forme d’action sociale.</li></ul><p style="text-align: justify;"><
 span style="color: #800000;"><strong>Méthodologie</strong></span></p><p sty
 le="text-align: justify;">Mise en situation d’expérimentation d’outils d’an
 imation, de jeux interculturels et de méthodes interactives d’éducation int
 erculturelle. Apports théoriques et</p><p style="text-align: justify;">péda
 gogiques en lien avec ce que les différents outils questionnent et révèlent
 .</p><p style="text-align: justify;"><strong><span style="color: #800000;">
 Public</span></strong></p><p style="text-align: justify;">Secteur jeunesse,
  éducation et enseignement : écoles de devoirs, maisons de jeunes, centre d
 e jeunes, écoles, clubs sportifs, intervenants éducatifs et sociaux des vil
 les et communes, etc.</p><p style="text-align: justify;"><strong><span styl
 e="color: #800000;">Informations et inscriptions</span></strong><span style
 ="color: #800000;"></span></p><p><joomla-hidden-mail class="moz-txt-link-ab
 breviated"  is-link="1" is-email="1" first="Zm9ybWF0aW9ucw==" last="Y3JpcGV
 sLmJl" text="Zm9ybWF0aW9uc0BjcmlwZWwuYmU=" base="" >Cette adresse e-mail es
 t protégée contre les robots spammeurs. Vous devez activer le JavaScript po
 ur la visualiser.</joomla-hidden-mail></p>
CONTACT:Cette adresse e-mail est protégée contre les robots spammeurs. Vous devez activer le JavaScript pour la visualiser.
DTSTAMP:20260421T003011
DTSTART;TZID=Europe/Brussels:20211119T090000
DTEND;TZID=Europe/Brussels:20211119T170000
SEQUENCE:0
TRANSP:OPAQUE
END:VEVENT
END:VCALENDAR