BEGIN:VCALENDAR
VERSION:2.0
PRODID:-//jEvents 2.0 for Joomla//EN
CALSCALE:GREGORIAN
METHOD:PUBLISH
BEGIN:VTIMEZONE
TZID:Europe/Brussels
BEGIN:STANDARD
DTSTART:20211031T020000
RDATE:20220327T030000
TZOFFSETFROM:+0200
TZOFFSETTO:+0100
TZNAME:Europe/Brussels CET
END:STANDARD
BEGIN:STANDARD
DTSTART:20221030T020000
RDATE:20230326T030000
TZOFFSETFROM:+0200
TZOFFSETTO:+0100
TZNAME:Europe/Brussels CET
END:STANDARD
BEGIN:STANDARD
DTSTART:20231029T020000
RDATE:20240331T030000
TZOFFSETFROM:+0200
TZOFFSETTO:+0100
TZNAME:Europe/Brussels CET
END:STANDARD
BEGIN:STANDARD
DTSTART:20241027T020000
RDATE:20250330T030000
TZOFFSETFROM:+0200
TZOFFSETTO:+0100
TZNAME:Europe/Brussels CET
END:STANDARD
BEGIN:STANDARD
DTSTART:20251026T020000
RDATE:20260329T030000
TZOFFSETFROM:+0200
TZOFFSETTO:+0100
TZNAME:Europe/Brussels CET
END:STANDARD
BEGIN:STANDARD
DTSTART:20261025T020000
RDATE:20270328T030000
TZOFFSETFROM:+0200
TZOFFSETTO:+0100
TZNAME:Europe/Brussels CET
END:STANDARD
BEGIN:STANDARD
DTSTART:20271031T020000
RDATE:20280326T030000
TZOFFSETFROM:+0200
TZOFFSETTO:+0100
TZNAME:Europe/Brussels CET
END:STANDARD
BEGIN:STANDARD
DTSTART:20281029T020000
RDATE:20290325T030000
TZOFFSETFROM:+0200
TZOFFSETTO:+0100
TZNAME:Europe/Brussels CET
END:STANDARD
BEGIN:STANDARD
DTSTART:20291028T020000
RDATE:20300331T030000
TZOFFSETFROM:+0200
TZOFFSETTO:+0100
TZNAME:Europe/Brussels CET
END:STANDARD
BEGIN:STANDARD
DTSTART:20301027T020000
RDATE:20310330T030000
TZOFFSETFROM:+0200
TZOFFSETTO:+0100
TZNAME:Europe/Brussels CET
END:STANDARD
BEGIN:STANDARD
DTSTART:20311026T020000
RDATE:20320328T030000
TZOFFSETFROM:+0200
TZOFFSETTO:+0100
TZNAME:Europe/Brussels CET
END:STANDARD
BEGIN:STANDARD
DTSTART:20321031T020000
RDATE:20330327T030000
TZOFFSETFROM:+0200
TZOFFSETTO:+0100
TZNAME:Europe/Brussels CET
END:STANDARD
BEGIN:STANDARD
DTSTART:20331030T020000
RDATE:20340326T030000
TZOFFSETFROM:+0200
TZOFFSETTO:+0100
TZNAME:Europe/Brussels CET
END:STANDARD
BEGIN:STANDARD
DTSTART:20341029T020000
RDATE:20350325T030000
TZOFFSETFROM:+0200
TZOFFSETTO:+0100
TZNAME:Europe/Brussels CET
END:STANDARD
BEGIN:STANDARD
DTSTART:20351028T020000
RDATE:20360330T030000
TZOFFSETFROM:+0200
TZOFFSETTO:+0100
TZNAME:Europe/Brussels CET
END:STANDARD
BEGIN:STANDARD
DTSTART:20361026T020000
RDATE:20370329T030000
TZOFFSETFROM:+0200
TZOFFSETTO:+0100
TZNAME:Europe/Brussels CET
END:STANDARD
BEGIN:STANDARD
DTSTART:20371025T020000
TZOFFSETFROM:+0200
TZOFFSETTO:+0100
TZNAME:Europe/Brussels CET
END:STANDARD
BEGIN:DAYLIGHT
DTSTART:20211017T090000
RDATE:20211031T020000
TZOFFSETFROM:+0100
TZOFFSETTO:+0200
TZNAME:Europe/Brussels CEST
END:DAYLIGHT
BEGIN:DAYLIGHT
DTSTART:20220327T030000
RDATE:20221030T020000
TZOFFSETFROM:+0100
TZOFFSETTO:+0200
TZNAME:Europe/Brussels CEST
END:DAYLIGHT
BEGIN:DAYLIGHT
DTSTART:20230326T030000
RDATE:20231029T020000
TZOFFSETFROM:+0100
TZOFFSETTO:+0200
TZNAME:Europe/Brussels CEST
END:DAYLIGHT
BEGIN:DAYLIGHT
DTSTART:20240331T030000
RDATE:20241027T020000
TZOFFSETFROM:+0100
TZOFFSETTO:+0200
TZNAME:Europe/Brussels CEST
END:DAYLIGHT
BEGIN:DAYLIGHT
DTSTART:20250330T030000
RDATE:20251026T020000
TZOFFSETFROM:+0100
TZOFFSETTO:+0200
TZNAME:Europe/Brussels CEST
END:DAYLIGHT
BEGIN:DAYLIGHT
DTSTART:20260329T030000
RDATE:20261025T020000
TZOFFSETFROM:+0100
TZOFFSETTO:+0200
TZNAME:Europe/Brussels CEST
END:DAYLIGHT
BEGIN:DAYLIGHT
DTSTART:20270328T030000
RDATE:20271031T020000
TZOFFSETFROM:+0100
TZOFFSETTO:+0200
TZNAME:Europe/Brussels CEST
END:DAYLIGHT
BEGIN:DAYLIGHT
DTSTART:20280326T030000
RDATE:20281029T020000
TZOFFSETFROM:+0100
TZOFFSETTO:+0200
TZNAME:Europe/Brussels CEST
END:DAYLIGHT
BEGIN:DAYLIGHT
DTSTART:20290325T030000
RDATE:20291028T020000
TZOFFSETFROM:+0100
TZOFFSETTO:+0200
TZNAME:Europe/Brussels CEST
END:DAYLIGHT
BEGIN:DAYLIGHT
DTSTART:20300331T030000
RDATE:20301027T020000
TZOFFSETFROM:+0100
TZOFFSETTO:+0200
TZNAME:Europe/Brussels CEST
END:DAYLIGHT
BEGIN:DAYLIGHT
DTSTART:20310330T030000
RDATE:20311026T020000
TZOFFSETFROM:+0100
TZOFFSETTO:+0200
TZNAME:Europe/Brussels CEST
END:DAYLIGHT
BEGIN:DAYLIGHT
DTSTART:20320328T030000
RDATE:20321031T020000
TZOFFSETFROM:+0100
TZOFFSETTO:+0200
TZNAME:Europe/Brussels CEST
END:DAYLIGHT
BEGIN:DAYLIGHT
DTSTART:20330327T030000
RDATE:20331030T020000
TZOFFSETFROM:+0100
TZOFFSETTO:+0200
TZNAME:Europe/Brussels CEST
END:DAYLIGHT
BEGIN:DAYLIGHT
DTSTART:20340326T030000
RDATE:20341029T020000
TZOFFSETFROM:+0100
TZOFFSETTO:+0200
TZNAME:Europe/Brussels CEST
END:DAYLIGHT
BEGIN:DAYLIGHT
DTSTART:20350325T030000
RDATE:20351028T020000
TZOFFSETFROM:+0100
TZOFFSETTO:+0200
TZNAME:Europe/Brussels CEST
END:DAYLIGHT
BEGIN:DAYLIGHT
DTSTART:20360330T030000
RDATE:20361026T020000
TZOFFSETFROM:+0100
TZOFFSETTO:+0200
TZNAME:Europe/Brussels CEST
END:DAYLIGHT
BEGIN:DAYLIGHT
DTSTART:20370329T030000
RDATE:20371025T020000
TZOFFSETFROM:+0100
TZOFFSETTO:+0200
TZNAME:Europe/Brussels CEST
END:DAYLIGHT
END:VTIMEZONE
BEGIN:VEVENT
UID:df76c96de6c693e978739df81d7f143d
CATEGORIES:Formations
CREATED:20211103T140457
SUMMARY:Définir, développer et évaluer des projets dans mon association (J4)
LOCATION:Peuple et culture\, rue du Beau Mur 45\, 4030 Liège
DESCRIPTION:Les 10, 11, 17 et 18 octobre 2022 @ Peuple et Culture rue du Beau Mur 45 – 
 4030 Liège (Grivegnée)\nLa formation vise à outiller les associations dans 
 la définition, le développement et l’évaluation de projets porteurs du sens
  du bien commun et de l’intérêt général.  \nObjectifs\n\n - Appréhender les
  différentes étapes de la conduite d’un projet ;\n - Etablir le plan d’acti
 on et le budget.\n - Evaluer\n - Penser ses pratiques et faire le point sur
  les actions en cours ou déjà réalisées ;Contenus\nLe contenu reprend les d
 ifférentes étapes du projet et son cheminement partant de la construction j
 usqu’à l’évaluation :\n\n - Clarifier son idée ;\n - Dresser un état des li
 eux ;\n - Définir ses objectifs à court, moyen et long terme ;\n - Bâtir le
  plan d’action ;\n - Elaborer le budget prévisionnel ;\n - Rechercher des p
 artenaires ;\n - Déterminer les indicateurs et les critères pour évaluer le
 s résultats obtenus pendant et après l’action.Méthodologie\nLa formation se
  développe sur les projets amenés par les participants, elle alterne des te
 mps d’apports théoriques et des travaux pratiques.\nPublic\nAnimateurs, for
 mateurs, chargés de projet, responsables des secteurs associatifs et des se
 cteurs non marchands publics ou privé.\nPrix\n80€ pour les 4 journées de fo
 rmation remboursable par le Fond 4S pour les travailleurs relevant des CP 3
 29.02 et 329.03\n
X-ALT-DESC;FMTTYPE=text/html:<p><strong>Les 10, 11, 17 et 18 octobre 2022 @ Peuple et Culture rue du Bea
 u Mur 45 – 4030 Liège (Grivegnée)</strong></p><p>La formation vise à outill
 er les associations dans la définition, le développement et l’évaluation de
  projets porteurs du sens du bien commun et de l’intérêt général. &nbsp;</p
 ><p style="text-align: justify;"><strong>Objectifs</strong></p><ul style="t
 ext-align: justify;"><li>Appréhender les différentes étapes de la conduite 
 d’un projet ;</li><li>Etablir le plan d’action et le budget.</li><li>Evalue
 r</li><li>Penser ses pratiques et faire le point sur les actions en cours o
 u déjà réalisées ;</li></ul><p style="text-align: justify;"><strong>Contenu
 s</strong></p><p style="text-align: justify;">Le contenu reprend les différ
 entes étapes du projet et son cheminement partant de la construction jusqu’
 à l’évaluation :</p><ul style="text-align: justify;"><li>Clarifier son idée
  ;</li><li>Dresser un état des lieux ;</li><li>Définir ses objectifs à cour
 t, moyen et long terme ;</li><li>Bâtir le plan d’action ;</li><li>Elaborer 
 le budget prévisionnel ;</li><li>Rechercher des partenaires ;</li><li>Déter
 miner les indicateurs et les critères pour évaluer les résultats obtenus pe
 ndant et après l’action.</li></ul><p style="text-align: justify;"><strong>M
 éthodologie</strong></p><p style="text-align: justify;">La formation se dév
 eloppe sur les projets amenés par les participants, elle alterne des temps 
 d’apports théoriques et des travaux pratiques.</p><p style="text-align: jus
 tify;"><strong>Public</strong></p><p style="text-align: justify;">Animateur
 s, formateurs, chargés de projet, responsables des secteurs associatifs et 
 des secteurs non marchands publics ou privé.</p><p style="text-align: justi
 fy;"><strong>Prix</strong></p><p style="text-align: justify;">80€&nbsp;pour
  les 4 journées de formation remboursable par le Fond 4S pour les travaille
 urs relevant des CP 329.02 et 329.03</p>
CONTACT:Cette adresse e-mail est protégée contre les robots spammeurs. Vous devez activer le JavaScript pour la visualiser.
DTSTAMP:20260420T101214
DTSTART;TZID=Europe/Brussels:20221018T090000
DTEND;TZID=Europe/Brussels:20221018T170000
SEQUENCE:0
TRANSP:OPAQUE
END:VEVENT
END:VCALENDAR