BEGIN:VCALENDAR
VERSION:2.0
PRODID:-//jEvents 2.0 for Joomla//EN
CALSCALE:GREGORIAN
METHOD:PUBLISH
BEGIN:VTIMEZONE
TZID:Europe/Brussels
BEGIN:STANDARD
DTSTART:20210302T180000
RDATE:20210328T030000
TZOFFSETFROM:+0200
TZOFFSETTO:+0100
TZNAME:Europe/Brussels CET
END:STANDARD
BEGIN:STANDARD
DTSTART:20211031T020000
RDATE:20220327T030000
TZOFFSETFROM:+0200
TZOFFSETTO:+0100
TZNAME:Europe/Brussels CET
END:STANDARD
BEGIN:STANDARD
DTSTART:20221030T020000
RDATE:20230326T030000
TZOFFSETFROM:+0200
TZOFFSETTO:+0100
TZNAME:Europe/Brussels CET
END:STANDARD
BEGIN:STANDARD
DTSTART:20231029T020000
RDATE:20240331T030000
TZOFFSETFROM:+0200
TZOFFSETTO:+0100
TZNAME:Europe/Brussels CET
END:STANDARD
BEGIN:STANDARD
DTSTART:20241027T020000
RDATE:20250330T030000
TZOFFSETFROM:+0200
TZOFFSETTO:+0100
TZNAME:Europe/Brussels CET
END:STANDARD
BEGIN:STANDARD
DTSTART:20251026T020000
RDATE:20260329T030000
TZOFFSETFROM:+0200
TZOFFSETTO:+0100
TZNAME:Europe/Brussels CET
END:STANDARD
BEGIN:STANDARD
DTSTART:20261025T020000
RDATE:20270328T030000
TZOFFSETFROM:+0200
TZOFFSETTO:+0100
TZNAME:Europe/Brussels CET
END:STANDARD
BEGIN:STANDARD
DTSTART:20271031T020000
RDATE:20280326T030000
TZOFFSETFROM:+0200
TZOFFSETTO:+0100
TZNAME:Europe/Brussels CET
END:STANDARD
BEGIN:STANDARD
DTSTART:20281029T020000
RDATE:20290325T030000
TZOFFSETFROM:+0200
TZOFFSETTO:+0100
TZNAME:Europe/Brussels CET
END:STANDARD
BEGIN:STANDARD
DTSTART:20291028T020000
RDATE:20300331T030000
TZOFFSETFROM:+0200
TZOFFSETTO:+0100
TZNAME:Europe/Brussels CET
END:STANDARD
BEGIN:STANDARD
DTSTART:20301027T020000
RDATE:20310330T030000
TZOFFSETFROM:+0200
TZOFFSETTO:+0100
TZNAME:Europe/Brussels CET
END:STANDARD
BEGIN:STANDARD
DTSTART:20311026T020000
RDATE:20320328T030000
TZOFFSETFROM:+0200
TZOFFSETTO:+0100
TZNAME:Europe/Brussels CET
END:STANDARD
BEGIN:STANDARD
DTSTART:20321031T020000
RDATE:20330327T030000
TZOFFSETFROM:+0200
TZOFFSETTO:+0100
TZNAME:Europe/Brussels CET
END:STANDARD
BEGIN:STANDARD
DTSTART:20331030T020000
RDATE:20340326T030000
TZOFFSETFROM:+0200
TZOFFSETTO:+0100
TZNAME:Europe/Brussels CET
END:STANDARD
BEGIN:STANDARD
DTSTART:20341029T020000
RDATE:20350325T030000
TZOFFSETFROM:+0200
TZOFFSETTO:+0100
TZNAME:Europe/Brussels CET
END:STANDARD
BEGIN:STANDARD
DTSTART:20351028T020000
RDATE:20360330T030000
TZOFFSETFROM:+0200
TZOFFSETTO:+0100
TZNAME:Europe/Brussels CET
END:STANDARD
BEGIN:STANDARD
DTSTART:20361026T020000
RDATE:20370329T030000
TZOFFSETFROM:+0200
TZOFFSETTO:+0100
TZNAME:Europe/Brussels CET
END:STANDARD
BEGIN:STANDARD
DTSTART:20371025T020000
TZOFFSETFROM:+0200
TZOFFSETTO:+0100
TZNAME:Europe/Brussels CET
END:STANDARD
BEGIN:DAYLIGHT
DTSTART:20210328T030000
RDATE:20211031T020000
TZOFFSETFROM:+0100
TZOFFSETTO:+0200
TZNAME:Europe/Brussels CEST
END:DAYLIGHT
BEGIN:DAYLIGHT
DTSTART:20220327T030000
RDATE:20221030T020000
TZOFFSETFROM:+0100
TZOFFSETTO:+0200
TZNAME:Europe/Brussels CEST
END:DAYLIGHT
BEGIN:DAYLIGHT
DTSTART:20230326T030000
RDATE:20231029T020000
TZOFFSETFROM:+0100
TZOFFSETTO:+0200
TZNAME:Europe/Brussels CEST
END:DAYLIGHT
BEGIN:DAYLIGHT
DTSTART:20240331T030000
RDATE:20241027T020000
TZOFFSETFROM:+0100
TZOFFSETTO:+0200
TZNAME:Europe/Brussels CEST
END:DAYLIGHT
BEGIN:DAYLIGHT
DTSTART:20250330T030000
RDATE:20251026T020000
TZOFFSETFROM:+0100
TZOFFSETTO:+0200
TZNAME:Europe/Brussels CEST
END:DAYLIGHT
BEGIN:DAYLIGHT
DTSTART:20260329T030000
RDATE:20261025T020000
TZOFFSETFROM:+0100
TZOFFSETTO:+0200
TZNAME:Europe/Brussels CEST
END:DAYLIGHT
BEGIN:DAYLIGHT
DTSTART:20270328T030000
RDATE:20271031T020000
TZOFFSETFROM:+0100
TZOFFSETTO:+0200
TZNAME:Europe/Brussels CEST
END:DAYLIGHT
BEGIN:DAYLIGHT
DTSTART:20280326T030000
RDATE:20281029T020000
TZOFFSETFROM:+0100
TZOFFSETTO:+0200
TZNAME:Europe/Brussels CEST
END:DAYLIGHT
BEGIN:DAYLIGHT
DTSTART:20290325T030000
RDATE:20291028T020000
TZOFFSETFROM:+0100
TZOFFSETTO:+0200
TZNAME:Europe/Brussels CEST
END:DAYLIGHT
BEGIN:DAYLIGHT
DTSTART:20300331T030000
RDATE:20301027T020000
TZOFFSETFROM:+0100
TZOFFSETTO:+0200
TZNAME:Europe/Brussels CEST
END:DAYLIGHT
BEGIN:DAYLIGHT
DTSTART:20310330T030000
RDATE:20311026T020000
TZOFFSETFROM:+0100
TZOFFSETTO:+0200
TZNAME:Europe/Brussels CEST
END:DAYLIGHT
BEGIN:DAYLIGHT
DTSTART:20320328T030000
RDATE:20321031T020000
TZOFFSETFROM:+0100
TZOFFSETTO:+0200
TZNAME:Europe/Brussels CEST
END:DAYLIGHT
BEGIN:DAYLIGHT
DTSTART:20330327T030000
RDATE:20331030T020000
TZOFFSETFROM:+0100
TZOFFSETTO:+0200
TZNAME:Europe/Brussels CEST
END:DAYLIGHT
BEGIN:DAYLIGHT
DTSTART:20340326T030000
RDATE:20341029T020000
TZOFFSETFROM:+0100
TZOFFSETTO:+0200
TZNAME:Europe/Brussels CEST
END:DAYLIGHT
BEGIN:DAYLIGHT
DTSTART:20350325T030000
RDATE:20351028T020000
TZOFFSETFROM:+0100
TZOFFSETTO:+0200
TZNAME:Europe/Brussels CEST
END:DAYLIGHT
BEGIN:DAYLIGHT
DTSTART:20360330T030000
RDATE:20361026T020000
TZOFFSETFROM:+0100
TZOFFSETTO:+0200
TZNAME:Europe/Brussels CEST
END:DAYLIGHT
BEGIN:DAYLIGHT
DTSTART:20370329T030000
RDATE:20371025T020000
TZOFFSETFROM:+0100
TZOFFSETTO:+0200
TZNAME:Europe/Brussels CEST
END:DAYLIGHT
END:VTIMEZONE
BEGIN:VEVENT
UID:c6a3e9c09ddb3bd83467343ca5dc58fc
CATEGORIES:Dans le quartier
CREATED:20211122T104512
SUMMARY:Citoyen.ne.s en transition - Régénérer nos écosystèmes et améliorer notre résilience 
LOCATION:Peuple et culture\, rue du Beau Mur 45\, 4030 Liègen
DESCRIPTION:Changement climatique, réduction de la biodiversité, diminution des ressour
 ces naturelles, augmentation des risques environnementaux… Les enjeux liés 
 à notre environnement sont une préoccupation majeure dans nos sociétés.  Il
  en va de l’avenir de notre planète et de ses habitants. Pour pouvoir y app
 orter une réponse efficace, il est nécessaire de repenser en profondeur nos
  modèles économique et social. En quoi consiste la transition écologique et
  solidaire ? Quels sont ses objectifs ? Et que permet-elle ? Comment deveni
 r individuellement et collectivement acteur.trices de cette transition.\nOb
 jectifs : \nLe cycle propose de repenser tout à la fois nos habitudes de co
 nsommation, de production ou encore de cohabitation de manière à réfléchir 
 collectivement les grands enjeux environnementaux de notre siècle.\nFormate
 ur : Stéphan Hoornaert, biologiste moléculaire, biomiméticien et expert en 
 économie circulaire. Il a été chercheur en biologie spatiale, et a mené des
  travaux de recherches expérimentales notamment en neuroscience et en océan
 ographie.  \nCalendrier/contenu  :\nVous avez dit biomimétisme ?\nLe 2 déce
 mbre 2021 de 18h à 19h30 @ Peuple et Culture 45 rue du Beau Mur, 4030 Grive
 gnée\n\nL’humanité fait face à des problèmes critiques, majeurs : perte de 
 biodiversité, changements climatiques, etc. Des solutions existent. Elles s
 ont autour de nous, dans la nature mais nous ne les voyons pas toujours.  D
 epuis près de 4 milliards d’années, l’humanité s’en est inspirée de manière
  plus ou moins consciente : la tour Eiffel, le velcro ou plus récemment le 
 Shinkansen (le TGV japonais) n’en sont que quelques exemples. Comment s’ins
 pirer de la nature pour trouver des solutions à nos problèmes ? C’est ce qu
 e propose le biomimétisme.\nVous prendrez bien une part de DONUT ? \nLe 8 j
 anvier 2022 de 18h à 19h30 @ Peuple et Culture 45 rue du Beau Mur, 4030 Gri
 vegnée\nDans la nature, la notion de « déchet » n’existe pas. Chaque résidu
  d’un organisme est recyclé, réutilisé ou transformé par et pour d’autres o
 rganismes. Le système économique capitaliste ne fonctionne pas du tout de c
 ette manière ; il est essentiellement linéaire. Nous prélevons des ressourc
 es (limitées), les transformons, les vendons et les utilisons puis nous en 
 débarrassons comme déchet.  Cela induit des problèmes massifs : accumulatio
 n de déchets, pollutions, disparitions des écosystèmes, changements climati
 ques, etc. Depuis quelques années, l’économie en DONUT ou économie circulai
 re se développe jusqu’à être adoptée par de grandes entreprises. Comment mé
 tamorphoser nos organisations économiques, sociale et culturelle linéaires 
 en modèles circulaires ?\nRégénérer l’économie en métamorphosant les organi
 sations humaines en organismes économiques vivants.\nLe 3 février 2022 de  
 18h à 19h30 @ Peuple et Culture 45 rue du Beau Mur, 4030 Grivegnée\nNotre s
 ystème économique est essentiellement basé sur 3 croyances : la croissance 
 à tout prix, la compétition et l’opacité. Le modèle capitaliste nous emmène
  peu à peu vers la fin de toutes formes de vie sur Terre. Dans le prolongem
 ent de la transformation de nos organisations linéaires en organisations ci
 rculaires, comment optimiser leur fonctionnement (petites ou grandes) afin 
 de réduire nos impacts environnementaux ?\nL’une des clés du changement de 
 nos organisations est la transformation de nos manières de penser. Nos orga
 nisations humaines sont aujourd’hui très hiérarchisées, pensées et construi
 tes au service du modèle économique capitaliste linéaire. Ce modèle organis
 e nos rapports sociaux qu’il reproduit via des institutions dont notamment 
 l’éducation.  Existent-ils d’autres formes d’organisations plus respectueus
 es de nous-mêmes, des autres et de notre environnement ? Comment nous assur
 ez qu’elles ne produiront pas les mêmes effets ?  Comment nous prémunir de 
 leurs dérives ?\nComment devenir une civilisation de niveau Kardachev-1 ?\n
 Le 3 mars 2022 de 18h à 19h30 @ Peuple et Culture 45 rue du Beau Mur, 4030 
 Grivegnée\nKardachev, un astronome russe, a proposé une échelle permettant 
 de classer différents niveaux de civilisation. La nôtre n’a pas encore atte
 int le niveau 1 sur une échelle de 3. Au vu des difficultés à venir, commen
 t changer notre manière de vivre afin d’éviter l’extinction de toutes forme
 s de vie sur terre, mais aussi afin d’envisager de devenir une civilisation
  multi-planétaire ? \n\n - Vers une autre gestion de l’eau : L’eau est un d
 es besoins essentiels des êtres humains. Une meilleure gestion de celle-ci 
 est donc primordiale. Les récentes inondations catastrophe en Région Wallon
 ne l’illustre si nécessaire. En s’inspirant du fonctionnement de la nature,
  comment pourrions–nous améliorer sa gestion tout en améliorant notre résil
 ience, c’est à dire notre capacité à résister aux chocs à venir ?\n - La pe
 rmaculture et l’agroforesterie pour mieux produire notre nourriture : Perma
 culture, agroforesterie, agroécologie sont quelques exemples de modèles de 
 productions alimentaires alternatives qui ont fait leur preuve mais restent
  sous-estimées. Comment pourrions-nous mieux produire notre nourriture pour
  améliorer la qualité de notre alimentation, augmenter notre résilience et 
 régénérer nos écosystèmes ?\n - Aquaponie : KEZAKO ? L’aquaponie est un mél
 ange d’aquaculture (production de poissons) et d’hydroponie (production de 
 plantes). Elle permet de substantielles optimisations si ces techniques son
 t intégrées de manière écosystémique. Ce système peut être conçu selon diff
 érentes échelles et même s’intégrer dans nos bâtiments. Quels sont ces conc
 epts et comment les intégrer dans notre réalité ?\n - Comment produire l’én
 ergie ? Depuis 150 ans, nous exploitons l’énergie contenue dans le charbon,
  le pétrole et le gaz pour subvenir à nos besoins essentiels - et accessoir
 es. Cette énergie a été accumulée pendant des millions d’années et nous som
 mes en train de la rejeter massivement dans l’atmosphère avec toutes les co
 nséquences climatiques que nous connaissons aujourd’hui. Comment la nature 
 gère-t-elle l’énergie et comment pourrions-nous nous en inspirer afin d’amé
 liorer son utilisation ?Régénérer nos écosystèmes et améliorer notre résili
 ence ?\nLe 7 avril 2022 de 18h à 19h30 @ Peuple et Culture 45 rue du Beau M
 ur, 4030 Grivegnée\n\nComment déployer et faire fonctionner en synergie les
  différents concepts développés afin d’assurer nos besoins essentiels ? Com
 ment cette approche permettrait-elle de régénérer nos écosystèmes ?\nPromen
 ade exploratoire dans le parc des Oblats\nLe 5 mai 2022\nPromenade explorat
 oire pour découvrir des champignons de nos forêts mais surtout pour regarde
 r et comprendre afin d’apprendre de la nature dans de nombreux domaines.\n
X-ALT-DESC;FMTTYPE=text/html:<p>Changement climatique, réduction de la biodiversité, diminution des ress
 ources naturelles, augmentation des risques environnementaux… Les enjeux li
 és à notre environnement sont une préoccupation majeure dans nos sociétés.&
 nbsp; Il en va de l’avenir de notre planète et de ses habitants. Pour pouvo
 ir y apporter une réponse efficace, il est nécessaire de repenser en profon
 deur nos modèles économique et social. En quoi consiste la transition écolo
 gique et solidaire ? Quels sont ses objectifs ? Et que permet-elle ? Commen
 t devenir individuellement et collectivement acteur.trices de cette transit
 ion.</p><p><strong>Objectifs : </strong></p><p>Le cycle propose de repenser
  tout à la fois nos habitudes de consommation, de production ou encore de c
 ohabitation de manière à réfléchir collectivement les grands enjeux environ
 nementaux de notre siècle.</p><p><strong>Formateur :</strong> <em>Stéphan H
 oornaert</em>, biologiste moléculaire, biomiméticien et expert en économie 
 circulaire.&nbsp;Il a été chercheur en biologie spatiale, et a mené des tra
 vaux de recherches expérimentales notamment en neuroscience et en océanogra
 phie. &nbsp;</p><p><strong>Calendrier/contenu&nbsp; :</strong></p><p><stron
 g>Vous avez dit biomimétisme&nbsp;?</strong></p><p><strong>Le 2 décembre 20
 21</strong> <strong>de 18h à 19h30 @ Peuple et Culture 45 rue du Beau Mur, 
 4030 Grivegnée<br /></strong></p><p>L’humanité fait face à des problèmes cr
 itiques, majeurs : perte de biodiversité, changements climatiques, etc. Des
  solutions existent. Elles sont autour de nous, dans la nature mais nous ne
  les voyons pas toujours.&nbsp; Depuis près de 4 milliards d’années, l’huma
 nité s’en est inspirée de manière plus ou moins consciente&nbsp;: la tour E
 iffel, le velcro ou plus récemment le Shinkansen (le TGV japonais) n’en son
 t que quelques exemples. Comment s’inspirer de la nature pour trouver des s
 olutions à nos problèmes&nbsp;? C’est ce que propose le biomimétisme.</p><p
 ><strong>Vous prendrez bien une part de DONUT&nbsp;? </strong></p><p><stron
 g>Le 8 janvier 2022</strong> <strong>de 18h à 19h30&nbsp;<strong>@ Peuple e
 t Culture 45 rue du Beau Mur, 4030 Grivegnée</strong></strong></p><p>Dans l
 a nature, la notion de «&nbsp;déchet&nbsp;» n’existe pas. Chaque résidu d’u
 n organisme est recyclé, réutilisé ou transformé par et pour d’autres organ
 ismes. Le système économique capitaliste ne fonctionne pas du tout de cette
  manière&nbsp;; il est essentiellement linéaire. Nous prélevons des ressour
 ces (limitées), les transformons, les vendons et les utilisons puis nous en
  débarrassons comme déchet.&nbsp; Cela induit des problèmes massifs&nbsp;: 
 accumulation de déchets, pollutions, disparitions des écosystèmes, changeme
 nts climatiques, etc. Depuis quelques années, l’économie en DONUT ou économ
 ie circulaire se développe jusqu’à être adoptée par de grandes entreprises.
  Comment métamorphoser nos organisations économiques, sociale et culturelle
  linéaires en modèles circulaires&nbsp;?</p><p><strong>Régénérer l’économie
  en métamorphosant les organisations humaines en organismes économiques viv
 ants.</strong></p><p><strong>Le 3 février 2022</strong> <strong>de&nbsp; 18
 h à 19h30&nbsp;<strong>@ Peuple et Culture 45 rue du Beau Mur, 4030 Grivegn
 ée</strong></strong></p><p>Notre système économique est essentiellement bas
 é sur 3 croyances : la croissance à tout prix, la compétition et l’opacité.
  Le modèle capitaliste nous emmène peu à peu vers la fin de toutes formes d
 e vie sur Terre. Dans le prolongement de la transformation de nos organisat
 ions linéaires en organisations circulaires, comment optimiser leur fonctio
 nnement (petites ou grandes) afin de réduire nos impacts environnementaux&n
 bsp;?</p><p>L’une des clés du changement de nos organisations est la transf
 ormation de nos manières de penser. Nos organisations humaines sont aujourd
 ’hui très hiérarchisées, pensées et construites au service du modèle économ
 ique capitaliste linéaire. Ce modèle organise nos rapports sociaux qu’il re
 produit via des institutions dont notamment l’éducation.&nbsp; Existent-ils
  d’autres formes d’organisations&nbsp;plus respectueuses de nous-mêmes, des
  autres et de notre environnement ? Comment nous assurez qu’elles ne produi
 ront pas les mêmes effets&nbsp;?&nbsp; Comment nous prémunir de leurs dériv
 es&nbsp;?</p><p><strong>Comment devenir une civilisation de niveau Kardache
 v-1&nbsp;?</strong></p><p><strong>Le 3 mars 2022</strong> <strong>de 18h à 
 19h30&nbsp;<strong>@ Peuple et Culture 45 rue du Beau Mur, 4030 Grivegnée</
 strong></strong></p><p>Kardachev, un astronome russe, a proposé une échelle
  permettant de classer différents niveaux de civilisation. La nôtre n’a pas
  encore atteint le niveau 1 sur une échelle de 3. Au vu des difficultés à v
 enir, comment changer notre manière de vivre afin d’éviter l’extinction de 
 toutes formes de vie sur terre, mais aussi afin d’envisager de devenir une 
 civilisation multi-planétaire ?&nbsp;</p><ul><li>Vers une autre gestion de 
 l’eau&nbsp;: L’eau est un des besoins essentiels des êtres humains. Une mei
 lleure gestion de celle-ci est donc primordiale. Les récentes inondations c
 atastrophe en Région Wallonne l’illustre si nécessaire. En s’inspirant du f
 onctionnement de la nature, comment pourrions–nous améliorer sa gestion tou
 t en améliorant notre résilience, c’est à dire notre capacité à résister au
 x chocs à venir ?</li><li>La permaculture et l’agroforesterie pour mieux pr
 oduire notre nourriture&nbsp;: Permaculture, agroforesterie, agroécologie s
 ont quelques exemples de modèles de productions alimentaires alternatives q
 ui ont fait leur preuve mais restent sous-estimées. Comment pourrions-nous 
 mieux produire notre nourriture pour améliorer la qualité de notre alimenta
 tion, augmenter notre résilience et régénérer nos écosystèmes ?</li><li>Aqu
 aponie&nbsp;: KEZAKO&nbsp;? L’aquaponie est un mélange d’aquaculture (produ
 ction de poissons) et d’hydroponie (production de plantes). Elle permet de 
 substantielles optimisations si ces techniques sont intégrées de manière éc
 osystémique. Ce système peut être conçu selon différentes échelles et même 
 s’intégrer dans nos bâtiments. Quels sont ces concepts et comment les intég
 rer dans notre réalité ?</li><li>Comment produire l’énergie&nbsp;? Depuis 1
 50 ans, nous exploitons l’énergie contenue dans le charbon, le pétrole et l
 e gaz pour subvenir à nos besoins essentiels - et accessoires. Cette énergi
 e a été accumulée pendant des millions d’années et nous sommes en train de 
 la rejeter massivement dans l’atmosphère avec toutes les conséquences clima
 tiques que nous connaissons aujourd’hui. Comment la nature gère-t-elle l’én
 ergie et comment pourrions-nous nous en inspirer afin d’améliorer son utili
 sation ?</li></ul><p><strong>Régénérer nos écosystèmes et améliorer notre r
 ésilience ?</strong></p><p><strong>Le 7 avril 2022 de 18h à 19h30 <strong>@
  Peuple et Culture 45 rue du Beau Mur, 4030 Grivegnée</strong><br /></stron
 g></p><p>Comment déployer et faire fonctionner en synergie les différents c
 oncepts développés afin d’assurer nos besoins essentiels ? Comment cette ap
 proche permettrait-elle de régénérer nos écosystèmes ?</p><p><strong>Promen
 ade exploratoire dans le parc des Oblats</strong></p><p><strong>Le 5 mai 20
 22</strong></p><p>Promenade exploratoire pour découvrir des champignons de 
 nos forêts mais surtout pour regarder et comprendre afin d’apprendre de la 
 nature dans de nombreux domaines.</p>
CONTACT:Cette adresse e-mail est protégée contre les robots spammeurs. Vous devez activer le JavaScript pour la visualiser.
X-EXTRAINFO:Inscription nécessaire
DTSTAMP:20260420T182143
DTSTART;TZID=Europe/Brussels:20220303T180000
DTEND;TZID=Europe/Brussels:20220303T193000
SEQUENCE:0
TRANSP:OPAQUE
END:VEVENT
END:VCALENDAR