BEGIN:VCALENDAR
VERSION:2.0
PRODID:-//jEvents 2.0 for Joomla//EN
CALSCALE:GREGORIAN
METHOD:PUBLISH
BEGIN:VTIMEZONE
TZID:Europe/Brussels
BEGIN:STANDARD
DTSTART:20211123T090000
RDATE:20220327T030000
TZOFFSETFROM:+0200
TZOFFSETTO:+0100
TZNAME:Europe/Brussels CET
END:STANDARD
BEGIN:STANDARD
DTSTART:20221030T020000
RDATE:20230326T030000
TZOFFSETFROM:+0200
TZOFFSETTO:+0100
TZNAME:Europe/Brussels CET
END:STANDARD
BEGIN:STANDARD
DTSTART:20231029T020000
RDATE:20240331T030000
TZOFFSETFROM:+0200
TZOFFSETTO:+0100
TZNAME:Europe/Brussels CET
END:STANDARD
BEGIN:STANDARD
DTSTART:20241027T020000
RDATE:20250330T030000
TZOFFSETFROM:+0200
TZOFFSETTO:+0100
TZNAME:Europe/Brussels CET
END:STANDARD
BEGIN:STANDARD
DTSTART:20251026T020000
RDATE:20260329T030000
TZOFFSETFROM:+0200
TZOFFSETTO:+0100
TZNAME:Europe/Brussels CET
END:STANDARD
BEGIN:STANDARD
DTSTART:20261025T020000
RDATE:20270328T030000
TZOFFSETFROM:+0200
TZOFFSETTO:+0100
TZNAME:Europe/Brussels CET
END:STANDARD
BEGIN:STANDARD
DTSTART:20271031T020000
RDATE:20280326T030000
TZOFFSETFROM:+0200
TZOFFSETTO:+0100
TZNAME:Europe/Brussels CET
END:STANDARD
BEGIN:STANDARD
DTSTART:20281029T020000
RDATE:20290325T030000
TZOFFSETFROM:+0200
TZOFFSETTO:+0100
TZNAME:Europe/Brussels CET
END:STANDARD
BEGIN:STANDARD
DTSTART:20291028T020000
RDATE:20300331T030000
TZOFFSETFROM:+0200
TZOFFSETTO:+0100
TZNAME:Europe/Brussels CET
END:STANDARD
BEGIN:STANDARD
DTSTART:20301027T020000
RDATE:20310330T030000
TZOFFSETFROM:+0200
TZOFFSETTO:+0100
TZNAME:Europe/Brussels CET
END:STANDARD
BEGIN:STANDARD
DTSTART:20311026T020000
RDATE:20320328T030000
TZOFFSETFROM:+0200
TZOFFSETTO:+0100
TZNAME:Europe/Brussels CET
END:STANDARD
BEGIN:STANDARD
DTSTART:20321031T020000
RDATE:20330327T030000
TZOFFSETFROM:+0200
TZOFFSETTO:+0100
TZNAME:Europe/Brussels CET
END:STANDARD
BEGIN:STANDARD
DTSTART:20331030T020000
RDATE:20340326T030000
TZOFFSETFROM:+0200
TZOFFSETTO:+0100
TZNAME:Europe/Brussels CET
END:STANDARD
BEGIN:STANDARD
DTSTART:20341029T020000
RDATE:20350325T030000
TZOFFSETFROM:+0200
TZOFFSETTO:+0100
TZNAME:Europe/Brussels CET
END:STANDARD
BEGIN:STANDARD
DTSTART:20351028T020000
RDATE:20360330T030000
TZOFFSETFROM:+0200
TZOFFSETTO:+0100
TZNAME:Europe/Brussels CET
END:STANDARD
BEGIN:STANDARD
DTSTART:20361026T020000
RDATE:20370329T030000
TZOFFSETFROM:+0200
TZOFFSETTO:+0100
TZNAME:Europe/Brussels CET
END:STANDARD
BEGIN:STANDARD
DTSTART:20371025T020000
TZOFFSETFROM:+0200
TZOFFSETTO:+0100
TZNAME:Europe/Brussels CET
END:STANDARD
BEGIN:DAYLIGHT
DTSTART:20220327T030000
RDATE:20221030T020000
TZOFFSETFROM:+0100
TZOFFSETTO:+0200
TZNAME:Europe/Brussels CEST
END:DAYLIGHT
BEGIN:DAYLIGHT
DTSTART:20230326T030000
RDATE:20231029T020000
TZOFFSETFROM:+0100
TZOFFSETTO:+0200
TZNAME:Europe/Brussels CEST
END:DAYLIGHT
BEGIN:DAYLIGHT
DTSTART:20240331T030000
RDATE:20241027T020000
TZOFFSETFROM:+0100
TZOFFSETTO:+0200
TZNAME:Europe/Brussels CEST
END:DAYLIGHT
BEGIN:DAYLIGHT
DTSTART:20250330T030000
RDATE:20251026T020000
TZOFFSETFROM:+0100
TZOFFSETTO:+0200
TZNAME:Europe/Brussels CEST
END:DAYLIGHT
BEGIN:DAYLIGHT
DTSTART:20260329T030000
RDATE:20261025T020000
TZOFFSETFROM:+0100
TZOFFSETTO:+0200
TZNAME:Europe/Brussels CEST
END:DAYLIGHT
BEGIN:DAYLIGHT
DTSTART:20270328T030000
RDATE:20271031T020000
TZOFFSETFROM:+0100
TZOFFSETTO:+0200
TZNAME:Europe/Brussels CEST
END:DAYLIGHT
BEGIN:DAYLIGHT
DTSTART:20280326T030000
RDATE:20281029T020000
TZOFFSETFROM:+0100
TZOFFSETTO:+0200
TZNAME:Europe/Brussels CEST
END:DAYLIGHT
BEGIN:DAYLIGHT
DTSTART:20290325T030000
RDATE:20291028T020000
TZOFFSETFROM:+0100
TZOFFSETTO:+0200
TZNAME:Europe/Brussels CEST
END:DAYLIGHT
BEGIN:DAYLIGHT
DTSTART:20300331T030000
RDATE:20301027T020000
TZOFFSETFROM:+0100
TZOFFSETTO:+0200
TZNAME:Europe/Brussels CEST
END:DAYLIGHT
BEGIN:DAYLIGHT
DTSTART:20310330T030000
RDATE:20311026T020000
TZOFFSETFROM:+0100
TZOFFSETTO:+0200
TZNAME:Europe/Brussels CEST
END:DAYLIGHT
BEGIN:DAYLIGHT
DTSTART:20320328T030000
RDATE:20321031T020000
TZOFFSETFROM:+0100
TZOFFSETTO:+0200
TZNAME:Europe/Brussels CEST
END:DAYLIGHT
BEGIN:DAYLIGHT
DTSTART:20330327T030000
RDATE:20331030T020000
TZOFFSETFROM:+0100
TZOFFSETTO:+0200
TZNAME:Europe/Brussels CEST
END:DAYLIGHT
BEGIN:DAYLIGHT
DTSTART:20340326T030000
RDATE:20341029T020000
TZOFFSETFROM:+0100
TZOFFSETTO:+0200
TZNAME:Europe/Brussels CEST
END:DAYLIGHT
BEGIN:DAYLIGHT
DTSTART:20350325T030000
RDATE:20351028T020000
TZOFFSETFROM:+0100
TZOFFSETTO:+0200
TZNAME:Europe/Brussels CEST
END:DAYLIGHT
BEGIN:DAYLIGHT
DTSTART:20360330T030000
RDATE:20361026T020000
TZOFFSETFROM:+0100
TZOFFSETTO:+0200
TZNAME:Europe/Brussels CEST
END:DAYLIGHT
BEGIN:DAYLIGHT
DTSTART:20370329T030000
RDATE:20371025T020000
TZOFFSETFROM:+0100
TZOFFSETTO:+0200
TZNAME:Europe/Brussels CEST
END:DAYLIGHT
END:VTIMEZONE
BEGIN:VEVENT
UID:22b7cd356a7ee87c1b52472a77f41343
CATEGORIES:Formations
CREATED:20211211T152536
SUMMARY:Découvrir l’Analyse Institutionnelle (Module 2)
LOCATION:Rue du beau Mur 45 à 4030 Grivegnée (Liège)
DESCRIPTION:<p><strong>Les <strong>26-27-28 OCTOBRE 2022 (module 1) &amp; les 24-25 NOV
 EMBRE 2022 (module 2)</strong>@ Peuple et Culture, rue du Beau Mur, 45, 403
 0 Liège (Grivegnée)</strong></p><p>L'Analyse institutionnelle interroge les
  fondements d’une organisation collective, dans ce qu’elle est, ce qu’elle 
 devrait être et ce qu’elle fait. Nous sommes traversé.e.s par des forces, d
 es tensions qui nous mettent en mouvement et font bouger nos formes d’organ
 isation. Ces rapports de forces peuvent être tantôt constructifs tantôt des
 tructeurs, tantôt bloqués, tantôt accélérés. L’Analyse Institutionnelle nou
 s invite à questionner les allant de soi, les banalités et les évidences, l
 ieux privilégiés des rapports de forces et de pouvoirs qui ne disent pas le
 ur nom et qui déterminent pourtant bon nombre de situations. Les analyser n
 ous permet d’une part, de comprendre ce qui agit à plusieurs échelles, dans
  notre société, dans nos collectifs, dans nos structures, comme dans l’inti
 me de chacun.e.</p><p><strong>Objectifs&nbsp;</strong></p><p>Ce stage d'ini
 tiation à l’Analyse institutionnelle est une invitation à saisir ces forces
  en mouvement pour retrouver des marges de manœuvre, reprendre prise sur le
  réel concret de nos situations, permettre des transformations avec un éven
 tail de possibles plus éclairés.</p><p><strong>Contenu</strong></p><p>Nous 
 travaillerons à partir de la notion d’institution (qui ne se confond pas av
 ec le sens commun d’établissement ou de grands appareils nationaux ou inter
 nationaux!) qui en analyse institutionnelle est un concept dynamique permet
 tant d’envisager l’organisation comme « mouvement ». Nous braconnerons dans
  les outils théoriques et pratiques de l’analyse institutionnelle pour que 
 chacun-e puisse se les approprier.</p><p><strong>Méthodologie&nbsp;</strong
 ></p><p>Lors de ce stage, nous proposons que le groupe de formation puisse 
 être aussi l'objet d'une analyse collective. Le dispositif de formation et 
 le vécu du groupe sera donc un support concret d’expérimentation. Nous part
 irons notamment des demandes des participant.e.s, de ce qui les questionne,
  de ce qui fait tension chez elleux, de ce avec quoi ielles arrivent, de ce
  pourquoi on est là.</p><p><strong>Public&nbsp;</strong></p><p>Cette format
 ion s’adresse à toute personne curieuse de découvrir et de s'essayer à mani
 puler les principes et grilles de lecture de l'analyse institutionnelle, po
 ur comprendre et agir aussi bien dans son quotidien que dans une organisati
 on collective définie (groupes affinitaires, structures professionnelles ou
  militantes), sans expérience préalable requise. Elle s’adresse également à
  des intervenant.es ou accompagnateur.ices du champs de l’éducation, du soc
 ial, du soin ou du culturel et qui souhaitent questionner leur posture de t
 ravail et leur rapport à leur « public ».</p><p><strong>Formateur.ices :</s
 trong> Magali Arnould et Emmanuel Esser</p><p><strong>Prix</strong></p><p>3
 00€ (remboursable par le fonds 4S pour les travailleurs.euses relevant des 
 CP 329.02 ET 329.03)</p><p>Si les frais d’inscription sont un frein à votre
  participation, n’hésitez surtout pas à nous contacter !</p><p><strong>Rens
 eignement :</strong> <span id="cloak6e034442cc7f8fd1edf02c4c40aebe0d"><joom
 la-hidden-mail  is-link="1" is-email="1" first="bWFnYWxpLmFybm91bGQ=" last=
 "cGV1cGxlLWV0LWN1bHR1cmUtd2IuYmU=" text="bWFnYWxpLmFybm91bGRAcGV1cGxlLWV0LW
 N1bHR1cmUtd2IuYmU=" base="" >Cette adresse e-mail est protégée contre les r
 obots spammeurs. Vous devez activer le JavaScript pour la visualiser.</joom
 la-hidden-mail></span></p><p>&nbsp;</p>
CONTACT:Cette adresse e-mail est protégée contre les robots spammeurs. Vous devez activer le JavaScript pour la visualiser.
DTSTAMP:20260420T090143
DTSTART;TZID=Europe/Brussels:20221124T090000
DTEND;TZID=Europe/Brussels:20221125T170000
SEQUENCE:0
TRANSP:OPAQUE
END:VEVENT
END:VCALENDAR