BEGIN:VCALENDAR
VERSION:2.0
PRODID:-//jEvents 2.0 for Joomla//EN
CALSCALE:GREGORIAN
METHOD:PUBLISH
BEGIN:VTIMEZONE
TZID:Europe/Brussels
BEGIN:STANDARD
DTSTART:20211031T020000
RDATE:20220327T030000
TZOFFSETFROM:+0200
TZOFFSETTO:+0100
TZNAME:Europe/Brussels CET
END:STANDARD
BEGIN:STANDARD
DTSTART:20221030T020000
RDATE:20230326T030000
TZOFFSETFROM:+0200
TZOFFSETTO:+0100
TZNAME:Europe/Brussels CET
END:STANDARD
BEGIN:STANDARD
DTSTART:20231029T020000
RDATE:20240331T030000
TZOFFSETFROM:+0200
TZOFFSETTO:+0100
TZNAME:Europe/Brussels CET
END:STANDARD
BEGIN:STANDARD
DTSTART:20241027T020000
RDATE:20250330T030000
TZOFFSETFROM:+0200
TZOFFSETTO:+0100
TZNAME:Europe/Brussels CET
END:STANDARD
BEGIN:STANDARD
DTSTART:20251026T020000
RDATE:20260329T030000
TZOFFSETFROM:+0200
TZOFFSETTO:+0100
TZNAME:Europe/Brussels CET
END:STANDARD
BEGIN:STANDARD
DTSTART:20261025T020000
RDATE:20270328T030000
TZOFFSETFROM:+0200
TZOFFSETTO:+0100
TZNAME:Europe/Brussels CET
END:STANDARD
BEGIN:STANDARD
DTSTART:20271031T020000
RDATE:20280326T030000
TZOFFSETFROM:+0200
TZOFFSETTO:+0100
TZNAME:Europe/Brussels CET
END:STANDARD
BEGIN:STANDARD
DTSTART:20281029T020000
RDATE:20290325T030000
TZOFFSETFROM:+0200
TZOFFSETTO:+0100
TZNAME:Europe/Brussels CET
END:STANDARD
BEGIN:STANDARD
DTSTART:20291028T020000
RDATE:20300331T030000
TZOFFSETFROM:+0200
TZOFFSETTO:+0100
TZNAME:Europe/Brussels CET
END:STANDARD
BEGIN:STANDARD
DTSTART:20301027T020000
RDATE:20310330T030000
TZOFFSETFROM:+0200
TZOFFSETTO:+0100
TZNAME:Europe/Brussels CET
END:STANDARD
BEGIN:STANDARD
DTSTART:20311026T020000
RDATE:20320328T030000
TZOFFSETFROM:+0200
TZOFFSETTO:+0100
TZNAME:Europe/Brussels CET
END:STANDARD
BEGIN:STANDARD
DTSTART:20321031T020000
RDATE:20330327T030000
TZOFFSETFROM:+0200
TZOFFSETTO:+0100
TZNAME:Europe/Brussels CET
END:STANDARD
BEGIN:STANDARD
DTSTART:20331030T020000
RDATE:20340326T030000
TZOFFSETFROM:+0200
TZOFFSETTO:+0100
TZNAME:Europe/Brussels CET
END:STANDARD
BEGIN:STANDARD
DTSTART:20341029T020000
RDATE:20350325T030000
TZOFFSETFROM:+0200
TZOFFSETTO:+0100
TZNAME:Europe/Brussels CET
END:STANDARD
BEGIN:STANDARD
DTSTART:20351028T020000
RDATE:20360330T030000
TZOFFSETFROM:+0200
TZOFFSETTO:+0100
TZNAME:Europe/Brussels CET
END:STANDARD
BEGIN:STANDARD
DTSTART:20361026T020000
RDATE:20370329T030000
TZOFFSETFROM:+0200
TZOFFSETTO:+0100
TZNAME:Europe/Brussels CET
END:STANDARD
BEGIN:STANDARD
DTSTART:20371025T020000
TZOFFSETFROM:+0200
TZOFFSETTO:+0100
TZNAME:Europe/Brussels CET
END:STANDARD
BEGIN:DAYLIGHT
DTSTART:20210612T090000
RDATE:20211031T020000
TZOFFSETFROM:+0100
TZOFFSETTO:+0200
TZNAME:Europe/Brussels CEST
END:DAYLIGHT
BEGIN:DAYLIGHT
DTSTART:20220327T030000
RDATE:20221030T020000
TZOFFSETFROM:+0100
TZOFFSETTO:+0200
TZNAME:Europe/Brussels CEST
END:DAYLIGHT
BEGIN:DAYLIGHT
DTSTART:20230326T030000
RDATE:20231029T020000
TZOFFSETFROM:+0100
TZOFFSETTO:+0200
TZNAME:Europe/Brussels CEST
END:DAYLIGHT
BEGIN:DAYLIGHT
DTSTART:20240331T030000
RDATE:20241027T020000
TZOFFSETFROM:+0100
TZOFFSETTO:+0200
TZNAME:Europe/Brussels CEST
END:DAYLIGHT
BEGIN:DAYLIGHT
DTSTART:20250330T030000
RDATE:20251026T020000
TZOFFSETFROM:+0100
TZOFFSETTO:+0200
TZNAME:Europe/Brussels CEST
END:DAYLIGHT
BEGIN:DAYLIGHT
DTSTART:20260329T030000
RDATE:20261025T020000
TZOFFSETFROM:+0100
TZOFFSETTO:+0200
TZNAME:Europe/Brussels CEST
END:DAYLIGHT
BEGIN:DAYLIGHT
DTSTART:20270328T030000
RDATE:20271031T020000
TZOFFSETFROM:+0100
TZOFFSETTO:+0200
TZNAME:Europe/Brussels CEST
END:DAYLIGHT
BEGIN:DAYLIGHT
DTSTART:20280326T030000
RDATE:20281029T020000
TZOFFSETFROM:+0100
TZOFFSETTO:+0200
TZNAME:Europe/Brussels CEST
END:DAYLIGHT
BEGIN:DAYLIGHT
DTSTART:20290325T030000
RDATE:20291028T020000
TZOFFSETFROM:+0100
TZOFFSETTO:+0200
TZNAME:Europe/Brussels CEST
END:DAYLIGHT
BEGIN:DAYLIGHT
DTSTART:20300331T030000
RDATE:20301027T020000
TZOFFSETFROM:+0100
TZOFFSETTO:+0200
TZNAME:Europe/Brussels CEST
END:DAYLIGHT
BEGIN:DAYLIGHT
DTSTART:20310330T030000
RDATE:20311026T020000
TZOFFSETFROM:+0100
TZOFFSETTO:+0200
TZNAME:Europe/Brussels CEST
END:DAYLIGHT
BEGIN:DAYLIGHT
DTSTART:20320328T030000
RDATE:20321031T020000
TZOFFSETFROM:+0100
TZOFFSETTO:+0200
TZNAME:Europe/Brussels CEST
END:DAYLIGHT
BEGIN:DAYLIGHT
DTSTART:20330327T030000
RDATE:20331030T020000
TZOFFSETFROM:+0100
TZOFFSETTO:+0200
TZNAME:Europe/Brussels CEST
END:DAYLIGHT
BEGIN:DAYLIGHT
DTSTART:20340326T030000
RDATE:20341029T020000
TZOFFSETFROM:+0100
TZOFFSETTO:+0200
TZNAME:Europe/Brussels CEST
END:DAYLIGHT
BEGIN:DAYLIGHT
DTSTART:20350325T030000
RDATE:20351028T020000
TZOFFSETFROM:+0100
TZOFFSETTO:+0200
TZNAME:Europe/Brussels CEST
END:DAYLIGHT
BEGIN:DAYLIGHT
DTSTART:20360330T030000
RDATE:20361026T020000
TZOFFSETFROM:+0100
TZOFFSETTO:+0200
TZNAME:Europe/Brussels CEST
END:DAYLIGHT
BEGIN:DAYLIGHT
DTSTART:20370329T030000
RDATE:20371025T020000
TZOFFSETFROM:+0100
TZOFFSETTO:+0200
TZNAME:Europe/Brussels CEST
END:DAYLIGHT
END:VTIMEZONE
BEGIN:VEVENT
UID:7eaa1a6587080fc9aafea4386f7bd108
CATEGORIES:Formations
CREATED:20211211T152616
SUMMARY:Découvrir l’Analyse Institutionnelle
DESCRIPTION:<p>L'Analyse institutionnelle interroge les fondements d’une organisation c
 ollective, dans ce qu’elle est, ce qu’elle devrait être et ce qu’elle fait.
  Nous sommes traversé.e.s par des forces, des tensions qui nous mettent en 
 mouvement et font bouger nos formes d’organisation. Ces rapports de forces 
 peuvent être tantôt constructifs tantôt destructeurs, tantôt bloqués, tantô
 t accélérés. L’Analyse Institutionnelle nous invite à questionner les allan
 t de soi, les banalités et les évidences, lieux privilégiés des rapports de
  forces et de pouvoirs qui ne disent pas leur nom et qui déterminent pourta
 nt bon nombre de situations. Les analyser nous permet d’une part, de compre
 ndre ce qui agit à plusieurs échelles, dans notre société, dans nos collect
 ifs, dans nos structures, comme dans l’intime de chacun.e.</p><p><strong>Ob
 jectifs&nbsp;</strong></p><p>Ce stage d'initiation à l’Analyse institutionn
 elle est une invitation à saisir ces forces en mouvement pour retrouver des
  marges de manœuvre, reprendre prise sur le réel concret de nos situations,
  permettre des transformations avec un éventail de possibles plus éclairés.
 </p><p><strong>Contenu</strong></p><p>Nous travaillerons à partir de la not
 ion d’institution (qui ne se confond pas avec le sens commun d’établissemen
 t ou de grands appareils nationaux ou internationaux!) qui en analyse insti
 tutionnelle est un concept dynamique permettant d’envisager l’organisation 
 comme « mouvement ». Nous braconnerons dans les outils théoriques et pratiq
 ues de l’analyse institutionnelle pour que chacun-e puisse se les approprie
 r.</p><p><strong>Méthodologie&nbsp;</strong></p><p>Lors de ce stage, nous p
 roposons que le groupe de formation puisse être aussi l'objet d'une analyse
  collective. Le dispositif de formation et le vécu du groupe sera donc un s
 upport concret d’expérimentation. Nous partirons notamment des demandes des
  participant.e.s, de ce qui les questionne, de ce qui fait tension chez ell
 eux, de ce avec quoi ielles arrivent, de ce pourquoi on est là.</p><p><stro
 ng>Public&nbsp;</strong></p><p>Cette formation s’adresse à toute personne c
 urieuse de découvrir et de s'essayer à manipuler les principes et grilles d
 e lecture de l'analyse institutionnelle, pour comprendre et agir aussi bien
  dans son quotidien que dans une organisation collective définie (groupes a
 ffinitaires, structures professionnelles ou militantes), sans expérience pr
 éalable requise. Elle s’adresse également à des intervenant.es ou accompagn
 ateur.ices du champs de l’éducation, du social, du soin ou du culturel et q
 ui souhaitent questionner leur posture de travail et leur rapport à leur « 
 public ».</p><p><strong>Formateur.ices :</strong> Magali Arnould et Emmanue
 l Esser</p><p><strong>Prix</strong></p><p>300€ (remboursable par le fonds 4
 S pour les travailleurs.euses relevant des CP 329.02 ET 329.03)</p><p>Si le
 s frais d’inscription sont un frein à votre participation, n’hésitez surtou
 t pas à nous contacter !</p><p><strong>Renseignement :</strong> <span id="c
 loak6e034442cc7f8fd1edf02c4c40aebe0d"><joomla-hidden-mail  is-link="1" is-e
 mail="1" first="bWFnYWxpLmFybm91bGQ=" last="cGV1cGxlLWV0LWN1bHR1cmUtd2IuYmU
 =" text="bWFnYWxpLmFybm91bGRAcGV1cGxlLWV0LWN1bHR1cmUtd2IuYmU=" base="" >Cet
 te adresse e-mail est protégée contre les robots spammeurs. Vous devez acti
 ver le JavaScript pour la visualiser.</joomla-hidden-mail></span></p><p><st
 rong><a href="http://www.peuple-et-culture-wb.be/index.php?option=com_rsfor
 m&amp;view=rsform&amp;formId=1&amp;Itemid=158">Inscriptions</a></strong></p
 >
DTSTAMP:20260420T144227
DTSTART;TZID=Europe/Brussels:20220613T090000
DTEND;TZID=Europe/Brussels:20220614T170000
SEQUENCE:0
TRANSP:OPAQUE
END:VEVENT
END:VCALENDAR