BEGIN:VCALENDAR
VERSION:2.0
PRODID:-//jEvents 2.0 for Joomla//EN
CALSCALE:GREGORIAN
METHOD:PUBLISH
BEGIN:VTIMEZONE
TZID:Europe/Brussels
BEGIN:STANDARD
DTSTART:20210105T180000
RDATE:20210328T030000
TZOFFSETFROM:+0200
TZOFFSETTO:+0100
TZNAME:Europe/Brussels CET
END:STANDARD
BEGIN:STANDARD
DTSTART:20211031T020000
RDATE:20220327T030000
TZOFFSETFROM:+0200
TZOFFSETTO:+0100
TZNAME:Europe/Brussels CET
END:STANDARD
BEGIN:STANDARD
DTSTART:20221030T020000
RDATE:20230326T030000
TZOFFSETFROM:+0200
TZOFFSETTO:+0100
TZNAME:Europe/Brussels CET
END:STANDARD
BEGIN:STANDARD
DTSTART:20231029T020000
RDATE:20240331T030000
TZOFFSETFROM:+0200
TZOFFSETTO:+0100
TZNAME:Europe/Brussels CET
END:STANDARD
BEGIN:STANDARD
DTSTART:20241027T020000
RDATE:20250330T030000
TZOFFSETFROM:+0200
TZOFFSETTO:+0100
TZNAME:Europe/Brussels CET
END:STANDARD
BEGIN:STANDARD
DTSTART:20251026T020000
RDATE:20260329T030000
TZOFFSETFROM:+0200
TZOFFSETTO:+0100
TZNAME:Europe/Brussels CET
END:STANDARD
BEGIN:STANDARD
DTSTART:20261025T020000
RDATE:20270328T030000
TZOFFSETFROM:+0200
TZOFFSETTO:+0100
TZNAME:Europe/Brussels CET
END:STANDARD
BEGIN:STANDARD
DTSTART:20271031T020000
RDATE:20280326T030000
TZOFFSETFROM:+0200
TZOFFSETTO:+0100
TZNAME:Europe/Brussels CET
END:STANDARD
BEGIN:STANDARD
DTSTART:20281029T020000
RDATE:20290325T030000
TZOFFSETFROM:+0200
TZOFFSETTO:+0100
TZNAME:Europe/Brussels CET
END:STANDARD
BEGIN:STANDARD
DTSTART:20291028T020000
RDATE:20300331T030000
TZOFFSETFROM:+0200
TZOFFSETTO:+0100
TZNAME:Europe/Brussels CET
END:STANDARD
BEGIN:STANDARD
DTSTART:20301027T020000
RDATE:20310330T030000
TZOFFSETFROM:+0200
TZOFFSETTO:+0100
TZNAME:Europe/Brussels CET
END:STANDARD
BEGIN:STANDARD
DTSTART:20311026T020000
RDATE:20320328T030000
TZOFFSETFROM:+0200
TZOFFSETTO:+0100
TZNAME:Europe/Brussels CET
END:STANDARD
BEGIN:STANDARD
DTSTART:20321031T020000
RDATE:20330327T030000
TZOFFSETFROM:+0200
TZOFFSETTO:+0100
TZNAME:Europe/Brussels CET
END:STANDARD
BEGIN:STANDARD
DTSTART:20331030T020000
RDATE:20340326T030000
TZOFFSETFROM:+0200
TZOFFSETTO:+0100
TZNAME:Europe/Brussels CET
END:STANDARD
BEGIN:STANDARD
DTSTART:20341029T020000
RDATE:20350325T030000
TZOFFSETFROM:+0200
TZOFFSETTO:+0100
TZNAME:Europe/Brussels CET
END:STANDARD
BEGIN:STANDARD
DTSTART:20351028T020000
RDATE:20360330T030000
TZOFFSETFROM:+0200
TZOFFSETTO:+0100
TZNAME:Europe/Brussels CET
END:STANDARD
BEGIN:STANDARD
DTSTART:20361026T020000
RDATE:20370329T030000
TZOFFSETFROM:+0200
TZOFFSETTO:+0100
TZNAME:Europe/Brussels CET
END:STANDARD
BEGIN:STANDARD
DTSTART:20371025T020000
TZOFFSETFROM:+0200
TZOFFSETTO:+0100
TZNAME:Europe/Brussels CET
END:STANDARD
BEGIN:DAYLIGHT
DTSTART:20210328T030000
RDATE:20211031T020000
TZOFFSETFROM:+0100
TZOFFSETTO:+0200
TZNAME:Europe/Brussels CEST
END:DAYLIGHT
BEGIN:DAYLIGHT
DTSTART:20220327T030000
RDATE:20221030T020000
TZOFFSETFROM:+0100
TZOFFSETTO:+0200
TZNAME:Europe/Brussels CEST
END:DAYLIGHT
BEGIN:DAYLIGHT
DTSTART:20230326T030000
RDATE:20231029T020000
TZOFFSETFROM:+0100
TZOFFSETTO:+0200
TZNAME:Europe/Brussels CEST
END:DAYLIGHT
BEGIN:DAYLIGHT
DTSTART:20240331T030000
RDATE:20241027T020000
TZOFFSETFROM:+0100
TZOFFSETTO:+0200
TZNAME:Europe/Brussels CEST
END:DAYLIGHT
BEGIN:DAYLIGHT
DTSTART:20250330T030000
RDATE:20251026T020000
TZOFFSETFROM:+0100
TZOFFSETTO:+0200
TZNAME:Europe/Brussels CEST
END:DAYLIGHT
BEGIN:DAYLIGHT
DTSTART:20260329T030000
RDATE:20261025T020000
TZOFFSETFROM:+0100
TZOFFSETTO:+0200
TZNAME:Europe/Brussels CEST
END:DAYLIGHT
BEGIN:DAYLIGHT
DTSTART:20270328T030000
RDATE:20271031T020000
TZOFFSETFROM:+0100
TZOFFSETTO:+0200
TZNAME:Europe/Brussels CEST
END:DAYLIGHT
BEGIN:DAYLIGHT
DTSTART:20280326T030000
RDATE:20281029T020000
TZOFFSETFROM:+0100
TZOFFSETTO:+0200
TZNAME:Europe/Brussels CEST
END:DAYLIGHT
BEGIN:DAYLIGHT
DTSTART:20290325T030000
RDATE:20291028T020000
TZOFFSETFROM:+0100
TZOFFSETTO:+0200
TZNAME:Europe/Brussels CEST
END:DAYLIGHT
BEGIN:DAYLIGHT
DTSTART:20300331T030000
RDATE:20301027T020000
TZOFFSETFROM:+0100
TZOFFSETTO:+0200
TZNAME:Europe/Brussels CEST
END:DAYLIGHT
BEGIN:DAYLIGHT
DTSTART:20310330T030000
RDATE:20311026T020000
TZOFFSETFROM:+0100
TZOFFSETTO:+0200
TZNAME:Europe/Brussels CEST
END:DAYLIGHT
BEGIN:DAYLIGHT
DTSTART:20320328T030000
RDATE:20321031T020000
TZOFFSETFROM:+0100
TZOFFSETTO:+0200
TZNAME:Europe/Brussels CEST
END:DAYLIGHT
BEGIN:DAYLIGHT
DTSTART:20330327T030000
RDATE:20331030T020000
TZOFFSETFROM:+0100
TZOFFSETTO:+0200
TZNAME:Europe/Brussels CEST
END:DAYLIGHT
BEGIN:DAYLIGHT
DTSTART:20340326T030000
RDATE:20341029T020000
TZOFFSETFROM:+0100
TZOFFSETTO:+0200
TZNAME:Europe/Brussels CEST
END:DAYLIGHT
BEGIN:DAYLIGHT
DTSTART:20350325T030000
RDATE:20351028T020000
TZOFFSETFROM:+0100
TZOFFSETTO:+0200
TZNAME:Europe/Brussels CEST
END:DAYLIGHT
BEGIN:DAYLIGHT
DTSTART:20360330T030000
RDATE:20361026T020000
TZOFFSETFROM:+0100
TZOFFSETTO:+0200
TZNAME:Europe/Brussels CEST
END:DAYLIGHT
BEGIN:DAYLIGHT
DTSTART:20370329T030000
RDATE:20371025T020000
TZOFFSETFROM:+0100
TZOFFSETTO:+0200
TZNAME:Europe/Brussels CEST
END:DAYLIGHT
END:VTIMEZONE
BEGIN:VEVENT
UID:401cdabed5e0a3231d8c6605477b3d79
CATEGORIES:Activités
CREATED:20211214T093927
SUMMARY:Foire d'Empoigne : Fascisme et mouvement social
LOCATION:CC Kali - rue Saint-Thomas\, 32 à Liège
DESCRIPTION:<h5>Réservation obligatoire !<br /> par mail – <span class="gI"><span data-
 hovercard-id="&lt;a href=" peuple-et-culture-wb=""><joomla-hidden-mail  is-
 link="1" is-email="1" first="bWFnYWxpLmFybm91bGQ=" last="cGV1cGxlLWV0LWN1bH
 R1cmUtd2IuYmU=" text="bWFnYWxpLmFybm91bGRAcGV1cGxlLWV0LWN1bHR1cmUtd2IuYmU="
  base=""  target="_self">Cette adresse e-mail est protégée contre les robot
 s spammeurs. Vous devez activer le JavaScript pour la visualiser.</joomla-h
 idden-mail> <br /> par sms – 0486/833.835</span></span></h5><h4>La polémiqu
 e !</h4><p>Concernant la manifestation du 21 novembre 2021 «&nbsp;Ensemble/
 Marche pour la liberté&nbsp;» ayant réuni 35 000 personnes dans les rues de
  Bruxelles, les avis, analyses, regards, semblent partagés….</p><p>Pour cer
 tain.es : accepter de marcher au côté de l’extrême droite est un point de n
 on retour ; accepter de dialoguer avec des personnes qui s’affichent avec l
 ’extrême droite équivaut à jouer leur jeu ; le slogan ‘Dictature Sanitaire’
  est un slogan d’extrême droite…</p><p>Pour d’autres : les personnes qui ma
 nifestent le font avant tout parce qu’ils sont en colère et non sous le mot
  d’ordre de l’extrême droite ; la gauche qui critique ce mouvement social a
 dopte une posture de mépris et condescendante ; diaboliser ce mouvement cit
 oyen c’est faire le jeu du gouvernement…</p><h4><strong>Alors….</strong></h
 4><p><b>Le mouvement citoyen de contestation contre le CST et l’obligation 
 vaccinale fait-il le lit du fascisme ?<br /> La critique de ce mouvement se
  rend-elle complice du mode de gestion du gouvernement&nbsp;?</b></p>
X-ALT-DESC;FMTTYPE=text/html:<h5>Réservation obligatoire !<br /> par mail – <span class="gI"><span data-
 hovercard-id="&lt;a href="https://peuple-et-culture-wb.be/ peuple-et-cultur
 e-wb=""><joomla-hidden-mail  is-link="1" is-email="1" first="bWFnYWxpLmFybm
 91bGQ=" last="cGV1cGxlLWV0LWN1bHR1cmUtd2IuYmU=" text="bWFnYWxpLmFybm91bGRAc
 GV1cGxlLWV0LWN1bHR1cmUtd2IuYmU=" base=""  target="_self">Cette adresse e-ma
 il est protégée contre les robots spammeurs. Vous devez activer le JavaScri
 pt pour la visualiser.</joomla-hidden-mail> <br /> par sms – 0486/833.835</
 span></span></h5><h4>La polémique !</h4><p>Concernant la manifestation du 2
 1 novembre 2021 «&nbsp;Ensemble/Marche pour la liberté&nbsp;» ayant réuni 3
 5 000 personnes dans les rues de Bruxelles, les avis, analyses, regards, se
 mblent partagés….</p><p>Pour certain.es : accepter de marcher au côté de l’
 extrême droite est un point de non retour ; accepter de dialoguer avec des 
 personnes qui s’affichent avec l’extrême droite équivaut à jouer leur jeu ;
  le slogan ‘Dictature Sanitaire’ est un slogan d’extrême droite…</p><p>Pour
  d’autres : les personnes qui manifestent le font avant tout parce qu’ils s
 ont en colère et non sous le mot d’ordre de l’extrême droite ; la gauche qu
 i critique ce mouvement social adopte une posture de mépris et condescendan
 te ; diaboliser ce mouvement citoyen c’est faire le jeu du gouvernement…</p
 ><h4><strong>Alors….</strong></h4><p><b>Le mouvement citoyen de contestatio
 n contre le CST et l’obligation vaccinale fait-il le lit du fascisme ?<br /
 > La critique de ce mouvement se rend-elle complice du mode de gestion du g
 ouvernement&nbsp;?</b></p>
CONTACT:Cette adresse e-mail est protégée contre les robots spammeurs. Vous devez activer le JavaScript pour la visualiser.
DTSTAMP:20260420T220217
DTSTART;TZID=Europe/Brussels:20220106T180000
DTEND;TZID=Europe/Brussels:20220106T203000
SEQUENCE:0
TRANSP:OPAQUE
END:VEVENT
END:VCALENDAR