BEGIN:VCALENDAR
VERSION:2.0
PRODID:-//jEvents 2.0 for Joomla//EN
CALSCALE:GREGORIAN
METHOD:PUBLISH
BEGIN:VTIMEZONE
TZID:Europe/Brussels
BEGIN:STANDARD
DTSTART:20211031T020000
RDATE:20220327T030000
TZOFFSETFROM:+0200
TZOFFSETTO:+0100
TZNAME:Europe/Brussels CET
END:STANDARD
BEGIN:STANDARD
DTSTART:20221030T020000
RDATE:20230326T030000
TZOFFSETFROM:+0200
TZOFFSETTO:+0100
TZNAME:Europe/Brussels CET
END:STANDARD
BEGIN:STANDARD
DTSTART:20231029T020000
RDATE:20240331T030000
TZOFFSETFROM:+0200
TZOFFSETTO:+0100
TZNAME:Europe/Brussels CET
END:STANDARD
BEGIN:STANDARD
DTSTART:20241027T020000
RDATE:20250330T030000
TZOFFSETFROM:+0200
TZOFFSETTO:+0100
TZNAME:Europe/Brussels CET
END:STANDARD
BEGIN:STANDARD
DTSTART:20251026T020000
RDATE:20260329T030000
TZOFFSETFROM:+0200
TZOFFSETTO:+0100
TZNAME:Europe/Brussels CET
END:STANDARD
BEGIN:STANDARD
DTSTART:20261025T020000
RDATE:20270328T030000
TZOFFSETFROM:+0200
TZOFFSETTO:+0100
TZNAME:Europe/Brussels CET
END:STANDARD
BEGIN:STANDARD
DTSTART:20271031T020000
RDATE:20280326T030000
TZOFFSETFROM:+0200
TZOFFSETTO:+0100
TZNAME:Europe/Brussels CET
END:STANDARD
BEGIN:STANDARD
DTSTART:20281029T020000
RDATE:20290325T030000
TZOFFSETFROM:+0200
TZOFFSETTO:+0100
TZNAME:Europe/Brussels CET
END:STANDARD
BEGIN:STANDARD
DTSTART:20291028T020000
RDATE:20300331T030000
TZOFFSETFROM:+0200
TZOFFSETTO:+0100
TZNAME:Europe/Brussels CET
END:STANDARD
BEGIN:STANDARD
DTSTART:20301027T020000
RDATE:20310330T030000
TZOFFSETFROM:+0200
TZOFFSETTO:+0100
TZNAME:Europe/Brussels CET
END:STANDARD
BEGIN:STANDARD
DTSTART:20311026T020000
RDATE:20320328T030000
TZOFFSETFROM:+0200
TZOFFSETTO:+0100
TZNAME:Europe/Brussels CET
END:STANDARD
BEGIN:STANDARD
DTSTART:20321031T020000
RDATE:20330327T030000
TZOFFSETFROM:+0200
TZOFFSETTO:+0100
TZNAME:Europe/Brussels CET
END:STANDARD
BEGIN:STANDARD
DTSTART:20331030T020000
RDATE:20340326T030000
TZOFFSETFROM:+0200
TZOFFSETTO:+0100
TZNAME:Europe/Brussels CET
END:STANDARD
BEGIN:STANDARD
DTSTART:20341029T020000
RDATE:20350325T030000
TZOFFSETFROM:+0200
TZOFFSETTO:+0100
TZNAME:Europe/Brussels CET
END:STANDARD
BEGIN:STANDARD
DTSTART:20351028T020000
RDATE:20360330T030000
TZOFFSETFROM:+0200
TZOFFSETTO:+0100
TZNAME:Europe/Brussels CET
END:STANDARD
BEGIN:STANDARD
DTSTART:20361026T020000
RDATE:20370329T030000
TZOFFSETFROM:+0200
TZOFFSETTO:+0100
TZNAME:Europe/Brussels CET
END:STANDARD
BEGIN:STANDARD
DTSTART:20371025T020000
TZOFFSETFROM:+0200
TZOFFSETTO:+0100
TZNAME:Europe/Brussels CET
END:STANDARD
BEGIN:DAYLIGHT
DTSTART:20210426T093000
RDATE:20211031T020000
TZOFFSETFROM:+0100
TZOFFSETTO:+0200
TZNAME:Europe/Brussels CEST
END:DAYLIGHT
BEGIN:DAYLIGHT
DTSTART:20220327T030000
RDATE:20221030T020000
TZOFFSETFROM:+0100
TZOFFSETTO:+0200
TZNAME:Europe/Brussels CEST
END:DAYLIGHT
BEGIN:DAYLIGHT
DTSTART:20230326T030000
RDATE:20231029T020000
TZOFFSETFROM:+0100
TZOFFSETTO:+0200
TZNAME:Europe/Brussels CEST
END:DAYLIGHT
BEGIN:DAYLIGHT
DTSTART:20240331T030000
RDATE:20241027T020000
TZOFFSETFROM:+0100
TZOFFSETTO:+0200
TZNAME:Europe/Brussels CEST
END:DAYLIGHT
BEGIN:DAYLIGHT
DTSTART:20250330T030000
RDATE:20251026T020000
TZOFFSETFROM:+0100
TZOFFSETTO:+0200
TZNAME:Europe/Brussels CEST
END:DAYLIGHT
BEGIN:DAYLIGHT
DTSTART:20260329T030000
RDATE:20261025T020000
TZOFFSETFROM:+0100
TZOFFSETTO:+0200
TZNAME:Europe/Brussels CEST
END:DAYLIGHT
BEGIN:DAYLIGHT
DTSTART:20270328T030000
RDATE:20271031T020000
TZOFFSETFROM:+0100
TZOFFSETTO:+0200
TZNAME:Europe/Brussels CEST
END:DAYLIGHT
BEGIN:DAYLIGHT
DTSTART:20280326T030000
RDATE:20281029T020000
TZOFFSETFROM:+0100
TZOFFSETTO:+0200
TZNAME:Europe/Brussels CEST
END:DAYLIGHT
BEGIN:DAYLIGHT
DTSTART:20290325T030000
RDATE:20291028T020000
TZOFFSETFROM:+0100
TZOFFSETTO:+0200
TZNAME:Europe/Brussels CEST
END:DAYLIGHT
BEGIN:DAYLIGHT
DTSTART:20300331T030000
RDATE:20301027T020000
TZOFFSETFROM:+0100
TZOFFSETTO:+0200
TZNAME:Europe/Brussels CEST
END:DAYLIGHT
BEGIN:DAYLIGHT
DTSTART:20310330T030000
RDATE:20311026T020000
TZOFFSETFROM:+0100
TZOFFSETTO:+0200
TZNAME:Europe/Brussels CEST
END:DAYLIGHT
BEGIN:DAYLIGHT
DTSTART:20320328T030000
RDATE:20321031T020000
TZOFFSETFROM:+0100
TZOFFSETTO:+0200
TZNAME:Europe/Brussels CEST
END:DAYLIGHT
BEGIN:DAYLIGHT
DTSTART:20330327T030000
RDATE:20331030T020000
TZOFFSETFROM:+0100
TZOFFSETTO:+0200
TZNAME:Europe/Brussels CEST
END:DAYLIGHT
BEGIN:DAYLIGHT
DTSTART:20340326T030000
RDATE:20341029T020000
TZOFFSETFROM:+0100
TZOFFSETTO:+0200
TZNAME:Europe/Brussels CEST
END:DAYLIGHT
BEGIN:DAYLIGHT
DTSTART:20350325T030000
RDATE:20351028T020000
TZOFFSETFROM:+0100
TZOFFSETTO:+0200
TZNAME:Europe/Brussels CEST
END:DAYLIGHT
BEGIN:DAYLIGHT
DTSTART:20360330T030000
RDATE:20361026T020000
TZOFFSETFROM:+0100
TZOFFSETTO:+0200
TZNAME:Europe/Brussels CEST
END:DAYLIGHT
BEGIN:DAYLIGHT
DTSTART:20370329T030000
RDATE:20371025T020000
TZOFFSETFROM:+0100
TZOFFSETTO:+0200
TZNAME:Europe/Brussels CEST
END:DAYLIGHT
END:VTIMEZONE
BEGIN:VEVENT
UID:319d0d93b116f1adcfb62edd95b9a84c
CATEGORIES:Formations
CREATED:20211216T165455
SUMMARY:Inscrire les ateliers d'écriture dans les visées de l'éducation populaire
LOCATION:@Peuple et Culture\, rue du Beau Mur 45\, 4030 Liège (Grivegnée)
DESCRIPTION:ObjectifsLa formation vise à permettre aux participants d'acquérir expérien
 ces, connaissances et compétences pour concevoir, animer et évaluer des ate
 liers où l'écriture est un tremplin vers la construction d'une pensée socio
 -politique collective.\nLe dispositif prévoit des temps d'accompagnement de
 s participants autour des questionnements suivants :\n- L'écriture : moyen 
 d'expression accessible à chacun.e ? Déconstruction des représentations et 
 construction collective du sens donné au terme "écrire" dans le champ de l'
 éducation permanente.\n- Comment induire un cadre collectif permettant la l
 iberté d'expression écrite et son partage oral? Quelles valeurs à l'oeuvre?
  Faut-il les nommer? Le groupe doit-il y adhérer?\n- Quelles méthodologies 
 pour favoriser l'interaction entre les textes individuels et la discussion 
 collective au départ des contenus ? Points de vigilance à respecter en term
 e d'animation.\n- Comment formuler des consignes d'écriture ouvrant les por
 tes vers les expressions et les analyses sociopolitiques? Les récits indivi
 duels sont-ils toujours traversés par les enjeux sociétaux?\n- Comment favo
 riser l'expérimentation de l'écriture comme support de contestation sociale
 ?\n- Quels espaces publics pour quelles formes d'interventions écrites?\nMé
 thodologieLes méthodologies et les pédagogies s'inscrivent en rupture avec 
 le modèle scolaire et requièrent une implication active des participant.es.
 \nPublicTravailleur.euse.s salarié.e.s ou bénévoles des secteurs associatif
  ou non marchand public et privé travaillant avec des groupes d’adultes ou 
 de jeunes.\nPrix100 €\nContactMarie-Ève Maréchal : 0474 / 81.22.63 Cette ad
 resse e-mail est protégée contre les robots spammeurs. Vous devez activer l
 e JavaScript pour la visualiser.\n
X-ALT-DESC;FMTTYPE=text/html:<h4 lang="fr-FR">Objectifs</h4><p lang="fr-FR">La formation vise à permettr
 e aux participants d'acquérir expériences, connaissances et compétences pou
 r concevoir, animer et évaluer des ateliers où l'écriture est un tremplin v
 ers la construction d'une pensée socio-politique collective.</p><p lang="fr
 -FR">Le dispositif prévoit des temps d'accompagnement des participants auto
 ur des questionnements suivants :</p><p lang="fr-FR">- L'écriture : moyen d
 'expression accessible à chacun.e ? Déconstruction des représentations et c
 onstruction collective du sens donné au terme "écrire" dans le champ de l'é
 ducation permanente.</p><p lang="fr-FR">- Comment induire un cadre collecti
 f permettant la liberté d'expression écrite et son partage oral? Quelles va
 leurs à l'oeuvre? Faut-il les nommer? Le groupe doit-il y adhérer?</p><p la
 ng="fr-FR">- Quelles méthodologies pour favoriser l'interaction entre les t
 extes individuels et la discussion collective au départ des contenus ? Poin
 ts de vigilance à respecter en terme d'animation.</p><p lang="fr-FR">- Comm
 ent formuler des consignes d'écriture ouvrant les portes vers les expressio
 ns et les analyses sociopolitiques? Les récits individuels sont-ils toujour
 s traversés par les enjeux sociétaux?</p><p lang="fr-FR">- Comment favorise
 r l'expérimentation de l'écriture comme support de contestation sociale?</p
 ><p lang="fr-FR">- Quels espaces publics pour quelles formes d'intervention
 s écrites?</p><h4 lang="fr-FR">Méthodologie</h4><p lang="fr-FR">Les méthodo
 logies et les pédagogies s'inscrivent en rupture avec le modèle scolaire et
  requièrent une implication active des participant.es.</p><h4 lang="fr-FR">
 Public</h4><p lang="fr-FR">Travailleur.euse.s salarié.e.s ou bénévoles des 
 secteurs associatif ou non marchand public et privé travaillant avec des gr
 oupes d’adultes ou de jeunes.</p><h4 lang="fr-FR">Prix</h4><p>100 €</p><h4>
 Contact</h4><p>Marie-Ève Maréchal : 0474 / 81.22.63 <span id="cloakcfe77a9c
 5d2e60bca14446b4678722b8"><joomla-hidden-mail  is-link="1" is-email="1" fir
 st="bWFyaWUtZXZlLm1hcmVjaGFs" last="cGV1cGxlLWV0LWN1bHR1cmUtd2IuYmU=" text=
 "bWFyaWUtZXZlLm1hcmVjaGFsQHBldXBsZS1ldC1jdWx0dXJlLXdiLmJl" base="" >Cette a
 dresse e-mail est protégée contre les robots spammeurs. Vous devez activer 
 le JavaScript pour la visualiser.</joomla-hidden-mail></span></p>
CONTACT:Marie-Eve Maréchal 0474/812263  Cette adresse e-mail est protégée contre les robots spammeurs. Vous devez activer le JavaScript pour la visualiser.
DTSTAMP:20260420T170607
DTSTART;TZID=Europe/Brussels:20220427T093000
DTEND;TZID=Europe/Brussels:20220428T170000
SEQUENCE:0
TRANSP:OPAQUE
END:VEVENT
END:VCALENDAR