BEGIN:VCALENDAR
VERSION:2.0
PRODID:-//jEvents 2.0 for Joomla//EN
CALSCALE:GREGORIAN
METHOD:PUBLISH
BEGIN:VTIMEZONE
TZID:Europe/Brussels
BEGIN:STANDARD
DTSTART:20210321T093000
RDATE:20210328T030000
TZOFFSETFROM:+0200
TZOFFSETTO:+0100
TZNAME:Europe/Brussels CET
END:STANDARD
BEGIN:STANDARD
DTSTART:20211031T020000
RDATE:20220327T030000
TZOFFSETFROM:+0200
TZOFFSETTO:+0100
TZNAME:Europe/Brussels CET
END:STANDARD
BEGIN:STANDARD
DTSTART:20221030T020000
RDATE:20230326T030000
TZOFFSETFROM:+0200
TZOFFSETTO:+0100
TZNAME:Europe/Brussels CET
END:STANDARD
BEGIN:STANDARD
DTSTART:20231029T020000
RDATE:20240331T030000
TZOFFSETFROM:+0200
TZOFFSETTO:+0100
TZNAME:Europe/Brussels CET
END:STANDARD
BEGIN:STANDARD
DTSTART:20241027T020000
RDATE:20250330T030000
TZOFFSETFROM:+0200
TZOFFSETTO:+0100
TZNAME:Europe/Brussels CET
END:STANDARD
BEGIN:STANDARD
DTSTART:20251026T020000
RDATE:20260329T030000
TZOFFSETFROM:+0200
TZOFFSETTO:+0100
TZNAME:Europe/Brussels CET
END:STANDARD
BEGIN:STANDARD
DTSTART:20261025T020000
RDATE:20270328T030000
TZOFFSETFROM:+0200
TZOFFSETTO:+0100
TZNAME:Europe/Brussels CET
END:STANDARD
BEGIN:STANDARD
DTSTART:20271031T020000
RDATE:20280326T030000
TZOFFSETFROM:+0200
TZOFFSETTO:+0100
TZNAME:Europe/Brussels CET
END:STANDARD
BEGIN:STANDARD
DTSTART:20281029T020000
RDATE:20290325T030000
TZOFFSETFROM:+0200
TZOFFSETTO:+0100
TZNAME:Europe/Brussels CET
END:STANDARD
BEGIN:STANDARD
DTSTART:20291028T020000
RDATE:20300331T030000
TZOFFSETFROM:+0200
TZOFFSETTO:+0100
TZNAME:Europe/Brussels CET
END:STANDARD
BEGIN:STANDARD
DTSTART:20301027T020000
RDATE:20310330T030000
TZOFFSETFROM:+0200
TZOFFSETTO:+0100
TZNAME:Europe/Brussels CET
END:STANDARD
BEGIN:STANDARD
DTSTART:20311026T020000
RDATE:20320328T030000
TZOFFSETFROM:+0200
TZOFFSETTO:+0100
TZNAME:Europe/Brussels CET
END:STANDARD
BEGIN:STANDARD
DTSTART:20321031T020000
RDATE:20330327T030000
TZOFFSETFROM:+0200
TZOFFSETTO:+0100
TZNAME:Europe/Brussels CET
END:STANDARD
BEGIN:STANDARD
DTSTART:20331030T020000
RDATE:20340326T030000
TZOFFSETFROM:+0200
TZOFFSETTO:+0100
TZNAME:Europe/Brussels CET
END:STANDARD
BEGIN:STANDARD
DTSTART:20341029T020000
RDATE:20350325T030000
TZOFFSETFROM:+0200
TZOFFSETTO:+0100
TZNAME:Europe/Brussels CET
END:STANDARD
BEGIN:STANDARD
DTSTART:20351028T020000
RDATE:20360330T030000
TZOFFSETFROM:+0200
TZOFFSETTO:+0100
TZNAME:Europe/Brussels CET
END:STANDARD
BEGIN:STANDARD
DTSTART:20361026T020000
RDATE:20370329T030000
TZOFFSETFROM:+0200
TZOFFSETTO:+0100
TZNAME:Europe/Brussels CET
END:STANDARD
BEGIN:STANDARD
DTSTART:20371025T020000
TZOFFSETFROM:+0200
TZOFFSETTO:+0100
TZNAME:Europe/Brussels CET
END:STANDARD
BEGIN:DAYLIGHT
DTSTART:20210328T030000
RDATE:20211031T020000
TZOFFSETFROM:+0100
TZOFFSETTO:+0200
TZNAME:Europe/Brussels CEST
END:DAYLIGHT
BEGIN:DAYLIGHT
DTSTART:20220327T030000
RDATE:20221030T020000
TZOFFSETFROM:+0100
TZOFFSETTO:+0200
TZNAME:Europe/Brussels CEST
END:DAYLIGHT
BEGIN:DAYLIGHT
DTSTART:20230326T030000
RDATE:20231029T020000
TZOFFSETFROM:+0100
TZOFFSETTO:+0200
TZNAME:Europe/Brussels CEST
END:DAYLIGHT
BEGIN:DAYLIGHT
DTSTART:20240331T030000
RDATE:20241027T020000
TZOFFSETFROM:+0100
TZOFFSETTO:+0200
TZNAME:Europe/Brussels CEST
END:DAYLIGHT
BEGIN:DAYLIGHT
DTSTART:20250330T030000
RDATE:20251026T020000
TZOFFSETFROM:+0100
TZOFFSETTO:+0200
TZNAME:Europe/Brussels CEST
END:DAYLIGHT
BEGIN:DAYLIGHT
DTSTART:20260329T030000
RDATE:20261025T020000
TZOFFSETFROM:+0100
TZOFFSETTO:+0200
TZNAME:Europe/Brussels CEST
END:DAYLIGHT
BEGIN:DAYLIGHT
DTSTART:20270328T030000
RDATE:20271031T020000
TZOFFSETFROM:+0100
TZOFFSETTO:+0200
TZNAME:Europe/Brussels CEST
END:DAYLIGHT
BEGIN:DAYLIGHT
DTSTART:20280326T030000
RDATE:20281029T020000
TZOFFSETFROM:+0100
TZOFFSETTO:+0200
TZNAME:Europe/Brussels CEST
END:DAYLIGHT
BEGIN:DAYLIGHT
DTSTART:20290325T030000
RDATE:20291028T020000
TZOFFSETFROM:+0100
TZOFFSETTO:+0200
TZNAME:Europe/Brussels CEST
END:DAYLIGHT
BEGIN:DAYLIGHT
DTSTART:20300331T030000
RDATE:20301027T020000
TZOFFSETFROM:+0100
TZOFFSETTO:+0200
TZNAME:Europe/Brussels CEST
END:DAYLIGHT
BEGIN:DAYLIGHT
DTSTART:20310330T030000
RDATE:20311026T020000
TZOFFSETFROM:+0100
TZOFFSETTO:+0200
TZNAME:Europe/Brussels CEST
END:DAYLIGHT
BEGIN:DAYLIGHT
DTSTART:20320328T030000
RDATE:20321031T020000
TZOFFSETFROM:+0100
TZOFFSETTO:+0200
TZNAME:Europe/Brussels CEST
END:DAYLIGHT
BEGIN:DAYLIGHT
DTSTART:20330327T030000
RDATE:20331030T020000
TZOFFSETFROM:+0100
TZOFFSETTO:+0200
TZNAME:Europe/Brussels CEST
END:DAYLIGHT
BEGIN:DAYLIGHT
DTSTART:20340326T030000
RDATE:20341029T020000
TZOFFSETFROM:+0100
TZOFFSETTO:+0200
TZNAME:Europe/Brussels CEST
END:DAYLIGHT
BEGIN:DAYLIGHT
DTSTART:20350325T030000
RDATE:20351028T020000
TZOFFSETFROM:+0100
TZOFFSETTO:+0200
TZNAME:Europe/Brussels CEST
END:DAYLIGHT
BEGIN:DAYLIGHT
DTSTART:20360330T030000
RDATE:20361026T020000
TZOFFSETFROM:+0100
TZOFFSETTO:+0200
TZNAME:Europe/Brussels CEST
END:DAYLIGHT
BEGIN:DAYLIGHT
DTSTART:20370329T030000
RDATE:20371025T020000
TZOFFSETFROM:+0100
TZOFFSETTO:+0200
TZNAME:Europe/Brussels CEST
END:DAYLIGHT
END:VTIMEZONE
BEGIN:VEVENT
UID:27ea6ff3112ae2eacef411d42565e09f
CATEGORIES:Formations
CREATED:20211216T165737
SUMMARY:Quelles pratiques pour dynamiser la démocratie culturelle aujourd'hui ?
LOCATION:@Peuple et Culture 45 rue du Beau Mur 4030 Liège (Grivegnée)
DESCRIPTION:ObjectifsEn amont de l'appel à projet "Osons la démocratie culturelle", la 
 formation vise à accompagner les associations à identifier et s'approprier 
 les spécificités inhérentes aux processus s'inscrivant dans les visées de l
 a démocratie culturelle de façon à être plus à même de définir leur projet 
 dans le cadre de l'appel provincial.\nLe dispositif prévoit d'aborder :\n- 
 L'approche historique de la démocratie culturelle\n- L'état actuel des prat
 iques visant la démocratie culturelle\n- Les spécificités des méthodologies
  et pédagogies permettant de développer la démocratie culturelle. En quoi l
 a pensée critique et politique des acteurs.trices est-elle indissociable de
  la démocratie culturelle? Dans quels champs évolue-t-elle? Selon quelle te
 mporalité? Quelles formes revêt-t-elle? Quels critères d'évaluation?\nMétho
 dologieLes méthodologies et les pédagogies s'inscrivent en rupture avec le 
 modèle scolaire et requièrent une implication active des participant.es.\nP
 ublicTravailleur.euse.s salarié.e.s ou bénévoles des secteurs associatif ou
  non marchand public et privé travaillant avec des groupes d’adultes ou de 
 jeunes.\nContactCette adresse e-mail est protégée contre les robots spammeu
 rs. Vous devez activer le JavaScript pour la visualiser. - 0474/81.22.63\nP
 rix 150€\nInscriptions (http://www.peuple-et-culture-wb.be/index.php?option
 =com_rsform&amp;view=rsform&amp;formId=1&amp;Itemid=158)\n
X-ALT-DESC;FMTTYPE=text/html:<h4 lang="fr-FR">Objectifs</h4><p lang="fr-FR">En amont de l'appel à projet
  "Osons la démocratie culturelle", la formation vise à accompagner les asso
 ciations à identifier et s'approprier les spécificités inhérentes aux proce
 ssus s'inscrivant dans les visées de la démocratie culturelle de façon à êt
 re plus à même de définir leur projet dans le cadre de l'appel provincial.<
 /p><p lang="fr-FR">Le dispositif prévoit d'aborder :</p><p lang="fr-FR">- L
 'approche historique de la démocratie culturelle</p><p lang="fr-FR">- L'éta
 t actuel des pratiques visant la démocratie culturelle</p><p lang="fr-FR">-
  Les spécificités des méthodologies et pédagogies permettant de développer 
 la démocratie culturelle. En quoi la pensée critique et politique des acteu
 rs.trices est-elle indissociable de la démocratie culturelle? Dans quels ch
 amps évolue-t-elle? Selon quelle temporalité? Quelles formes revêt-t-elle? 
 Quels critères d'évaluation?</p><h4 lang="fr-FR">Méthodologie</h4><p lang="
 fr-FR">Les méthodologies et les pédagogies s'inscrivent en rupture avec le 
 modèle scolaire et requièrent une implication active des participant.es.</p
 ><h4 lang="fr-FR">Public</h4><p lang="fr-FR">Travailleur.euse.s salarié.e.s
  ou bénévoles des secteurs associatif ou non marchand public et privé trava
 illant avec des groupes d’adultes ou de jeunes.</p><h4 lang="fr-FR">Contact
 </h4><p lang="fr-FR"><span id="cloakdefd89c49922d3aafcb0733fe7faf11a"><joom
 la-hidden-mail  is-link="1" is-email="1" first="bWFyaWUtZXZlLm1hcmVjaGFs" l
 ast="cGV1cGxlLWV0LWN1bHR1cmUtd2IuYmU=" text="bWFyaWUtZXZlLm1hcmVjaGFsQHBldX
 BsZS1ldC1jdWx0dXJlLXdiLmJl" base="" >Cette adresse e-mail est protégée cont
 re les robots spammeurs. Vous devez activer le JavaScript pour la visualise
 r.</joomla-hidden-mail></span> - 0474/81.22.63</p><h4 lang="fr-FR">Prix&nbs
 p;</h4><p lang="fr-FR">150€</p><p><a href="http://www.peuple-et-culture-wb.
 be/index.php?option=com_rsform&amp;view=rsform&amp;formId=1&amp;Itemid=158"
 ><strong>Inscriptions</strong></a></p>
CONTACT:Marie-Eve Maréchal 0474/812263  Cette adresse e-mail est protégée contre les robots spammeurs. Vous devez activer le JavaScript pour la visualiser.
DTSTAMP:20260420T182137
DTSTART;TZID=Europe/Brussels:20220322T093000
DTEND;TZID=Europe/Brussels:20220324T170000
SEQUENCE:0
TRANSP:OPAQUE
END:VEVENT
END:VCALENDAR