BEGIN:VCALENDAR
VERSION:2.0
PRODID:-//jEvents 2.0 for Joomla//EN
CALSCALE:GREGORIAN
METHOD:PUBLISH
BEGIN:VTIMEZONE
TZID:Europe/Brussels
BEGIN:STANDARD
DTSTART:20211031T020000
RDATE:20220327T030000
TZOFFSETFROM:+0200
TZOFFSETTO:+0100
TZNAME:Europe/Brussels CET
END:STANDARD
BEGIN:STANDARD
DTSTART:20221030T020000
RDATE:20230326T030000
TZOFFSETFROM:+0200
TZOFFSETTO:+0100
TZNAME:Europe/Brussels CET
END:STANDARD
BEGIN:STANDARD
DTSTART:20231029T020000
RDATE:20240331T030000
TZOFFSETFROM:+0200
TZOFFSETTO:+0100
TZNAME:Europe/Brussels CET
END:STANDARD
BEGIN:STANDARD
DTSTART:20241027T020000
RDATE:20250330T030000
TZOFFSETFROM:+0200
TZOFFSETTO:+0100
TZNAME:Europe/Brussels CET
END:STANDARD
BEGIN:STANDARD
DTSTART:20251026T020000
RDATE:20260329T030000
TZOFFSETFROM:+0200
TZOFFSETTO:+0100
TZNAME:Europe/Brussels CET
END:STANDARD
BEGIN:STANDARD
DTSTART:20261025T020000
RDATE:20270328T030000
TZOFFSETFROM:+0200
TZOFFSETTO:+0100
TZNAME:Europe/Brussels CET
END:STANDARD
BEGIN:STANDARD
DTSTART:20271031T020000
RDATE:20280326T030000
TZOFFSETFROM:+0200
TZOFFSETTO:+0100
TZNAME:Europe/Brussels CET
END:STANDARD
BEGIN:STANDARD
DTSTART:20281029T020000
RDATE:20290325T030000
TZOFFSETFROM:+0200
TZOFFSETTO:+0100
TZNAME:Europe/Brussels CET
END:STANDARD
BEGIN:STANDARD
DTSTART:20291028T020000
RDATE:20300331T030000
TZOFFSETFROM:+0200
TZOFFSETTO:+0100
TZNAME:Europe/Brussels CET
END:STANDARD
BEGIN:STANDARD
DTSTART:20301027T020000
RDATE:20310330T030000
TZOFFSETFROM:+0200
TZOFFSETTO:+0100
TZNAME:Europe/Brussels CET
END:STANDARD
BEGIN:STANDARD
DTSTART:20311026T020000
RDATE:20320328T030000
TZOFFSETFROM:+0200
TZOFFSETTO:+0100
TZNAME:Europe/Brussels CET
END:STANDARD
BEGIN:STANDARD
DTSTART:20321031T020000
RDATE:20330327T030000
TZOFFSETFROM:+0200
TZOFFSETTO:+0100
TZNAME:Europe/Brussels CET
END:STANDARD
BEGIN:STANDARD
DTSTART:20331030T020000
RDATE:20340326T030000
TZOFFSETFROM:+0200
TZOFFSETTO:+0100
TZNAME:Europe/Brussels CET
END:STANDARD
BEGIN:STANDARD
DTSTART:20341029T020000
RDATE:20350325T030000
TZOFFSETFROM:+0200
TZOFFSETTO:+0100
TZNAME:Europe/Brussels CET
END:STANDARD
BEGIN:STANDARD
DTSTART:20351028T020000
RDATE:20360330T030000
TZOFFSETFROM:+0200
TZOFFSETTO:+0100
TZNAME:Europe/Brussels CET
END:STANDARD
BEGIN:STANDARD
DTSTART:20361026T020000
RDATE:20370329T030000
TZOFFSETFROM:+0200
TZOFFSETTO:+0100
TZNAME:Europe/Brussels CET
END:STANDARD
BEGIN:STANDARD
DTSTART:20371025T020000
TZOFFSETFROM:+0200
TZOFFSETTO:+0100
TZNAME:Europe/Brussels CET
END:STANDARD
BEGIN:DAYLIGHT
DTSTART:20210424T090000
RDATE:20211031T020000
TZOFFSETFROM:+0100
TZOFFSETTO:+0200
TZNAME:Europe/Brussels CEST
END:DAYLIGHT
BEGIN:DAYLIGHT
DTSTART:20220327T030000
RDATE:20221030T020000
TZOFFSETFROM:+0100
TZOFFSETTO:+0200
TZNAME:Europe/Brussels CEST
END:DAYLIGHT
BEGIN:DAYLIGHT
DTSTART:20230326T030000
RDATE:20231029T020000
TZOFFSETFROM:+0100
TZOFFSETTO:+0200
TZNAME:Europe/Brussels CEST
END:DAYLIGHT
BEGIN:DAYLIGHT
DTSTART:20240331T030000
RDATE:20241027T020000
TZOFFSETFROM:+0100
TZOFFSETTO:+0200
TZNAME:Europe/Brussels CEST
END:DAYLIGHT
BEGIN:DAYLIGHT
DTSTART:20250330T030000
RDATE:20251026T020000
TZOFFSETFROM:+0100
TZOFFSETTO:+0200
TZNAME:Europe/Brussels CEST
END:DAYLIGHT
BEGIN:DAYLIGHT
DTSTART:20260329T030000
RDATE:20261025T020000
TZOFFSETFROM:+0100
TZOFFSETTO:+0200
TZNAME:Europe/Brussels CEST
END:DAYLIGHT
BEGIN:DAYLIGHT
DTSTART:20270328T030000
RDATE:20271031T020000
TZOFFSETFROM:+0100
TZOFFSETTO:+0200
TZNAME:Europe/Brussels CEST
END:DAYLIGHT
BEGIN:DAYLIGHT
DTSTART:20280326T030000
RDATE:20281029T020000
TZOFFSETFROM:+0100
TZOFFSETTO:+0200
TZNAME:Europe/Brussels CEST
END:DAYLIGHT
BEGIN:DAYLIGHT
DTSTART:20290325T030000
RDATE:20291028T020000
TZOFFSETFROM:+0100
TZOFFSETTO:+0200
TZNAME:Europe/Brussels CEST
END:DAYLIGHT
BEGIN:DAYLIGHT
DTSTART:20300331T030000
RDATE:20301027T020000
TZOFFSETFROM:+0100
TZOFFSETTO:+0200
TZNAME:Europe/Brussels CEST
END:DAYLIGHT
BEGIN:DAYLIGHT
DTSTART:20310330T030000
RDATE:20311026T020000
TZOFFSETFROM:+0100
TZOFFSETTO:+0200
TZNAME:Europe/Brussels CEST
END:DAYLIGHT
BEGIN:DAYLIGHT
DTSTART:20320328T030000
RDATE:20321031T020000
TZOFFSETFROM:+0100
TZOFFSETTO:+0200
TZNAME:Europe/Brussels CEST
END:DAYLIGHT
BEGIN:DAYLIGHT
DTSTART:20330327T030000
RDATE:20331030T020000
TZOFFSETFROM:+0100
TZOFFSETTO:+0200
TZNAME:Europe/Brussels CEST
END:DAYLIGHT
BEGIN:DAYLIGHT
DTSTART:20340326T030000
RDATE:20341029T020000
TZOFFSETFROM:+0100
TZOFFSETTO:+0200
TZNAME:Europe/Brussels CEST
END:DAYLIGHT
BEGIN:DAYLIGHT
DTSTART:20350325T030000
RDATE:20351028T020000
TZOFFSETFROM:+0100
TZOFFSETTO:+0200
TZNAME:Europe/Brussels CEST
END:DAYLIGHT
BEGIN:DAYLIGHT
DTSTART:20360330T030000
RDATE:20361026T020000
TZOFFSETFROM:+0100
TZOFFSETTO:+0200
TZNAME:Europe/Brussels CEST
END:DAYLIGHT
BEGIN:DAYLIGHT
DTSTART:20370329T030000
RDATE:20371025T020000
TZOFFSETFROM:+0100
TZOFFSETTO:+0200
TZNAME:Europe/Brussels CEST
END:DAYLIGHT
END:VTIMEZONE
BEGIN:VEVENT
UID:300d636acb7e1519f882e9137ed5e70a
CATEGORIES:Formations
CREATED:20220124T172534
SUMMARY:Formation La circulaire ministérielle du 7 mars 2018: repères pour une autoévaluation de l’action des associations d’Education permanente [J1] 
LOCATION:Peuple et culture\, rue du Beau Mur 45\, 4030 Liège
DESCRIPTION:La circulaire ministérielle du 7 mars 2018: repères pour une autoévaluation
  de l’action des associations d’Education permanenteLes 25 et 26 avril 2022
  de 9h à 17h à l'Espace Cacérès de Peuple et Culture\nLe cadre décrétal pro
 pre au champ de l’Education permanente a connu en 2019 des modifications  i
 mportantes qui vont, dans les prochaines années,  influencer en profondeur 
 les conditions de reconnaissance, de fonctionnement, de contrôle et d’évalu
 ation de l’ensemble de ses acteurs.\nOpérationnalisant les principes qui en
  régissent désormais l’application, une série de dispositions nouvelles por
 tent notamment sur l’exigence qualitative à laquelle doivent répondre les p
 rojets développés ainsi que sur l’autoévaluation (précédemment incluse dans
  le rapport général d’exécution) venant éclairer l’action générale des asso
 ciations d’Education permanente durant chaque période quinquennale concerné
 e.\nA cette fin, l’auto-évaluation portera sur la mise en œuvre, par chaque
  association,  de l’article 1er du Décret.\nC’est le cadre de cette auto-év
 aluation qu’éclaire « La circulaire ministérielle relative au décret du 17 
 juillet 2003 relatif au soutien de l’action associative dans le champ de l’
 Education permanente » en offrant un socle commun de compréhension de l’ ar
 ticle fondateur à l’ensemble des acteurs concernés.\nObjectifs \nPermettre 
 aux participant.e.s :\n\n - De prendre connaissance du texte de la circulai
 re, de son contexte d’utilisation et d’en faire l’analyse.\n - De s’en sais
 ir comme outil d’autoévaluation de l’action de leur association, en respect
 ant le cadre du formulaire prévu à cet effet.Remarque\nPour que cette forma
 tion puisse remplir ses objectifs, nous demandons aux participant.e.s d’app
 orter un exemplaire de leurs trois derniers rapports annuels d’activités ap
 rès en avoir pris globalement connaissance.\nPublic \nLa formation s’adress
 e aux travailleurs salariés ou bénévoles du secteur de l'Éducation permanen
 te des adultes.\nPrix\nLe montant de la participation s’élève à 150€ pour l
 es deux journées de formation intégralement remboursable par la Fonds 4S.\n
 Renseignements \nCette adresse e-mail est protégée contre les robots spamme
 urs. Vous devez activer le JavaScript pour la visualiser.\nInscriptions (ht
 tps://www.peuple-et-culture-wb.be/index.php?option=com_rsform&amp;view=rsfo
 rm&amp;formId=1&amp;Itemid=158)\n
X-ALT-DESC;FMTTYPE=text/html:<div class="page-header"><h2 itemprop="headline"><span style="color: #80000
 0;">La circulaire ministérielle du 7 mars 2018: repères pour une autoévalua
 tion de l’action des associations d’Education permanente</span></h2></div><
 p><b>Les 25 et 26 avril 2022 de 9h à 17h à l'Espace Cacérès de Peuple et Cu
 lture</b></p><p>Le cadre décrétal propre au champ de l’Education permanente
  a connu en 2019 des modifications&nbsp; importantes qui vont, dans les pro
 chaines années,&nbsp; influencer en profondeur les conditions de reconnaiss
 ance, de fonctionnement, de contrôle et d’évaluation de l’ensemble de ses a
 cteurs.</p><p>Opérationnalisant les principes qui en régissent désormais l’
 application, une série de dispositions nouvelles portent notamment sur l’ex
 igence qualitative à laquelle doivent répondre les projets développés ainsi
  que sur l’autoévaluation (précédemment incluse dans le rapport général d’e
 xécution) venant éclairer l’action générale des associations d’Education pe
 rmanente durant chaque période quinquennale concernée.</p><p>A cette fin, l
 ’auto-évaluation portera sur la mise en œuvre, par chaque association,&nbsp
 ; de l’article 1er du Décret.</p><p>C’est le cadre de cette auto-évaluation
  qu’éclaire « La circulaire ministérielle relative au décret du 17 juillet 
 2003 relatif au soutien de l’action associative dans le champ de l’Educatio
 n permanente » en offrant un socle commun de compréhension de l’ article fo
 ndateur à l’ensemble des acteurs concernés.</p><p><strong>Objectifs </stron
 g></p><p>Permettre aux participant.e.s :</p><ul><li>De prendre connaissance
  du texte de la circulaire, de son contexte d’utilisation et d’en faire l’a
 nalyse.</li><li>De s’en saisir comme outil d’autoévaluation de l’action de 
 leur association, en respectant le cadre du formulaire prévu à cet effet.</
 li></ul><p><strong>Remarque</strong></p><p>Pour que cette formation puisse 
 remplir ses objectifs, nous demandons aux participant.e.s d’apporter un exe
 mplaire de leurs trois derniers rapports annuels d’activités après en avoir
  pris globalement connaissance.</p><p><strong>Public&nbsp;</strong></p><p>L
 a formation s’adresse aux travailleurs salariés ou bénévoles du secteur de 
 l'Éducation permanente des adultes.</p><p><strong>Prix</strong></p><p>Le mo
 ntant de la participation s’élève à 150€ pour les deux journées de formatio
 n intégralement remboursable par la Fonds 4S.</p><p><strong>Renseignements&
 nbsp;<br /></strong><span id="cloak9276b25eb81e2bb804ee5b7ac1b905db"><jooml
 a-hidden-mail  is-link="1" is-email="1" first="bmFuY3kuaGFyZHk=" last="cGV1
 cGxlLWV0LWN1bHR1cmUtd2IuYmU=" text="bmFuY3kuaGFyZHlAcGV1cGxlLWV0LWN1bHR1cmU
 td2IuYmU=" base=""  target="_self">Cette adresse e-mail est protégée contre
  les robots spammeurs. Vous devez activer le JavaScript pour la visualiser.
 </joomla-hidden-mail></span></p><p><a href="https://www.peuple-et-culture-w
 b.be/index.php?option=com_rsform&amp;view=rsform&amp;formId=1&amp;Itemid=15
 8"><strong>Inscriptions</strong></a></p>
CONTACT:Cette adresse e-mail est protégée contre les robots spammeurs. Vous devez activer le JavaScript pour la visualiser.
DTSTAMP:20260420T170544
DTSTART;TZID=Europe/Brussels:20220425T090000
DTEND;TZID=Europe/Brussels:20220425T170000
SEQUENCE:0
TRANSP:OPAQUE
END:VEVENT
END:VCALENDAR