BEGIN:VCALENDAR
VERSION:2.0
PRODID:-//jEvents 2.0 for Joomla//EN
CALSCALE:GREGORIAN
METHOD:PUBLISH
BEGIN:VTIMEZONE
TZID:Europe/Brussels
BEGIN:STANDARD
DTSTART:20211031T020000
RDATE:20220327T030000
TZOFFSETFROM:+0200
TZOFFSETTO:+0100
TZNAME:Europe/Brussels CET
END:STANDARD
BEGIN:STANDARD
DTSTART:20221030T020000
RDATE:20230326T030000
TZOFFSETFROM:+0200
TZOFFSETTO:+0100
TZNAME:Europe/Brussels CET
END:STANDARD
BEGIN:STANDARD
DTSTART:20231029T020000
RDATE:20240331T030000
TZOFFSETFROM:+0200
TZOFFSETTO:+0100
TZNAME:Europe/Brussels CET
END:STANDARD
BEGIN:STANDARD
DTSTART:20241027T020000
RDATE:20250330T030000
TZOFFSETFROM:+0200
TZOFFSETTO:+0100
TZNAME:Europe/Brussels CET
END:STANDARD
BEGIN:STANDARD
DTSTART:20251026T020000
RDATE:20260329T030000
TZOFFSETFROM:+0200
TZOFFSETTO:+0100
TZNAME:Europe/Brussels CET
END:STANDARD
BEGIN:STANDARD
DTSTART:20261025T020000
RDATE:20270328T030000
TZOFFSETFROM:+0200
TZOFFSETTO:+0100
TZNAME:Europe/Brussels CET
END:STANDARD
BEGIN:STANDARD
DTSTART:20271031T020000
RDATE:20280326T030000
TZOFFSETFROM:+0200
TZOFFSETTO:+0100
TZNAME:Europe/Brussels CET
END:STANDARD
BEGIN:STANDARD
DTSTART:20281029T020000
RDATE:20290325T030000
TZOFFSETFROM:+0200
TZOFFSETTO:+0100
TZNAME:Europe/Brussels CET
END:STANDARD
BEGIN:STANDARD
DTSTART:20291028T020000
RDATE:20300331T030000
TZOFFSETFROM:+0200
TZOFFSETTO:+0100
TZNAME:Europe/Brussels CET
END:STANDARD
BEGIN:STANDARD
DTSTART:20301027T020000
RDATE:20310330T030000
TZOFFSETFROM:+0200
TZOFFSETTO:+0100
TZNAME:Europe/Brussels CET
END:STANDARD
BEGIN:STANDARD
DTSTART:20311026T020000
RDATE:20320328T030000
TZOFFSETFROM:+0200
TZOFFSETTO:+0100
TZNAME:Europe/Brussels CET
END:STANDARD
BEGIN:STANDARD
DTSTART:20321031T020000
RDATE:20330327T030000
TZOFFSETFROM:+0200
TZOFFSETTO:+0100
TZNAME:Europe/Brussels CET
END:STANDARD
BEGIN:STANDARD
DTSTART:20331030T020000
RDATE:20340326T030000
TZOFFSETFROM:+0200
TZOFFSETTO:+0100
TZNAME:Europe/Brussels CET
END:STANDARD
BEGIN:STANDARD
DTSTART:20341029T020000
RDATE:20350325T030000
TZOFFSETFROM:+0200
TZOFFSETTO:+0100
TZNAME:Europe/Brussels CET
END:STANDARD
BEGIN:STANDARD
DTSTART:20351028T020000
RDATE:20360330T030000
TZOFFSETFROM:+0200
TZOFFSETTO:+0100
TZNAME:Europe/Brussels CET
END:STANDARD
BEGIN:STANDARD
DTSTART:20361026T020000
RDATE:20370329T030000
TZOFFSETFROM:+0200
TZOFFSETTO:+0100
TZNAME:Europe/Brussels CET
END:STANDARD
BEGIN:STANDARD
DTSTART:20371025T020000
TZOFFSETFROM:+0200
TZOFFSETTO:+0100
TZNAME:Europe/Brussels CET
END:STANDARD
BEGIN:DAYLIGHT
DTSTART:20210912T090000
RDATE:20211031T020000
TZOFFSETFROM:+0100
TZOFFSETTO:+0200
TZNAME:Europe/Brussels CEST
END:DAYLIGHT
BEGIN:DAYLIGHT
DTSTART:20220327T030000
RDATE:20221030T020000
TZOFFSETFROM:+0100
TZOFFSETTO:+0200
TZNAME:Europe/Brussels CEST
END:DAYLIGHT
BEGIN:DAYLIGHT
DTSTART:20230326T030000
RDATE:20231029T020000
TZOFFSETFROM:+0100
TZOFFSETTO:+0200
TZNAME:Europe/Brussels CEST
END:DAYLIGHT
BEGIN:DAYLIGHT
DTSTART:20240331T030000
RDATE:20241027T020000
TZOFFSETFROM:+0100
TZOFFSETTO:+0200
TZNAME:Europe/Brussels CEST
END:DAYLIGHT
BEGIN:DAYLIGHT
DTSTART:20250330T030000
RDATE:20251026T020000
TZOFFSETFROM:+0100
TZOFFSETTO:+0200
TZNAME:Europe/Brussels CEST
END:DAYLIGHT
BEGIN:DAYLIGHT
DTSTART:20260329T030000
RDATE:20261025T020000
TZOFFSETFROM:+0100
TZOFFSETTO:+0200
TZNAME:Europe/Brussels CEST
END:DAYLIGHT
BEGIN:DAYLIGHT
DTSTART:20270328T030000
RDATE:20271031T020000
TZOFFSETFROM:+0100
TZOFFSETTO:+0200
TZNAME:Europe/Brussels CEST
END:DAYLIGHT
BEGIN:DAYLIGHT
DTSTART:20280326T030000
RDATE:20281029T020000
TZOFFSETFROM:+0100
TZOFFSETTO:+0200
TZNAME:Europe/Brussels CEST
END:DAYLIGHT
BEGIN:DAYLIGHT
DTSTART:20290325T030000
RDATE:20291028T020000
TZOFFSETFROM:+0100
TZOFFSETTO:+0200
TZNAME:Europe/Brussels CEST
END:DAYLIGHT
BEGIN:DAYLIGHT
DTSTART:20300331T030000
RDATE:20301027T020000
TZOFFSETFROM:+0100
TZOFFSETTO:+0200
TZNAME:Europe/Brussels CEST
END:DAYLIGHT
BEGIN:DAYLIGHT
DTSTART:20310330T030000
RDATE:20311026T020000
TZOFFSETFROM:+0100
TZOFFSETTO:+0200
TZNAME:Europe/Brussels CEST
END:DAYLIGHT
BEGIN:DAYLIGHT
DTSTART:20320328T030000
RDATE:20321031T020000
TZOFFSETFROM:+0100
TZOFFSETTO:+0200
TZNAME:Europe/Brussels CEST
END:DAYLIGHT
BEGIN:DAYLIGHT
DTSTART:20330327T030000
RDATE:20331030T020000
TZOFFSETFROM:+0100
TZOFFSETTO:+0200
TZNAME:Europe/Brussels CEST
END:DAYLIGHT
BEGIN:DAYLIGHT
DTSTART:20340326T030000
RDATE:20341029T020000
TZOFFSETFROM:+0100
TZOFFSETTO:+0200
TZNAME:Europe/Brussels CEST
END:DAYLIGHT
BEGIN:DAYLIGHT
DTSTART:20350325T030000
RDATE:20351028T020000
TZOFFSETFROM:+0100
TZOFFSETTO:+0200
TZNAME:Europe/Brussels CEST
END:DAYLIGHT
BEGIN:DAYLIGHT
DTSTART:20360330T030000
RDATE:20361026T020000
TZOFFSETFROM:+0100
TZOFFSETTO:+0200
TZNAME:Europe/Brussels CEST
END:DAYLIGHT
BEGIN:DAYLIGHT
DTSTART:20370329T030000
RDATE:20371025T020000
TZOFFSETFROM:+0100
TZOFFSETTO:+0200
TZNAME:Europe/Brussels CEST
END:DAYLIGHT
END:VTIMEZONE
BEGIN:VEVENT
UID:2f5e7553d49df6218ad8e400dfff64b9
CATEGORIES:Formations
CREATED:20220420T185154
SUMMARY:Initiation à l'Entraînement mental : penser et agir dans la complexité du réel (J5)
LOCATION:Peuple et Culture Rue du Beau Mur 45\, 4030 Grivegnée
DESCRIPTION:Lorsque l’on parle entraînement mental, on parle d’une histoire… Celle de l
 ’éducation populaire et de Peuple et Culture. \n Celle d’hommes, de femmes,
  qui ont pris le maquis et se sont battu.e.s pour garantir nos libertés. \n
  Depuis, porté par de nombreux militant.e.s culturel.le.s, il a été enrichi
  et partagé…\nParticiper à une formation Entraînement mental c’est d’abord 
 s’approprier une méthodologie pour [re]trouver le pouvoir de penser et d’ag
 ir, réfléchir le monde dans toute sa complexité.\nL’expérimentation de la m
 éthodologie de l’entraînement mental se fait au départ de situations réelle
 s amenées par les participant.e.s : on s’implique, on questionne, on s’expl
 ique, on s’engage collectivement.\nPour nous, animateurs.trices, éducateurs
 .trices, formateurs.trices…  des secteurs associatifs, l’entraînement menta
 l bouscule nos habitudes, nous extirpe de l’instantanéité de l’information 
 mainstream, nous entraine à  résister à  l’immobilisme et au fatalisme.\nC’
 est aussi une méthodologie d’auto-formation qui s’appuie sur des savoirs ex
 périentiels et scientifiques en les organisant.\nAvec un peu de pratique, l
 ’entraînement mental nous aide à préparer des animations, animer des débats
 , des réunions… \n Construire des actions porteuses de résultats !\nPublic 
 \nAnimateurs.trices, formateurs.trices et acteurs.trices du secteur associa
 tif et non marchand public/privé.\nPrix \nLa participation s’élève à 250€ p
 ar participant(e) (remboursé par le Fonds 4S pour les travailleurs des comm
 issions paritaires 329.02 et 329.03)\n Ce prix comprend aussi les boissons 
 (café, thé, eau) et les collations.\n
X-ALT-DESC;FMTTYPE=text/html:<p>Lorsque l’on parle entraînement mental, on parle d’une histoire… Celle d
 e l’éducation populaire et de Peuple et Culture. <br /> Celle d’hommes, de 
 femmes, qui ont pris le maquis et se sont battu.e.s pour garantir nos liber
 tés. <br /> Depuis, porté par de nombreux militant.e.s culturel.le.s, il a 
 été enrichi et partagé…</p><p>Participer à une formation Entraînement menta
 l c’est d’abord s’approprier une méthodologie pour [re]trouver le pouvoir d
 e penser et d’agir, réfléchir le monde dans toute sa complexité.</p><p>L’ex
 périmentation de la méthodologie de l’entraînement mental se fait au départ
  de situations réelles amenées par les participant.e.s&nbsp;: on s’implique
 , on questionne, on s’explique, on s’engage collectivement.</p><p>Pour nous
 , animateurs.trices, éducateurs.trices, formateurs.trices…&nbsp; des secteu
 rs associatifs, l’entraînement mental bouscule nos habitudes, nous extirpe 
 de l’instantanéité de l’information mainstream, nous entraine à&nbsp; résis
 ter à&nbsp; l’immobilisme et au fatalisme.</p><p>C’est aussi une méthodolog
 ie d’auto-formation qui s’appuie sur des savoirs expérientiels et scientifi
 ques en les organisant.</p><p>Avec un peu de pratique, l’entraînement menta
 l nous aide à préparer des animations, animer des débats, des réunions… <br
  /> Construire des actions porteuses de résultats !</p><p><strong>Public</s
 trong><strong>&nbsp;</strong></p><p>Animateurs.trices, formateurs.trices et
  acteurs.trices du secteur associatif et non marchand public/privé.</p><p><
 strong>Prix&nbsp;</strong></p><p>La participation s’élève à 250€ par partic
 ipant(e) (remboursé par le Fonds 4S pour les travailleurs des commissions p
 aritaires 329.02 et 329.03)<br /> Ce prix comprend aussi les boissons (café
 , thé, eau) et les collations.</p>
CONTACT:Cette adresse e-mail est protégée contre les robots spammeurs. Vous devez activer le JavaScript pour la visualiser. // +32 4 368 82 32
DTSTAMP:20260420T113518
DTSTART;TZID=Europe/Brussels:20220913T090000
DTEND;TZID=Europe/Brussels:20220913T170000
SEQUENCE:0
TRANSP:OPAQUE
END:VEVENT
END:VCALENDAR