BEGIN:VCALENDAR
VERSION:2.0
PRODID:-//jEvents 2.0 for Joomla//EN
CALSCALE:GREGORIAN
METHOD:PUBLISH
BEGIN:VTIMEZONE
TZID:Europe/Brussels
BEGIN:STANDARD
DTSTART:20211129T090000
RDATE:20220327T030000
TZOFFSETFROM:+0200
TZOFFSETTO:+0100
TZNAME:Europe/Brussels CET
END:STANDARD
BEGIN:STANDARD
DTSTART:20221030T020000
RDATE:20230326T030000
TZOFFSETFROM:+0200
TZOFFSETTO:+0100
TZNAME:Europe/Brussels CET
END:STANDARD
BEGIN:STANDARD
DTSTART:20231029T020000
RDATE:20240331T030000
TZOFFSETFROM:+0200
TZOFFSETTO:+0100
TZNAME:Europe/Brussels CET
END:STANDARD
BEGIN:STANDARD
DTSTART:20241027T020000
RDATE:20250330T030000
TZOFFSETFROM:+0200
TZOFFSETTO:+0100
TZNAME:Europe/Brussels CET
END:STANDARD
BEGIN:STANDARD
DTSTART:20251026T020000
RDATE:20260329T030000
TZOFFSETFROM:+0200
TZOFFSETTO:+0100
TZNAME:Europe/Brussels CET
END:STANDARD
BEGIN:STANDARD
DTSTART:20261025T020000
RDATE:20270328T030000
TZOFFSETFROM:+0200
TZOFFSETTO:+0100
TZNAME:Europe/Brussels CET
END:STANDARD
BEGIN:STANDARD
DTSTART:20271031T020000
RDATE:20280326T030000
TZOFFSETFROM:+0200
TZOFFSETTO:+0100
TZNAME:Europe/Brussels CET
END:STANDARD
BEGIN:STANDARD
DTSTART:20281029T020000
RDATE:20290325T030000
TZOFFSETFROM:+0200
TZOFFSETTO:+0100
TZNAME:Europe/Brussels CET
END:STANDARD
BEGIN:STANDARD
DTSTART:20291028T020000
RDATE:20300331T030000
TZOFFSETFROM:+0200
TZOFFSETTO:+0100
TZNAME:Europe/Brussels CET
END:STANDARD
BEGIN:STANDARD
DTSTART:20301027T020000
RDATE:20310330T030000
TZOFFSETFROM:+0200
TZOFFSETTO:+0100
TZNAME:Europe/Brussels CET
END:STANDARD
BEGIN:STANDARD
DTSTART:20311026T020000
RDATE:20320328T030000
TZOFFSETFROM:+0200
TZOFFSETTO:+0100
TZNAME:Europe/Brussels CET
END:STANDARD
BEGIN:STANDARD
DTSTART:20321031T020000
RDATE:20330327T030000
TZOFFSETFROM:+0200
TZOFFSETTO:+0100
TZNAME:Europe/Brussels CET
END:STANDARD
BEGIN:STANDARD
DTSTART:20331030T020000
RDATE:20340326T030000
TZOFFSETFROM:+0200
TZOFFSETTO:+0100
TZNAME:Europe/Brussels CET
END:STANDARD
BEGIN:STANDARD
DTSTART:20341029T020000
RDATE:20350325T030000
TZOFFSETFROM:+0200
TZOFFSETTO:+0100
TZNAME:Europe/Brussels CET
END:STANDARD
BEGIN:STANDARD
DTSTART:20351028T020000
RDATE:20360330T030000
TZOFFSETFROM:+0200
TZOFFSETTO:+0100
TZNAME:Europe/Brussels CET
END:STANDARD
BEGIN:STANDARD
DTSTART:20361026T020000
RDATE:20370329T030000
TZOFFSETFROM:+0200
TZOFFSETTO:+0100
TZNAME:Europe/Brussels CET
END:STANDARD
BEGIN:STANDARD
DTSTART:20371025T020000
TZOFFSETFROM:+0200
TZOFFSETTO:+0100
TZNAME:Europe/Brussels CET
END:STANDARD
BEGIN:DAYLIGHT
DTSTART:20220327T030000
RDATE:20221030T020000
TZOFFSETFROM:+0100
TZOFFSETTO:+0200
TZNAME:Europe/Brussels CEST
END:DAYLIGHT
BEGIN:DAYLIGHT
DTSTART:20230326T030000
RDATE:20231029T020000
TZOFFSETFROM:+0100
TZOFFSETTO:+0200
TZNAME:Europe/Brussels CEST
END:DAYLIGHT
BEGIN:DAYLIGHT
DTSTART:20240331T030000
RDATE:20241027T020000
TZOFFSETFROM:+0100
TZOFFSETTO:+0200
TZNAME:Europe/Brussels CEST
END:DAYLIGHT
BEGIN:DAYLIGHT
DTSTART:20250330T030000
RDATE:20251026T020000
TZOFFSETFROM:+0100
TZOFFSETTO:+0200
TZNAME:Europe/Brussels CEST
END:DAYLIGHT
BEGIN:DAYLIGHT
DTSTART:20260329T030000
RDATE:20261025T020000
TZOFFSETFROM:+0100
TZOFFSETTO:+0200
TZNAME:Europe/Brussels CEST
END:DAYLIGHT
BEGIN:DAYLIGHT
DTSTART:20270328T030000
RDATE:20271031T020000
TZOFFSETFROM:+0100
TZOFFSETTO:+0200
TZNAME:Europe/Brussels CEST
END:DAYLIGHT
BEGIN:DAYLIGHT
DTSTART:20280326T030000
RDATE:20281029T020000
TZOFFSETFROM:+0100
TZOFFSETTO:+0200
TZNAME:Europe/Brussels CEST
END:DAYLIGHT
BEGIN:DAYLIGHT
DTSTART:20290325T030000
RDATE:20291028T020000
TZOFFSETFROM:+0100
TZOFFSETTO:+0200
TZNAME:Europe/Brussels CEST
END:DAYLIGHT
BEGIN:DAYLIGHT
DTSTART:20300331T030000
RDATE:20301027T020000
TZOFFSETFROM:+0100
TZOFFSETTO:+0200
TZNAME:Europe/Brussels CEST
END:DAYLIGHT
BEGIN:DAYLIGHT
DTSTART:20310330T030000
RDATE:20311026T020000
TZOFFSETFROM:+0100
TZOFFSETTO:+0200
TZNAME:Europe/Brussels CEST
END:DAYLIGHT
BEGIN:DAYLIGHT
DTSTART:20320328T030000
RDATE:20321031T020000
TZOFFSETFROM:+0100
TZOFFSETTO:+0200
TZNAME:Europe/Brussels CEST
END:DAYLIGHT
BEGIN:DAYLIGHT
DTSTART:20330327T030000
RDATE:20331030T020000
TZOFFSETFROM:+0100
TZOFFSETTO:+0200
TZNAME:Europe/Brussels CEST
END:DAYLIGHT
BEGIN:DAYLIGHT
DTSTART:20340326T030000
RDATE:20341029T020000
TZOFFSETFROM:+0100
TZOFFSETTO:+0200
TZNAME:Europe/Brussels CEST
END:DAYLIGHT
BEGIN:DAYLIGHT
DTSTART:20350325T030000
RDATE:20351028T020000
TZOFFSETFROM:+0100
TZOFFSETTO:+0200
TZNAME:Europe/Brussels CEST
END:DAYLIGHT
BEGIN:DAYLIGHT
DTSTART:20360330T030000
RDATE:20361026T020000
TZOFFSETFROM:+0100
TZOFFSETTO:+0200
TZNAME:Europe/Brussels CEST
END:DAYLIGHT
BEGIN:DAYLIGHT
DTSTART:20370329T030000
RDATE:20371025T020000
TZOFFSETFROM:+0100
TZOFFSETTO:+0200
TZNAME:Europe/Brussels CEST
END:DAYLIGHT
END:VTIMEZONE
BEGIN:VEVENT
UID:f22d3d044056cb628a67b5ba2d340e4a
CATEGORIES:Formations
CREATED:20220712T115613
SUMMARY:Monte ta conf (Module 2)
LOCATION:rue du Beau Mur\, 45\, 4030 Liège (Grivegnée)
DESCRIPTION:<div class="page-header"><h2 itemprop="headline">“Monte ta conf” - Formatio
 n à La conférence Gesticulée / Module 1 : circonscrire son sujet [10-2022]<
 /h2></div><div itemprop="articleBody"><h4>@ Peuple et Culture - 45, rue du 
 Beau-Mur à Liège</h4><h4>2 regroupements de 3 jours :&nbsp;</h4><ul><li ari
 a-level="1"><h4>19 - 20 et 21 octobre 2022 de 9h00 à 17h00</h4></li><li ari
 a-level="1"><h4>30 novembre, 1 et 2 décembre 2022 de 9h00 à 17h00</h4></li>
 </ul><p>Une formation en 2 modules pour créer votre conférence gesticulée, 
 seul.e ou en binôme, de manière indépendante ou pour une association.&nbsp;
 </p><p>En clôture du module 2 : deux ou trois journées de festival pour pré
 senter les projets sur&nbsp; scène</p><p><strong>Une conférence gesticulée,
  c’est quoi ?</strong></p><p>La conférence gesticulée est un style de spect
 acle, et avant tout un outil d’éducation permanente/populaire.</p><p>A l’in
 tersection entre le théâtre et la conférence académique, l’objet gesticulé 
 a pour propriété essentielle de mêler sous une forme narrative le vécu des 
 conférencièr.e.s (le « savoir chaud ») et des éléments de théorie (le « sav
 oir froid »). La démarche vise à partager et à diffuser des clés de compréh
 ension de la société et à développer l’esprit critique.</p><p>La conférence
  gesticulée est une forme de spectacle, certes, mais elle trouve pleinement
  son sens en étant suivie par un atelier de réflexion et/ou de mise en acti
 on destiné à approfondir la problématique en compagnie des spectateurs qui 
 le désirent.</p><p><strong>Objectifs</strong></p><ul><li aria-level="1">Con
 struire un propos politique propre grâce à une dynamique collective et à de
 s outils d’éducation populaire,</li><li aria-level="1">Prendre de la distan
 ce avec le propos pour lui donner une dimension politique,</li><li aria-lev
 el="1">Se rapprocher du propos pour lui donner une dimension expérientielle
 ,</li><li aria-level="1">Explorer les mises en forme pour ancrer et donner 
 de la force au propos.</li></ul><p>La conférence gesticulée est mobilisée t
 antôt comme un outil pédagogique, de campagne ou de mobilisation.</p><p><st
 rong>Méthodologie</strong></p><ul><li aria-level="1">Il s’agira pour chacun
 .e des participant.e.s d’intégrer une dimension biographique à leur discour
 s, d’affiner leur analyse politique, de trouver un fil permettant de rendre
  l’ensemble compréhensible auprès d’un public néophyte en la matière, notam
 ment en travaillant sur le rythme de la narration et en y intégrant des cou
 pures, tant sur le fond que sur la forme.</li><li aria-level="1">Des apport
 s théoriques : notamment sur la notion d’éducation populaire, sur le concep
 t de conférence gesticulée, sur l’utilisation des récits de vie en éducatio
 n populaire.</li><li aria-level="1">Des apports pratiques et techniques : d
 es trucs et astuces pour créer le déroulé de votre conférence gesticulée, s
 ur l’occupation de l’espace et la mise-en-forme du discours.</li><li aria-l
 evel="1">Un dispositif favorisant la construction collective de savoir  qui
  s’articulera d’une part sur des allers/retours entre des temps collectifs 
 et des temps individualisés et d’autre part,des expérimentations scéniques 
 qui feront ensuite l’objet d’apports pratiques et théoriques de la part des
  participants.</li><li aria-level="1">Une capitalisation de vos expériences
  : des ateliers sur les histoires de vie, l’analyse de pratiques profession
 nelles, etc.</li><li aria-level="1">Des expérimentations : expérimenter l’e
 xpression d’analyses politiques, la mise-en-scène de son propre discours et
  le jeu de cette production devant un public.</li><li aria-level="1">Des bi
 lans collectifs et individuels seront effectués tout au long des ateliers a
 fin de mesurer les écarts potentiels entre les attentes des participant.e.s
 , les objectifs de départ et le déroulement effectif des ateliers.</li></ul
 ><p><strong>Contenu Module 1</strong></p><ul><li aria-level="1">Nous commen
 cerons par explorer nos histoires de vie et comprendre politiquement ce qui
 , dans nos intuitions personnelles, a construit nos valeurs, nos représenta
 tions, nos espoirs, nos colères.</li><li aria-level="1">Nous affinerons le 
 thème choisi par chacun.e des participant.e.s pour y intégrer le plus natur
 ellement possible des anecdotes personnelles qui font sens au regard de ce 
 thème.</li><li aria-level="1">Nous échangerons mutuellement nos connaissanc
 es pour alimenter chaque conférence de ressources théoriques pertinentes.</
 li></ul><p><strong>Public</strong></p><p>Le cycle « monte ta conf’ » s’adre
 sse autant à des personnes cherchant à créer un projet personnel qu’aux org
 anisations désireuses de créer un outil pédagogique. La conférence gesticul
 ée peut être réalisée&nbsp; seul.e ou à plusieurs.</p><p>Ce cycle est ouver
 t à toute personne désireuse de s’aguerrir à la mise-en-forme d’un discours
  ou d’une analyse sur un fait de société, un milieu professionnel, une inst
 itution,… Cette dynamique collective permet de prendre du recul sur son act
 ivité professionnelle et/ou son engagement citoyen. Bien que la conférence 
 gesticulée vous amènera à présenter votre propos devant des publics, nul be
 soin d’avoir un bagage artistique ou académique pour se lancer.</p><p>Votre
  sujet ne doit pas être parfaitement défini avant de s’inscrire. Au départ,
  il y a un thème que vous voulez approfondir sans en être spécialiste, une 
 colère que vous cherchez à partager de manière constructive, ou tout simple
 ment l’envie de partager des expériences de vie singulières car vous percev
 ez qu’elles dévoilent de l’injustice, certains mécanismes universels de dom
 ination. Le sujet vient ensuite au gré des ateliers, des réflexions collect
 ives, de vos recherches, de vos prises de conscience.</p><p><strong>Places 
 disponibles limitées</strong></p><p><strong>Prix</strong></p><p>400€ par mo
 dule (remboursable par le fonds 4S pour les travailleurs.euses relevant des
  CP 329.02 ET 329.03)</p><p>Si les frais d’inscription sont un frein à votr
 e participation, n’hésitez surtout pas à nous contacter !&nbsp;</p></div>
CONTACT:Magali Arnould : Cette adresse e-mail est protégée contre les robots spammeurs. Vous devez activer le JavaScript pour la visualiser.
DTSTAMP:20260420T075238
DTSTART;TZID=Europe/Brussels:20221130T090000
DTEND;TZID=Europe/Brussels:20221202T170000
SEQUENCE:0
TRANSP:OPAQUE
END:VEVENT
END:VCALENDAR