BEGIN:VCALENDAR
VERSION:2.0
PRODID:-//jEvents 2.0 for Joomla//EN
CALSCALE:GREGORIAN
METHOD:PUBLISH
BEGIN:VTIMEZONE
TZID:Europe/Brussels
BEGIN:STANDARD
DTSTART:20210308T173000
RDATE:20210328T030000
TZOFFSETFROM:+0200
TZOFFSETTO:+0100
TZNAME:Europe/Brussels CET
END:STANDARD
BEGIN:STANDARD
DTSTART:20211031T020000
RDATE:20220327T030000
TZOFFSETFROM:+0200
TZOFFSETTO:+0100
TZNAME:Europe/Brussels CET
END:STANDARD
BEGIN:STANDARD
DTSTART:20221030T020000
RDATE:20230326T030000
TZOFFSETFROM:+0200
TZOFFSETTO:+0100
TZNAME:Europe/Brussels CET
END:STANDARD
BEGIN:STANDARD
DTSTART:20231029T020000
RDATE:20240331T030000
TZOFFSETFROM:+0200
TZOFFSETTO:+0100
TZNAME:Europe/Brussels CET
END:STANDARD
BEGIN:STANDARD
DTSTART:20241027T020000
RDATE:20250330T030000
TZOFFSETFROM:+0200
TZOFFSETTO:+0100
TZNAME:Europe/Brussels CET
END:STANDARD
BEGIN:STANDARD
DTSTART:20251026T020000
RDATE:20260329T030000
TZOFFSETFROM:+0200
TZOFFSETTO:+0100
TZNAME:Europe/Brussels CET
END:STANDARD
BEGIN:STANDARD
DTSTART:20261025T020000
RDATE:20270328T030000
TZOFFSETFROM:+0200
TZOFFSETTO:+0100
TZNAME:Europe/Brussels CET
END:STANDARD
BEGIN:STANDARD
DTSTART:20271031T020000
RDATE:20280326T030000
TZOFFSETFROM:+0200
TZOFFSETTO:+0100
TZNAME:Europe/Brussels CET
END:STANDARD
BEGIN:STANDARD
DTSTART:20281029T020000
RDATE:20290325T030000
TZOFFSETFROM:+0200
TZOFFSETTO:+0100
TZNAME:Europe/Brussels CET
END:STANDARD
BEGIN:STANDARD
DTSTART:20291028T020000
RDATE:20300331T030000
TZOFFSETFROM:+0200
TZOFFSETTO:+0100
TZNAME:Europe/Brussels CET
END:STANDARD
BEGIN:STANDARD
DTSTART:20301027T020000
RDATE:20310330T030000
TZOFFSETFROM:+0200
TZOFFSETTO:+0100
TZNAME:Europe/Brussels CET
END:STANDARD
BEGIN:STANDARD
DTSTART:20311026T020000
RDATE:20320328T030000
TZOFFSETFROM:+0200
TZOFFSETTO:+0100
TZNAME:Europe/Brussels CET
END:STANDARD
BEGIN:STANDARD
DTSTART:20321031T020000
RDATE:20330327T030000
TZOFFSETFROM:+0200
TZOFFSETTO:+0100
TZNAME:Europe/Brussels CET
END:STANDARD
BEGIN:STANDARD
DTSTART:20331030T020000
RDATE:20340326T030000
TZOFFSETFROM:+0200
TZOFFSETTO:+0100
TZNAME:Europe/Brussels CET
END:STANDARD
BEGIN:STANDARD
DTSTART:20341029T020000
RDATE:20350325T030000
TZOFFSETFROM:+0200
TZOFFSETTO:+0100
TZNAME:Europe/Brussels CET
END:STANDARD
BEGIN:STANDARD
DTSTART:20351028T020000
RDATE:20360330T030000
TZOFFSETFROM:+0200
TZOFFSETTO:+0100
TZNAME:Europe/Brussels CET
END:STANDARD
BEGIN:STANDARD
DTSTART:20361026T020000
RDATE:20370329T030000
TZOFFSETFROM:+0200
TZOFFSETTO:+0100
TZNAME:Europe/Brussels CET
END:STANDARD
BEGIN:STANDARD
DTSTART:20371025T020000
TZOFFSETFROM:+0200
TZOFFSETTO:+0100
TZNAME:Europe/Brussels CET
END:STANDARD
BEGIN:DAYLIGHT
DTSTART:20210328T030000
RDATE:20211031T020000
TZOFFSETFROM:+0100
TZOFFSETTO:+0200
TZNAME:Europe/Brussels CEST
END:DAYLIGHT
BEGIN:DAYLIGHT
DTSTART:20220327T030000
RDATE:20221030T020000
TZOFFSETFROM:+0100
TZOFFSETTO:+0200
TZNAME:Europe/Brussels CEST
END:DAYLIGHT
BEGIN:DAYLIGHT
DTSTART:20230326T030000
RDATE:20231029T020000
TZOFFSETFROM:+0100
TZOFFSETTO:+0200
TZNAME:Europe/Brussels CEST
END:DAYLIGHT
BEGIN:DAYLIGHT
DTSTART:20240331T030000
RDATE:20241027T020000
TZOFFSETFROM:+0100
TZOFFSETTO:+0200
TZNAME:Europe/Brussels CEST
END:DAYLIGHT
BEGIN:DAYLIGHT
DTSTART:20250330T030000
RDATE:20251026T020000
TZOFFSETFROM:+0100
TZOFFSETTO:+0200
TZNAME:Europe/Brussels CEST
END:DAYLIGHT
BEGIN:DAYLIGHT
DTSTART:20260329T030000
RDATE:20261025T020000
TZOFFSETFROM:+0100
TZOFFSETTO:+0200
TZNAME:Europe/Brussels CEST
END:DAYLIGHT
BEGIN:DAYLIGHT
DTSTART:20270328T030000
RDATE:20271031T020000
TZOFFSETFROM:+0100
TZOFFSETTO:+0200
TZNAME:Europe/Brussels CEST
END:DAYLIGHT
BEGIN:DAYLIGHT
DTSTART:20280326T030000
RDATE:20281029T020000
TZOFFSETFROM:+0100
TZOFFSETTO:+0200
TZNAME:Europe/Brussels CEST
END:DAYLIGHT
BEGIN:DAYLIGHT
DTSTART:20290325T030000
RDATE:20291028T020000
TZOFFSETFROM:+0100
TZOFFSETTO:+0200
TZNAME:Europe/Brussels CEST
END:DAYLIGHT
BEGIN:DAYLIGHT
DTSTART:20300331T030000
RDATE:20301027T020000
TZOFFSETFROM:+0100
TZOFFSETTO:+0200
TZNAME:Europe/Brussels CEST
END:DAYLIGHT
BEGIN:DAYLIGHT
DTSTART:20310330T030000
RDATE:20311026T020000
TZOFFSETFROM:+0100
TZOFFSETTO:+0200
TZNAME:Europe/Brussels CEST
END:DAYLIGHT
BEGIN:DAYLIGHT
DTSTART:20320328T030000
RDATE:20321031T020000
TZOFFSETFROM:+0100
TZOFFSETTO:+0200
TZNAME:Europe/Brussels CEST
END:DAYLIGHT
BEGIN:DAYLIGHT
DTSTART:20330327T030000
RDATE:20331030T020000
TZOFFSETFROM:+0100
TZOFFSETTO:+0200
TZNAME:Europe/Brussels CEST
END:DAYLIGHT
BEGIN:DAYLIGHT
DTSTART:20340326T030000
RDATE:20341029T020000
TZOFFSETFROM:+0100
TZOFFSETTO:+0200
TZNAME:Europe/Brussels CEST
END:DAYLIGHT
BEGIN:DAYLIGHT
DTSTART:20350325T030000
RDATE:20351028T020000
TZOFFSETFROM:+0100
TZOFFSETTO:+0200
TZNAME:Europe/Brussels CEST
END:DAYLIGHT
BEGIN:DAYLIGHT
DTSTART:20360330T030000
RDATE:20361026T020000
TZOFFSETFROM:+0100
TZOFFSETTO:+0200
TZNAME:Europe/Brussels CEST
END:DAYLIGHT
BEGIN:DAYLIGHT
DTSTART:20370329T030000
RDATE:20371025T020000
TZOFFSETFROM:+0100
TZOFFSETTO:+0200
TZNAME:Europe/Brussels CEST
END:DAYLIGHT
END:VTIMEZONE
BEGIN:VEVENT
UID:17354a0f36766932b4b6da9907643a86
CATEGORIES:Activités
CREATED:20230203T170837
SUMMARY:CAFE ANTIFASCISTE#7 - Les nouveaux visages de la démocratie (il)ibérale : de l'extrême-centre à l'extême-droire - Rencontre/débat avec Alain Deneault
LOCATION:Peuple et Culture rue du Beau Mur 45 à Liège
DESCRIPTION:Alain Deneault est philosophe. Il a publié différents travaux sur les enjeu
 x relatifs à la criminalité économique et sur le pouvoir des « médiocres » 
 à savoir ceux qui renoncent à toute originalité, à toute remise en cause de
 s systèmes sociaux établis, ceux qui prônent des positions médianes et stér
 iles.\nLa médiocratie désigne ainsi pour l’auteur un régime où la moyenne d
 evient une norme impérieuse qu’il s’agit d’incarner. Il voit dans ce régime
  d’« extrême-centre »,   une « révolution anesthésiante » et un extrémisme 
 violent qui cache son nom « en excluant comme pathologique tout ce qui ne c
 adre pas avec un juste milieu arbitrairement proclamé. »\nCette intolérance
  (en) politique s’exprime notamment par un usage tangible de la violence ex
 ercée par l’Etat : répression exercée à l’encontre des Gilets jaunes, mesur
 es accompagnant l’adoption de la loi de sécurité globale et la loi contre l
 e séparatisme, gestion autoritaire de la pandémie du SARS-COV2,...\nCe cons
 tat préoccupant s’accompagne d’un double sentiment d’urgence : lutter contr
 e la recrudescence, au niveau européen, des mouvements d’extrême-droite pol
 itiques et lutter contre des modes de gouvernement de plus en plus violents
 , de plus en plus concentrés dans les seules mains de l’exécutif, quand ce 
 n’est pas dans celles d’opérateurs économiques privés…\nLa situation est à 
 ce point préoccupante qu’on peut, à juste titre, parler d’extrême-droitisat
 ion, voire de fascisation de l’espace public en faisant l’hypothèse qu’est 
 en train de s’opérer un tournant, un durcissement autoritaire qui risque, d
 emain, d’avoir de funestes conséquences …\nPour éclairer cette tension entr
 e extrême-centre et extrême-droite, l’auteur nous proposera dans un premier
  temps de réfléchir avec lui sur la notion d’extrême-centre et de la contex
 tualiser en tenant compte des phénomènes politiques et sociaux à l’œuvre ac
 tuellement pour envisager ensuite les rapports entre l’extrême-centre, les 
 phénomènes d’extrême-droitisation et l’extrême-droite en tant que telle.\nA
 fin de préparer l’échange et la discussion, le café antifasciste débutera l
 e 9 mars à 17h30 dans les locaux de Peuple &amp; Culture par la lecture col
 lective de l’article « Politiques de l’extrême-centre ».  Elle sera suivie 
 à 19h par un échange en visioconférence avec l’auteur.\n
X-ALT-DESC;FMTTYPE=text/html:<p>Alain Deneault est philosophe. Il a publié différents travaux sur les en
 jeux relatifs à la criminalité économique et sur le pouvoir des « médiocres
  » à savoir ceux qui renoncent à toute originalité, à toute remise en cause
  des systèmes sociaux établis, ceux qui prônent des positions médianes et s
 tériles.</p><p>La médiocratie désigne ainsi pour l’auteur un régime où la m
 oyenne devient une norme impérieuse qu’il s’agit d’incarner. Il voit dans c
 e régime d’«&nbsp;extrême-centre », &nbsp;&nbsp;une «&nbsp;révolution anest
 hésiante&nbsp;» et un extrémisme violent qui cache son nom «&nbsp;en exclua
 nt comme pathologique tout ce qui ne cadre pas avec un juste milieu arbitra
 irement proclamé. »</p><p>Cette intolérance (en) politique s’exprime notamm
 ent par un usage tangible de la violence exercée par l’Etat&nbsp;: répressi
 on exercée à l’encontre des Gilets jaunes, mesures accompagnant l’adoption 
 de la loi de sécurité globale et la loi contre le séparatisme, gestion auto
 ritaire de la pandémie du SARS-COV2,...</p><p>Ce constat préoccupant s’acco
 mpagne d’un double sentiment d’urgence&nbsp;: lutter contre la recrudescenc
 e, au niveau européen, des mouvements d’extrême-droite politiques et lutter
  contre des modes de gouvernement de plus en plus violents, de plus en plus
  concentrés dans les seules mains de l’exécutif, quand ce n’est pas dans ce
 lles d’opérateurs économiques privés…</p><p>La situation est à ce point pré
 occupante qu’on peut, à juste titre, parler d’extrême-droitisation, voire d
 e fascisation de l’espace public en faisant l’hypothèse qu’est en train de 
 s’opérer un tournant, un durcissement autoritaire qui risque, demain, d’avo
 ir de funestes conséquences …</p><p>Pour éclairer cette tension entre extrê
 me-centre et extrême-droite, l’auteur nous proposera dans un premier temps 
 de réfléchir avec lui sur la notion d’extrême-centre et de la contextualise
 r en tenant compte des phénomènes politiques et sociaux à l’œuvre actuellem
 ent pour envisager ensuite les rapports entre l’extrême-centre, les phénomè
 nes d’extrême-droitisation et l’extrême-droite en tant que telle.</p><p>Afi
 n de préparer l’échange et la discussion, le café antifasciste débutera le 
 9 mars à 17h30 dans les locaux de Peuple &amp; Culture par la lecture colle
 ctive de l’article «&nbsp;<em>Politiques de l’extrême-centre</em>&nbsp;». &
 nbsp;Elle sera suivie à 19h par un échange en visioconférence avec l’auteur
 .</p>
CONTACT:Cette adresse e-mail est protégée contre les robots spammeurs. Vous devez activer le JavaScript pour la visualiser.
DTSTAMP:20260420T193709
DTSTART;TZID=Europe/Brussels:20220309T173000
DTEND;TZID=Europe/Brussels:20220309T203000
SEQUENCE:0
TRANSP:OPAQUE
END:VEVENT
END:VCALENDAR