BEGIN:VCALENDAR
VERSION:2.0
PRODID:-//jEvents 2.0 for Joomla//EN
CALSCALE:GREGORIAN
METHOD:PUBLISH
BEGIN:VTIMEZONE
TZID:Europe/Brussels
BEGIN:STANDARD
DTSTART:20211109T090000
RDATE:20220327T030000
TZOFFSETFROM:+0200
TZOFFSETTO:+0100
TZNAME:Europe/Brussels CET
END:STANDARD
BEGIN:STANDARD
DTSTART:20221030T020000
RDATE:20230326T030000
TZOFFSETFROM:+0200
TZOFFSETTO:+0100
TZNAME:Europe/Brussels CET
END:STANDARD
BEGIN:STANDARD
DTSTART:20231029T020000
RDATE:20240331T030000
TZOFFSETFROM:+0200
TZOFFSETTO:+0100
TZNAME:Europe/Brussels CET
END:STANDARD
BEGIN:STANDARD
DTSTART:20241027T020000
RDATE:20250330T030000
TZOFFSETFROM:+0200
TZOFFSETTO:+0100
TZNAME:Europe/Brussels CET
END:STANDARD
BEGIN:STANDARD
DTSTART:20251026T020000
RDATE:20260329T030000
TZOFFSETFROM:+0200
TZOFFSETTO:+0100
TZNAME:Europe/Brussels CET
END:STANDARD
BEGIN:STANDARD
DTSTART:20261025T020000
RDATE:20270328T030000
TZOFFSETFROM:+0200
TZOFFSETTO:+0100
TZNAME:Europe/Brussels CET
END:STANDARD
BEGIN:STANDARD
DTSTART:20271031T020000
RDATE:20280326T030000
TZOFFSETFROM:+0200
TZOFFSETTO:+0100
TZNAME:Europe/Brussels CET
END:STANDARD
BEGIN:STANDARD
DTSTART:20281029T020000
RDATE:20290325T030000
TZOFFSETFROM:+0200
TZOFFSETTO:+0100
TZNAME:Europe/Brussels CET
END:STANDARD
BEGIN:STANDARD
DTSTART:20291028T020000
RDATE:20300331T030000
TZOFFSETFROM:+0200
TZOFFSETTO:+0100
TZNAME:Europe/Brussels CET
END:STANDARD
BEGIN:STANDARD
DTSTART:20301027T020000
RDATE:20310330T030000
TZOFFSETFROM:+0200
TZOFFSETTO:+0100
TZNAME:Europe/Brussels CET
END:STANDARD
BEGIN:STANDARD
DTSTART:20311026T020000
RDATE:20320328T030000
TZOFFSETFROM:+0200
TZOFFSETTO:+0100
TZNAME:Europe/Brussels CET
END:STANDARD
BEGIN:STANDARD
DTSTART:20321031T020000
RDATE:20330327T030000
TZOFFSETFROM:+0200
TZOFFSETTO:+0100
TZNAME:Europe/Brussels CET
END:STANDARD
BEGIN:STANDARD
DTSTART:20331030T020000
RDATE:20340326T030000
TZOFFSETFROM:+0200
TZOFFSETTO:+0100
TZNAME:Europe/Brussels CET
END:STANDARD
BEGIN:STANDARD
DTSTART:20341029T020000
RDATE:20350325T030000
TZOFFSETFROM:+0200
TZOFFSETTO:+0100
TZNAME:Europe/Brussels CET
END:STANDARD
BEGIN:STANDARD
DTSTART:20351028T020000
RDATE:20360330T030000
TZOFFSETFROM:+0200
TZOFFSETTO:+0100
TZNAME:Europe/Brussels CET
END:STANDARD
BEGIN:STANDARD
DTSTART:20361026T020000
RDATE:20370329T030000
TZOFFSETFROM:+0200
TZOFFSETTO:+0100
TZNAME:Europe/Brussels CET
END:STANDARD
BEGIN:STANDARD
DTSTART:20371025T020000
TZOFFSETFROM:+0200
TZOFFSETTO:+0100
TZNAME:Europe/Brussels CET
END:STANDARD
BEGIN:DAYLIGHT
DTSTART:20220327T030000
RDATE:20221030T020000
TZOFFSETFROM:+0100
TZOFFSETTO:+0200
TZNAME:Europe/Brussels CEST
END:DAYLIGHT
BEGIN:DAYLIGHT
DTSTART:20230326T030000
RDATE:20231029T020000
TZOFFSETFROM:+0100
TZOFFSETTO:+0200
TZNAME:Europe/Brussels CEST
END:DAYLIGHT
BEGIN:DAYLIGHT
DTSTART:20240331T030000
RDATE:20241027T020000
TZOFFSETFROM:+0100
TZOFFSETTO:+0200
TZNAME:Europe/Brussels CEST
END:DAYLIGHT
BEGIN:DAYLIGHT
DTSTART:20250330T030000
RDATE:20251026T020000
TZOFFSETFROM:+0100
TZOFFSETTO:+0200
TZNAME:Europe/Brussels CEST
END:DAYLIGHT
BEGIN:DAYLIGHT
DTSTART:20260329T030000
RDATE:20261025T020000
TZOFFSETFROM:+0100
TZOFFSETTO:+0200
TZNAME:Europe/Brussels CEST
END:DAYLIGHT
BEGIN:DAYLIGHT
DTSTART:20270328T030000
RDATE:20271031T020000
TZOFFSETFROM:+0100
TZOFFSETTO:+0200
TZNAME:Europe/Brussels CEST
END:DAYLIGHT
BEGIN:DAYLIGHT
DTSTART:20280326T030000
RDATE:20281029T020000
TZOFFSETFROM:+0100
TZOFFSETTO:+0200
TZNAME:Europe/Brussels CEST
END:DAYLIGHT
BEGIN:DAYLIGHT
DTSTART:20290325T030000
RDATE:20291028T020000
TZOFFSETFROM:+0100
TZOFFSETTO:+0200
TZNAME:Europe/Brussels CEST
END:DAYLIGHT
BEGIN:DAYLIGHT
DTSTART:20300331T030000
RDATE:20301027T020000
TZOFFSETFROM:+0100
TZOFFSETTO:+0200
TZNAME:Europe/Brussels CEST
END:DAYLIGHT
BEGIN:DAYLIGHT
DTSTART:20310330T030000
RDATE:20311026T020000
TZOFFSETFROM:+0100
TZOFFSETTO:+0200
TZNAME:Europe/Brussels CEST
END:DAYLIGHT
BEGIN:DAYLIGHT
DTSTART:20320328T030000
RDATE:20321031T020000
TZOFFSETFROM:+0100
TZOFFSETTO:+0200
TZNAME:Europe/Brussels CEST
END:DAYLIGHT
BEGIN:DAYLIGHT
DTSTART:20330327T030000
RDATE:20331030T020000
TZOFFSETFROM:+0100
TZOFFSETTO:+0200
TZNAME:Europe/Brussels CEST
END:DAYLIGHT
BEGIN:DAYLIGHT
DTSTART:20340326T030000
RDATE:20341029T020000
TZOFFSETFROM:+0100
TZOFFSETTO:+0200
TZNAME:Europe/Brussels CEST
END:DAYLIGHT
BEGIN:DAYLIGHT
DTSTART:20350325T030000
RDATE:20351028T020000
TZOFFSETFROM:+0100
TZOFFSETTO:+0200
TZNAME:Europe/Brussels CEST
END:DAYLIGHT
BEGIN:DAYLIGHT
DTSTART:20360330T030000
RDATE:20361026T020000
TZOFFSETFROM:+0100
TZOFFSETTO:+0200
TZNAME:Europe/Brussels CEST
END:DAYLIGHT
BEGIN:DAYLIGHT
DTSTART:20370329T030000
RDATE:20371025T020000
TZOFFSETFROM:+0100
TZOFFSETTO:+0200
TZNAME:Europe/Brussels CEST
END:DAYLIGHT
END:VTIMEZONE
BEGIN:VEVENT
UID:ea853157976cea1e4af96b52725fe8ae
CATEGORIES:Formations
CREATED:20230204T120332
SUMMARY:Répondre à l'appel à projet "Osons la Démocratie culturelle" de la Province de Liège (Jour 3)
LOCATION:Peuple et Culture rue du Beau Mur 45 à Liège
DESCRIPTION:ObjectifsEn amont de l'appel à projet "Osons la démocratie culturelle", la 
 formation vise à accompagner les associations à identifier et s'approprier 
 les spécificités inhérentes aux processus s'inscrivant dans les visées de l
 a démocratie culturelle de façon à être plus à même de définir leur projet 
 dans le cadre de l'appel provincial.\nLe dispositif prévoit d'aborder :\n- 
 L'approche historique de la démocratie culturelle\n- Une réflexion critique
  sur les pratiques visant la démocratie culturelle aujourd'hui\n- Les spéci
 ficités des méthodologies et pédagogies permettant de développer la démocra
 tie culturelle. En quoi la pensée critique et politique des acteurs.trices 
 est-elle indissociable de la démocratie culturelle? Dans quels champs évolu
 e-t-elle? Selon quelle temporalité? Quelles formes revêt-t-elle? Quels crit
 ères d'évaluation?\nMéthodologieAfin de permettre aux associations de prépa
 rer au mieux le dossier qu'elles prévoient de déposer dans le cadre de l'ap
 pel provincial, la formation s'appuiera sur la matière des projets "en chan
 tier" que les participant.es amèneront.\nLes méthodologies et les pédagogie
 s s'inscrivent en rupture avec le modèle scolaire et requièrent une implica
 tion active des participant.es.\nPublicTravailleur.euse.s salarié.e.s ou bé
 névoles des secteurs associatif ou non marchand public et privé travaillant
  avec des groupes d’adultes ou de jeunes.\nPrix 150€\nTélécharger l'appel à
  projet : https://www.provincedeliege.be/fr/node/16308\n
X-ALT-DESC;FMTTYPE=text/html:<h4 lang="fr-FR">Objectifs</h4><p lang="fr-FR">En amont de l'appel à projet
  "Osons la démocratie culturelle", la formation vise à accompagner les asso
 ciations à identifier et s'approprier les spécificités inhérentes aux proce
 ssus s'inscrivant dans les visées de la démocratie culturelle de façon à êt
 re plus à même de définir leur projet dans le cadre de l'appel provincial.<
 /p><p lang="fr-FR">Le dispositif prévoit d'aborder :</p><p lang="fr-FR">- L
 'approche historique de la démocratie culturelle</p><p lang="fr-FR">- Une r
 éflexion critique sur les pratiques visant la démocratie culturelle aujourd
 'hui</p><p lang="fr-FR">- Les spécificités des méthodologies et pédagogies 
 permettant de développer la démocratie culturelle. En quoi la pensée critiq
 ue et politique des acteurs.trices est-elle indissociable de la démocratie 
 culturelle? Dans quels champs évolue-t-elle? Selon quelle temporalité? Quel
 les formes revêt-t-elle? Quels critères d'évaluation?</p><h4 lang="fr-FR">M
 éthodologie</h4><p>Afin de permettre aux associations de préparer au mieux 
 le dossier qu'elles prévoient de déposer dans le cadre de l'appel provincia
 l, la formation s'appuiera sur la matière des projets "en chantier" que les
  participant.es amèneront.</p><p lang="fr-FR">Les méthodologies et les péda
 gogies s'inscrivent en rupture avec le modèle scolaire et requièrent une im
 plication active des participant.es.</p><h4 lang="fr-FR">Public</h4><p lang
 ="fr-FR">Travailleur.euse.s salarié.e.s ou bénévoles des secteurs associati
 f ou non marchand public et privé travaillant avec des groupes d’adultes ou
  de jeunes.</p><h4 lang="fr-FR">Prix&nbsp;</h4><p lang="fr-FR">150€</p><p>T
 élécharger l'appel à projet : <a id="LPlnk846009" class="moz-txt-link-freet
 ext" href="https://www.provincedeliege.be/fr/node/16308">https://www.provin
 cedeliege.be/fr/node/16308</a></p>
CONTACT:Cette adresse e-mail est protégée contre les robots spammeurs. Vous devez activer le JavaScript pour la visualiser.
DTSTAMP:20260420T090016
DTSTART;TZID=Europe/Brussels:20221110T090000
DTEND;TZID=Europe/Brussels:20221110T170000
SEQUENCE:0
TRANSP:OPAQUE
END:VEVENT
END:VCALENDAR