BEGIN:VCALENDAR
VERSION:2.0
PRODID:-//jEvents 2.0 for Joomla//EN
CALSCALE:GREGORIAN
METHOD:PUBLISH
BEGIN:VTIMEZONE
TZID:Europe/Brussels
BEGIN:STANDARD
DTSTART:20211031T020000
RDATE:20220327T030000
TZOFFSETFROM:+0200
TZOFFSETTO:+0100
TZNAME:Europe/Brussels CET
END:STANDARD
BEGIN:STANDARD
DTSTART:20221030T020000
RDATE:20230326T030000
TZOFFSETFROM:+0200
TZOFFSETTO:+0100
TZNAME:Europe/Brussels CET
END:STANDARD
BEGIN:STANDARD
DTSTART:20231029T020000
RDATE:20240331T030000
TZOFFSETFROM:+0200
TZOFFSETTO:+0100
TZNAME:Europe/Brussels CET
END:STANDARD
BEGIN:STANDARD
DTSTART:20241027T020000
RDATE:20250330T030000
TZOFFSETFROM:+0200
TZOFFSETTO:+0100
TZNAME:Europe/Brussels CET
END:STANDARD
BEGIN:STANDARD
DTSTART:20251026T020000
RDATE:20260329T030000
TZOFFSETFROM:+0200
TZOFFSETTO:+0100
TZNAME:Europe/Brussels CET
END:STANDARD
BEGIN:STANDARD
DTSTART:20261025T020000
RDATE:20270328T030000
TZOFFSETFROM:+0200
TZOFFSETTO:+0100
TZNAME:Europe/Brussels CET
END:STANDARD
BEGIN:STANDARD
DTSTART:20271031T020000
RDATE:20280326T030000
TZOFFSETFROM:+0200
TZOFFSETTO:+0100
TZNAME:Europe/Brussels CET
END:STANDARD
BEGIN:STANDARD
DTSTART:20281029T020000
RDATE:20290325T030000
TZOFFSETFROM:+0200
TZOFFSETTO:+0100
TZNAME:Europe/Brussels CET
END:STANDARD
BEGIN:STANDARD
DTSTART:20291028T020000
RDATE:20300331T030000
TZOFFSETFROM:+0200
TZOFFSETTO:+0100
TZNAME:Europe/Brussels CET
END:STANDARD
BEGIN:STANDARD
DTSTART:20301027T020000
RDATE:20310330T030000
TZOFFSETFROM:+0200
TZOFFSETTO:+0100
TZNAME:Europe/Brussels CET
END:STANDARD
BEGIN:STANDARD
DTSTART:20311026T020000
RDATE:20320328T030000
TZOFFSETFROM:+0200
TZOFFSETTO:+0100
TZNAME:Europe/Brussels CET
END:STANDARD
BEGIN:STANDARD
DTSTART:20321031T020000
RDATE:20330327T030000
TZOFFSETFROM:+0200
TZOFFSETTO:+0100
TZNAME:Europe/Brussels CET
END:STANDARD
BEGIN:STANDARD
DTSTART:20331030T020000
RDATE:20340326T030000
TZOFFSETFROM:+0200
TZOFFSETTO:+0100
TZNAME:Europe/Brussels CET
END:STANDARD
BEGIN:STANDARD
DTSTART:20341029T020000
RDATE:20350325T030000
TZOFFSETFROM:+0200
TZOFFSETTO:+0100
TZNAME:Europe/Brussels CET
END:STANDARD
BEGIN:STANDARD
DTSTART:20351028T020000
RDATE:20360330T030000
TZOFFSETFROM:+0200
TZOFFSETTO:+0100
TZNAME:Europe/Brussels CET
END:STANDARD
BEGIN:STANDARD
DTSTART:20361026T020000
RDATE:20370329T030000
TZOFFSETFROM:+0200
TZOFFSETTO:+0100
TZNAME:Europe/Brussels CET
END:STANDARD
BEGIN:STANDARD
DTSTART:20371025T020000
TZOFFSETFROM:+0200
TZOFFSETTO:+0100
TZNAME:Europe/Brussels CET
END:STANDARD
BEGIN:DAYLIGHT
DTSTART:20210601T090000
RDATE:20211031T020000
TZOFFSETFROM:+0100
TZOFFSETTO:+0200
TZNAME:Europe/Brussels CEST
END:DAYLIGHT
BEGIN:DAYLIGHT
DTSTART:20220327T030000
RDATE:20221030T020000
TZOFFSETFROM:+0100
TZOFFSETTO:+0200
TZNAME:Europe/Brussels CEST
END:DAYLIGHT
BEGIN:DAYLIGHT
DTSTART:20230326T030000
RDATE:20231029T020000
TZOFFSETFROM:+0100
TZOFFSETTO:+0200
TZNAME:Europe/Brussels CEST
END:DAYLIGHT
BEGIN:DAYLIGHT
DTSTART:20240331T030000
RDATE:20241027T020000
TZOFFSETFROM:+0100
TZOFFSETTO:+0200
TZNAME:Europe/Brussels CEST
END:DAYLIGHT
BEGIN:DAYLIGHT
DTSTART:20250330T030000
RDATE:20251026T020000
TZOFFSETFROM:+0100
TZOFFSETTO:+0200
TZNAME:Europe/Brussels CEST
END:DAYLIGHT
BEGIN:DAYLIGHT
DTSTART:20260329T030000
RDATE:20261025T020000
TZOFFSETFROM:+0100
TZOFFSETTO:+0200
TZNAME:Europe/Brussels CEST
END:DAYLIGHT
BEGIN:DAYLIGHT
DTSTART:20270328T030000
RDATE:20271031T020000
TZOFFSETFROM:+0100
TZOFFSETTO:+0200
TZNAME:Europe/Brussels CEST
END:DAYLIGHT
BEGIN:DAYLIGHT
DTSTART:20280326T030000
RDATE:20281029T020000
TZOFFSETFROM:+0100
TZOFFSETTO:+0200
TZNAME:Europe/Brussels CEST
END:DAYLIGHT
BEGIN:DAYLIGHT
DTSTART:20290325T030000
RDATE:20291028T020000
TZOFFSETFROM:+0100
TZOFFSETTO:+0200
TZNAME:Europe/Brussels CEST
END:DAYLIGHT
BEGIN:DAYLIGHT
DTSTART:20300331T030000
RDATE:20301027T020000
TZOFFSETFROM:+0100
TZOFFSETTO:+0200
TZNAME:Europe/Brussels CEST
END:DAYLIGHT
BEGIN:DAYLIGHT
DTSTART:20310330T030000
RDATE:20311026T020000
TZOFFSETFROM:+0100
TZOFFSETTO:+0200
TZNAME:Europe/Brussels CEST
END:DAYLIGHT
BEGIN:DAYLIGHT
DTSTART:20320328T030000
RDATE:20321031T020000
TZOFFSETFROM:+0100
TZOFFSETTO:+0200
TZNAME:Europe/Brussels CEST
END:DAYLIGHT
BEGIN:DAYLIGHT
DTSTART:20330327T030000
RDATE:20331030T020000
TZOFFSETFROM:+0100
TZOFFSETTO:+0200
TZNAME:Europe/Brussels CEST
END:DAYLIGHT
BEGIN:DAYLIGHT
DTSTART:20340326T030000
RDATE:20341029T020000
TZOFFSETFROM:+0100
TZOFFSETTO:+0200
TZNAME:Europe/Brussels CEST
END:DAYLIGHT
BEGIN:DAYLIGHT
DTSTART:20350325T030000
RDATE:20351028T020000
TZOFFSETFROM:+0100
TZOFFSETTO:+0200
TZNAME:Europe/Brussels CEST
END:DAYLIGHT
BEGIN:DAYLIGHT
DTSTART:20360330T030000
RDATE:20361026T020000
TZOFFSETFROM:+0100
TZOFFSETTO:+0200
TZNAME:Europe/Brussels CEST
END:DAYLIGHT
BEGIN:DAYLIGHT
DTSTART:20370329T030000
RDATE:20371025T020000
TZOFFSETFROM:+0100
TZOFFSETTO:+0200
TZNAME:Europe/Brussels CEST
END:DAYLIGHT
END:VTIMEZONE
BEGIN:VEVENT
UID:b0a14c2eb66688cbb26437ae361de209
CATEGORIES:Formations
CREATED:20230204T121116
SUMMARY:Animer un atelier d'arpentage (Jour 2)
LOCATION:Peuple et Culture rue du Beau Mur 45 à Liège
DESCRIPTION:L’arpentage a été utilisé, en France, dans le milieu ouvrier du 19eme siècl
 e, pour favoriser l’appropriation du savoir de tous par tous. Cette pratiqu
 e, qui s’est ensuite perpétuée dans les associations d’Education populaire,
  permet de lire un livre collectivement, en peu de temps, par un découpage 
 et une répartition des contenus entre les  participantes. La mise en commun
  s’effectue au sein d’un dispositif d’échanges et d’analyses critiques auto
 ur des idées développées dans chacune des parties.\nObjectifs :\nDécouvrir 
 des pensées, des auteur-e-s, des théories. \n Acquérir des savoirs communs 
 et des références communes en lien avec la thématique proposée.\n Construir
 e de l’intelligence collective. \n Expérimenter une pratique de lecture col
 lective qui articule les savoirs d’un auteur et ceux des lecteurs.\nAu prog
 ramme des deux journées : « Les Damnés de la terre » de Frantz Fanon\n « Pu
 blié en 1961, à une époque où la violence coloniale se déchaîne avec la gue
 rre d'Algérie, saisi à de nombreuses reprises lors de sa parution aux Éditi
 ons François Maspero, le livre Les Damnés de la terre, préfacé par Jean-Pau
 l Sartre, a connu un destin exceptionnel. Il a servi – et sert encore aujou
 rd'hui – d'inspiration et de référence à des générations de militants antic
 olonialistes. Son analyse du traumatisme du colonisé dans le cadre du systè
 me colonial et son projet utopique d'un tiers monde révolutionnaire porteur
  d'un " homme neuf " restent un grand classique du tiers-mondisme, l'œuvre 
 capitale et le testament politique de Frantz Fanon ».\nPrix : 112€ comprena
 nt le livre de Frantz Fanon.\n
X-ALT-DESC;FMTTYPE=text/html:<p>L’arpentage a été utilisé, en France, dans le milieu ouvrier du 19eme si
 ècle, pour favoriser l’appropriation du savoir de tous par tous. Cette prat
 ique, qui s’est ensuite perpétuée dans les associations d’Education populai
 re, permet de lire un livre collectivement, en peu de temps, par un découpa
 ge et une répartition des contenus entre les&nbsp; participantes. La mise e
 n commun s’effectue au sein d’un dispositif d’échanges et d’analyses critiq
 ues autour des idées développées dans chacune des parties.</p><p><strong>Ob
 jectifs :</strong></p><p>Découvrir des pensées, des auteur-e-s, des théorie
 s. <br /> Acquérir des savoirs communs et des références communes en lien a
 vec la thématique proposée.<br /> Construire de l’intelligence collective. 
 <br /> Expérimenter une pratique de lecture collective qui articule les sav
 oirs d’un auteur et ceux des lecteurs.</p><p>Au programme des deux journées
 &nbsp;: «&nbsp;<strong>Les Damnés de la terre&nbsp;» de Frantz Fanon</stron
 g><br /> «&nbsp;<em>Publié en 1961, à une époque où la violence coloniale s
 e déchaîne avec la guerre d'Algérie, saisi à de nombreuses reprises lors de
  sa parution aux Éditions François Maspero, le livre Les Damnés de la terre
 , préfacé par Jean-Paul Sartre, a connu un destin exceptionnel. Il a servi 
 – et sert encore aujourd'hui – d'inspiration et de référence à des générati
 ons de militants anticolonialistes. Son analyse du traumatisme du colonisé 
 dans le cadre du système colonial et son projet utopique d'un tiers monde r
 évolutionnaire porteur d'un " homme neuf " restent un grand classique du ti
 ers-mondisme, l'œuvre capitale et le testament politique de Frantz Fanon</e
 m>&nbsp;».</p><p><strong>Prix&nbsp;:</strong> 112€ comprenant le livre de F
 rantz Fanon.</p>
CONTACT:Cette adresse e-mail est protégée contre les robots spammeurs. Vous devez activer le JavaScript pour la visualiser.
DTSTAMP:20260420T154734
DTSTART;TZID=Europe/Brussels:20220602T090000
DTEND;TZID=Europe/Brussels:20220602T170000
SEQUENCE:0
TRANSP:OPAQUE
END:VEVENT
END:VCALENDAR