BEGIN:VCALENDAR
VERSION:2.0
PRODID:-//jEvents 2.0 for Joomla//EN
CALSCALE:GREGORIAN
METHOD:PUBLISH
BEGIN:VTIMEZONE
TZID:Europe/Brussels
BEGIN:STANDARD
DTSTART:20211031T020000
RDATE:20220327T030000
TZOFFSETFROM:+0200
TZOFFSETTO:+0100
TZNAME:Europe/Brussels CET
END:STANDARD
BEGIN:STANDARD
DTSTART:20221030T020000
RDATE:20230326T030000
TZOFFSETFROM:+0200
TZOFFSETTO:+0100
TZNAME:Europe/Brussels CET
END:STANDARD
BEGIN:STANDARD
DTSTART:20231029T020000
RDATE:20240331T030000
TZOFFSETFROM:+0200
TZOFFSETTO:+0100
TZNAME:Europe/Brussels CET
END:STANDARD
BEGIN:STANDARD
DTSTART:20241027T020000
RDATE:20250330T030000
TZOFFSETFROM:+0200
TZOFFSETTO:+0100
TZNAME:Europe/Brussels CET
END:STANDARD
BEGIN:STANDARD
DTSTART:20251026T020000
RDATE:20260329T030000
TZOFFSETFROM:+0200
TZOFFSETTO:+0100
TZNAME:Europe/Brussels CET
END:STANDARD
BEGIN:STANDARD
DTSTART:20261025T020000
RDATE:20270328T030000
TZOFFSETFROM:+0200
TZOFFSETTO:+0100
TZNAME:Europe/Brussels CET
END:STANDARD
BEGIN:STANDARD
DTSTART:20271031T020000
RDATE:20280326T030000
TZOFFSETFROM:+0200
TZOFFSETTO:+0100
TZNAME:Europe/Brussels CET
END:STANDARD
BEGIN:STANDARD
DTSTART:20281029T020000
RDATE:20290325T030000
TZOFFSETFROM:+0200
TZOFFSETTO:+0100
TZNAME:Europe/Brussels CET
END:STANDARD
BEGIN:STANDARD
DTSTART:20291028T020000
RDATE:20300331T030000
TZOFFSETFROM:+0200
TZOFFSETTO:+0100
TZNAME:Europe/Brussels CET
END:STANDARD
BEGIN:STANDARD
DTSTART:20301027T020000
RDATE:20310330T030000
TZOFFSETFROM:+0200
TZOFFSETTO:+0100
TZNAME:Europe/Brussels CET
END:STANDARD
BEGIN:STANDARD
DTSTART:20311026T020000
RDATE:20320328T030000
TZOFFSETFROM:+0200
TZOFFSETTO:+0100
TZNAME:Europe/Brussels CET
END:STANDARD
BEGIN:STANDARD
DTSTART:20321031T020000
RDATE:20330327T030000
TZOFFSETFROM:+0200
TZOFFSETTO:+0100
TZNAME:Europe/Brussels CET
END:STANDARD
BEGIN:STANDARD
DTSTART:20331030T020000
RDATE:20340326T030000
TZOFFSETFROM:+0200
TZOFFSETTO:+0100
TZNAME:Europe/Brussels CET
END:STANDARD
BEGIN:STANDARD
DTSTART:20341029T020000
RDATE:20350325T030000
TZOFFSETFROM:+0200
TZOFFSETTO:+0100
TZNAME:Europe/Brussels CET
END:STANDARD
BEGIN:STANDARD
DTSTART:20351028T020000
RDATE:20360330T030000
TZOFFSETFROM:+0200
TZOFFSETTO:+0100
TZNAME:Europe/Brussels CET
END:STANDARD
BEGIN:STANDARD
DTSTART:20361026T020000
RDATE:20370329T030000
TZOFFSETFROM:+0200
TZOFFSETTO:+0100
TZNAME:Europe/Brussels CET
END:STANDARD
BEGIN:STANDARD
DTSTART:20371025T020000
TZOFFSETFROM:+0200
TZOFFSETTO:+0100
TZNAME:Europe/Brussels CET
END:STANDARD
BEGIN:DAYLIGHT
DTSTART:20210703T090000
RDATE:20211031T020000
TZOFFSETFROM:+0100
TZOFFSETTO:+0200
TZNAME:Europe/Brussels CEST
END:DAYLIGHT
BEGIN:DAYLIGHT
DTSTART:20220327T030000
RDATE:20221030T020000
TZOFFSETFROM:+0100
TZOFFSETTO:+0200
TZNAME:Europe/Brussels CEST
END:DAYLIGHT
BEGIN:DAYLIGHT
DTSTART:20230326T030000
RDATE:20231029T020000
TZOFFSETFROM:+0100
TZOFFSETTO:+0200
TZNAME:Europe/Brussels CEST
END:DAYLIGHT
BEGIN:DAYLIGHT
DTSTART:20240331T030000
RDATE:20241027T020000
TZOFFSETFROM:+0100
TZOFFSETTO:+0200
TZNAME:Europe/Brussels CEST
END:DAYLIGHT
BEGIN:DAYLIGHT
DTSTART:20250330T030000
RDATE:20251026T020000
TZOFFSETFROM:+0100
TZOFFSETTO:+0200
TZNAME:Europe/Brussels CEST
END:DAYLIGHT
BEGIN:DAYLIGHT
DTSTART:20260329T030000
RDATE:20261025T020000
TZOFFSETFROM:+0100
TZOFFSETTO:+0200
TZNAME:Europe/Brussels CEST
END:DAYLIGHT
BEGIN:DAYLIGHT
DTSTART:20270328T030000
RDATE:20271031T020000
TZOFFSETFROM:+0100
TZOFFSETTO:+0200
TZNAME:Europe/Brussels CEST
END:DAYLIGHT
BEGIN:DAYLIGHT
DTSTART:20280326T030000
RDATE:20281029T020000
TZOFFSETFROM:+0100
TZOFFSETTO:+0200
TZNAME:Europe/Brussels CEST
END:DAYLIGHT
BEGIN:DAYLIGHT
DTSTART:20290325T030000
RDATE:20291028T020000
TZOFFSETFROM:+0100
TZOFFSETTO:+0200
TZNAME:Europe/Brussels CEST
END:DAYLIGHT
BEGIN:DAYLIGHT
DTSTART:20300331T030000
RDATE:20301027T020000
TZOFFSETFROM:+0100
TZOFFSETTO:+0200
TZNAME:Europe/Brussels CEST
END:DAYLIGHT
BEGIN:DAYLIGHT
DTSTART:20310330T030000
RDATE:20311026T020000
TZOFFSETFROM:+0100
TZOFFSETTO:+0200
TZNAME:Europe/Brussels CEST
END:DAYLIGHT
BEGIN:DAYLIGHT
DTSTART:20320328T030000
RDATE:20321031T020000
TZOFFSETFROM:+0100
TZOFFSETTO:+0200
TZNAME:Europe/Brussels CEST
END:DAYLIGHT
BEGIN:DAYLIGHT
DTSTART:20330327T030000
RDATE:20331030T020000
TZOFFSETFROM:+0100
TZOFFSETTO:+0200
TZNAME:Europe/Brussels CEST
END:DAYLIGHT
BEGIN:DAYLIGHT
DTSTART:20340326T030000
RDATE:20341029T020000
TZOFFSETFROM:+0100
TZOFFSETTO:+0200
TZNAME:Europe/Brussels CEST
END:DAYLIGHT
BEGIN:DAYLIGHT
DTSTART:20350325T030000
RDATE:20351028T020000
TZOFFSETFROM:+0100
TZOFFSETTO:+0200
TZNAME:Europe/Brussels CEST
END:DAYLIGHT
BEGIN:DAYLIGHT
DTSTART:20360330T030000
RDATE:20361026T020000
TZOFFSETFROM:+0100
TZOFFSETTO:+0200
TZNAME:Europe/Brussels CEST
END:DAYLIGHT
BEGIN:DAYLIGHT
DTSTART:20370329T030000
RDATE:20371025T020000
TZOFFSETFROM:+0100
TZOFFSETTO:+0200
TZNAME:Europe/Brussels CEST
END:DAYLIGHT
END:VTIMEZONE
BEGIN:VEVENT
UID:b3c9c967119aa5e334fe1a4446550ccf
CATEGORIES:Formations
CREATED:20230204T161354
SUMMARY:ANIMER LE JEU ANTIFA, CONTRE L'EXTRËME-DROITE A VOUS DE JOUER (Jour 1)
LOCATION:Peuple et Culture rue du Beau Mur 45 à Liège
DESCRIPTION:<p>La formation vise à accompagner des des travailleur.euse.s salarié.e.s e
 t bénévoles des secteurs associatifs dans l’animation de l’outil pédagogiqu
 e «&nbsp;Antifa&nbsp;». Par une réflexion autour des notions de «&nbsp;fasc
 isme&nbsp;», «&nbsp;d’antifascisme&nbsp;», «&nbsp;d’extrême-droite&nbsp;», 
 la formation permettra de construire des outils critiques de débats et d’an
 alyses sur les groupes antifascistes et les luttes qu’ils mènent.</p><p>En 
 continuant à creuser par le biais du jeu, la formation permettra également 
 de :<strong><br /></strong></p><ul><li>Découvrir l’outil pédagogique de cit
 oyenneté critique ANTIFA</li></ul><ul><li><p>Penser collectivement les moye
 ns de faire face à l’extrême-droite et l’extrême-droitisation de nos sociét
 és</p></li><li><p>Expérimenter, analyser et construire des dispositifs d’an
 imation et des stratégies pédagogiques inscrits dans les visées de l’éducat
 ion permanente ;</p></li></ul><p><strong>Méthodologie</strong></p><p>La mét
 hodologie est ascendante, elle s’appuie sur l’implication des participant.e
 .s dans le dispositif proposé qui laisse une large place à l’expérimentatio
 n, aux échanges et à l’analyse..</p><p><strong>Prix </strong></p><p>100€</p
 ><p><strong><a href="index.php?option=com_rsform&amp;view=rsform&amp;formId
 =1&amp;Itemid=158">Inscriptions</a></strong></p>
X-ALT-DESC;FMTTYPE=text/html:<p>La formation vise à accompagner des des travailleur.euse.s salarié.e.s e
 t bénévoles des secteurs associatifs dans l’animation de l’outil pédagogiqu
 e «&nbsp;Antifa&nbsp;». Par une réflexion autour des notions de «&nbsp;fasc
 isme&nbsp;», «&nbsp;d’antifascisme&nbsp;», «&nbsp;d’extrême-droite&nbsp;», 
 la formation permettra de construire des outils critiques de débats et d’an
 alyses sur les groupes antifascistes et les luttes qu’ils mènent.</p><p>En 
 continuant à creuser par le biais du jeu, la formation permettra également 
 de :<strong><br /></strong></p><ul><li>Découvrir l’outil pédagogique de cit
 oyenneté critique ANTIFA</li></ul><ul><li><p>Penser collectivement les moye
 ns de faire face à l’extrême-droite et l’extrême-droitisation de nos sociét
 és</p></li><li><p>Expérimenter, analyser et construire des dispositifs d’an
 imation et des stratégies pédagogiques inscrits dans les visées de l’éducat
 ion permanente ;</p></li></ul><p><strong>Méthodologie</strong></p><p>La mét
 hodologie est ascendante, elle s’appuie sur l’implication des participant.e
 .s dans le dispositif proposé qui laisse une large place à l’expérimentatio
 n, aux échanges et à l’analyse..</p><p><strong>Prix </strong></p><p>100€</p
 ><p><strong><a href="https://peuple-et-culture-wb.be/index.php?option=com_r
 sform&amp;view=rsform&amp;formId=1&amp;Itemid=158">Inscriptions</a></strong
 ></p>
CONTACT:Cette adresse e-mail est protégée contre les robots spammeurs. Vous devez activer le JavaScript pour la visualiser.
DTSTAMP:20260420T133736
DTSTART;TZID=Europe/Brussels:20220704T090000
DTEND;TZID=Europe/Brussels:20220704T170000
SEQUENCE:0
TRANSP:OPAQUE
END:VEVENT
END:VCALENDAR