BEGIN:VCALENDAR
VERSION:2.0
PRODID:-//jEvents 2.0 for Joomla//EN
CALSCALE:GREGORIAN
METHOD:PUBLISH
BEGIN:VTIMEZONE
TZID:Europe/Brussels
BEGIN:STANDARD
DTSTART:20211031T020000
RDATE:20220327T030000
TZOFFSETFROM:+0200
TZOFFSETTO:+0100
TZNAME:Europe/Brussels CET
END:STANDARD
BEGIN:STANDARD
DTSTART:20221030T020000
RDATE:20230326T030000
TZOFFSETFROM:+0200
TZOFFSETTO:+0100
TZNAME:Europe/Brussels CET
END:STANDARD
BEGIN:STANDARD
DTSTART:20231029T020000
RDATE:20240331T030000
TZOFFSETFROM:+0200
TZOFFSETTO:+0100
TZNAME:Europe/Brussels CET
END:STANDARD
BEGIN:STANDARD
DTSTART:20241027T020000
RDATE:20250330T030000
TZOFFSETFROM:+0200
TZOFFSETTO:+0100
TZNAME:Europe/Brussels CET
END:STANDARD
BEGIN:STANDARD
DTSTART:20251026T020000
RDATE:20260329T030000
TZOFFSETFROM:+0200
TZOFFSETTO:+0100
TZNAME:Europe/Brussels CET
END:STANDARD
BEGIN:STANDARD
DTSTART:20261025T020000
RDATE:20270328T030000
TZOFFSETFROM:+0200
TZOFFSETTO:+0100
TZNAME:Europe/Brussels CET
END:STANDARD
BEGIN:STANDARD
DTSTART:20271031T020000
RDATE:20280326T030000
TZOFFSETFROM:+0200
TZOFFSETTO:+0100
TZNAME:Europe/Brussels CET
END:STANDARD
BEGIN:STANDARD
DTSTART:20281029T020000
RDATE:20290325T030000
TZOFFSETFROM:+0200
TZOFFSETTO:+0100
TZNAME:Europe/Brussels CET
END:STANDARD
BEGIN:STANDARD
DTSTART:20291028T020000
RDATE:20300331T030000
TZOFFSETFROM:+0200
TZOFFSETTO:+0100
TZNAME:Europe/Brussels CET
END:STANDARD
BEGIN:STANDARD
DTSTART:20301027T020000
RDATE:20310330T030000
TZOFFSETFROM:+0200
TZOFFSETTO:+0100
TZNAME:Europe/Brussels CET
END:STANDARD
BEGIN:STANDARD
DTSTART:20311026T020000
RDATE:20320328T030000
TZOFFSETFROM:+0200
TZOFFSETTO:+0100
TZNAME:Europe/Brussels CET
END:STANDARD
BEGIN:STANDARD
DTSTART:20321031T020000
RDATE:20330327T030000
TZOFFSETFROM:+0200
TZOFFSETTO:+0100
TZNAME:Europe/Brussels CET
END:STANDARD
BEGIN:STANDARD
DTSTART:20331030T020000
RDATE:20340326T030000
TZOFFSETFROM:+0200
TZOFFSETTO:+0100
TZNAME:Europe/Brussels CET
END:STANDARD
BEGIN:STANDARD
DTSTART:20341029T020000
RDATE:20350325T030000
TZOFFSETFROM:+0200
TZOFFSETTO:+0100
TZNAME:Europe/Brussels CET
END:STANDARD
BEGIN:STANDARD
DTSTART:20351028T020000
RDATE:20360330T030000
TZOFFSETFROM:+0200
TZOFFSETTO:+0100
TZNAME:Europe/Brussels CET
END:STANDARD
BEGIN:STANDARD
DTSTART:20361026T020000
RDATE:20370329T030000
TZOFFSETFROM:+0200
TZOFFSETTO:+0100
TZNAME:Europe/Brussels CET
END:STANDARD
BEGIN:STANDARD
DTSTART:20371025T020000
TZOFFSETFROM:+0200
TZOFFSETTO:+0100
TZNAME:Europe/Brussels CET
END:STANDARD
BEGIN:DAYLIGHT
DTSTART:20211024T090000
RDATE:20211031T020000
TZOFFSETFROM:+0100
TZOFFSETTO:+0200
TZNAME:Europe/Brussels CEST
END:DAYLIGHT
BEGIN:DAYLIGHT
DTSTART:20220327T030000
RDATE:20221030T020000
TZOFFSETFROM:+0100
TZOFFSETTO:+0200
TZNAME:Europe/Brussels CEST
END:DAYLIGHT
BEGIN:DAYLIGHT
DTSTART:20230326T030000
RDATE:20231029T020000
TZOFFSETFROM:+0100
TZOFFSETTO:+0200
TZNAME:Europe/Brussels CEST
END:DAYLIGHT
BEGIN:DAYLIGHT
DTSTART:20240331T030000
RDATE:20241027T020000
TZOFFSETFROM:+0100
TZOFFSETTO:+0200
TZNAME:Europe/Brussels CEST
END:DAYLIGHT
BEGIN:DAYLIGHT
DTSTART:20250330T030000
RDATE:20251026T020000
TZOFFSETFROM:+0100
TZOFFSETTO:+0200
TZNAME:Europe/Brussels CEST
END:DAYLIGHT
BEGIN:DAYLIGHT
DTSTART:20260329T030000
RDATE:20261025T020000
TZOFFSETFROM:+0100
TZOFFSETTO:+0200
TZNAME:Europe/Brussels CEST
END:DAYLIGHT
BEGIN:DAYLIGHT
DTSTART:20270328T030000
RDATE:20271031T020000
TZOFFSETFROM:+0100
TZOFFSETTO:+0200
TZNAME:Europe/Brussels CEST
END:DAYLIGHT
BEGIN:DAYLIGHT
DTSTART:20280326T030000
RDATE:20281029T020000
TZOFFSETFROM:+0100
TZOFFSETTO:+0200
TZNAME:Europe/Brussels CEST
END:DAYLIGHT
BEGIN:DAYLIGHT
DTSTART:20290325T030000
RDATE:20291028T020000
TZOFFSETFROM:+0100
TZOFFSETTO:+0200
TZNAME:Europe/Brussels CEST
END:DAYLIGHT
BEGIN:DAYLIGHT
DTSTART:20300331T030000
RDATE:20301027T020000
TZOFFSETFROM:+0100
TZOFFSETTO:+0200
TZNAME:Europe/Brussels CEST
END:DAYLIGHT
BEGIN:DAYLIGHT
DTSTART:20310330T030000
RDATE:20311026T020000
TZOFFSETFROM:+0100
TZOFFSETTO:+0200
TZNAME:Europe/Brussels CEST
END:DAYLIGHT
BEGIN:DAYLIGHT
DTSTART:20320328T030000
RDATE:20321031T020000
TZOFFSETFROM:+0100
TZOFFSETTO:+0200
TZNAME:Europe/Brussels CEST
END:DAYLIGHT
BEGIN:DAYLIGHT
DTSTART:20330327T030000
RDATE:20331030T020000
TZOFFSETFROM:+0100
TZOFFSETTO:+0200
TZNAME:Europe/Brussels CEST
END:DAYLIGHT
BEGIN:DAYLIGHT
DTSTART:20340326T030000
RDATE:20341029T020000
TZOFFSETFROM:+0100
TZOFFSETTO:+0200
TZNAME:Europe/Brussels CEST
END:DAYLIGHT
BEGIN:DAYLIGHT
DTSTART:20350325T030000
RDATE:20351028T020000
TZOFFSETFROM:+0100
TZOFFSETTO:+0200
TZNAME:Europe/Brussels CEST
END:DAYLIGHT
BEGIN:DAYLIGHT
DTSTART:20360330T030000
RDATE:20361026T020000
TZOFFSETFROM:+0100
TZOFFSETTO:+0200
TZNAME:Europe/Brussels CEST
END:DAYLIGHT
BEGIN:DAYLIGHT
DTSTART:20370329T030000
RDATE:20371025T020000
TZOFFSETFROM:+0100
TZOFFSETTO:+0200
TZNAME:Europe/Brussels CEST
END:DAYLIGHT
END:VTIMEZONE
BEGIN:VEVENT
UID:487e6f3dc1513840cf85f57765775d1b
CATEGORIES:Formations
CREATED:20230204T163535
SUMMARY:La circulaire ministérielle du 7 mars 2018: repères pour une autoévaluation de l’action des associations d’Education permanente (Jour 2)
LOCATION:Peuple et Culture rue du Beau Mur 45 à Liège
DESCRIPTION:<p>Le cadre décrétal propre au champ de l’Education permanente a connu en 2
 019 des modifications&nbsp; importantes qui vont, dans les prochaines année
 s,&nbsp; influencer en profondeur les conditions de reconnaissance, de fonc
 tionnement, de contrôle et d’évaluation de l’ensemble de ses acteurs.</p><p
 >Opérationnalisant les principes qui en régissent désormais l’application, 
 une série de dispositions nouvelles portent notamment sur l’exigence qualit
 ative à laquelle doivent répondre les projets développés ainsi que sur l’au
 toévaluation (précédemment incluse dans le rapport général d’exécution) ven
 ant éclairer l’action générale des associations d’Education permanente dura
 nt chaque période quinquennale concernée.</p><p>A cette fin, l’auto-évaluat
 ion portera sur la mise en œuvre, par chaque association,&nbsp; de l’articl
 e 1er du Décret.</p><p>C’est le cadre de cette auto-évaluation qu’éclaire «
  La circulaire ministérielle relative au décret du 17 juillet 2003 relatif 
 au soutien de l’action associative dans le champ de l’Education permanente 
 » en offrant un socle commun de compréhension de l’ article fondateur à l’e
 nsemble des acteurs concernés.</p><p><strong>Objectifs </strong></p><p>Perm
 ettre aux participant.e.s :</p><ul><li>De prendre connaissance du texte de 
 la circulaire, de son contexte d’utilisation et d’en faire l’analyse.</li><
 li>De s’en saisir comme outil d’autoévaluation de l’action de leur associat
 ion, en respectant le cadre du formulaire prévu à cet effet.</li></ul><p><s
 trong>Public&nbsp;</strong></p><p>La formation s’adresse aux travailleurs s
 alariés ou bénévoles du secteur de l'Éducation permanente des adultes.</p><
 p><strong>Prix</strong></p><p>Le montant de la participation s’élève à 150€
  pour les deux journées de formation intégralement remboursable par la Fond
 s 4S.</p><p><a href="index.php?option=com_rsform&amp;view=rsform&amp;formId
 =1&amp;Itemid=158"><strong>Inscriptions</strong></a></p>
X-ALT-DESC;FMTTYPE=text/html:<p>Le cadre décrétal propre au champ de l’Education permanente a connu en 2
 019 des modifications&nbsp; importantes qui vont, dans les prochaines année
 s,&nbsp; influencer en profondeur les conditions de reconnaissance, de fonc
 tionnement, de contrôle et d’évaluation de l’ensemble de ses acteurs.</p><p
 >Opérationnalisant les principes qui en régissent désormais l’application, 
 une série de dispositions nouvelles portent notamment sur l’exigence qualit
 ative à laquelle doivent répondre les projets développés ainsi que sur l’au
 toévaluation (précédemment incluse dans le rapport général d’exécution) ven
 ant éclairer l’action générale des associations d’Education permanente dura
 nt chaque période quinquennale concernée.</p><p>A cette fin, l’auto-évaluat
 ion portera sur la mise en œuvre, par chaque association,&nbsp; de l’articl
 e 1er du Décret.</p><p>C’est le cadre de cette auto-évaluation qu’éclaire «
  La circulaire ministérielle relative au décret du 17 juillet 2003 relatif 
 au soutien de l’action associative dans le champ de l’Education permanente 
 » en offrant un socle commun de compréhension de l’ article fondateur à l’e
 nsemble des acteurs concernés.</p><p><strong>Objectifs </strong></p><p>Perm
 ettre aux participant.e.s :</p><ul><li>De prendre connaissance du texte de 
 la circulaire, de son contexte d’utilisation et d’en faire l’analyse.</li><
 li>De s’en saisir comme outil d’autoévaluation de l’action de leur associat
 ion, en respectant le cadre du formulaire prévu à cet effet.</li></ul><p><s
 trong>Public&nbsp;</strong></p><p>La formation s’adresse aux travailleurs s
 alariés ou bénévoles du secteur de l'Éducation permanente des adultes.</p><
 p><strong>Prix</strong></p><p>Le montant de la participation s’élève à 150€
  pour les deux journées de formation intégralement remboursable par la Fond
 s 4S.</p><p><a href="https://peuple-et-culture-wb.be/index.php?option=com_r
 sform&amp;view=rsform&amp;formId=1&amp;Itemid=158"><strong>Inscriptions</st
 rong></a></p>
CONTACT:Cette adresse e-mail est protégée contre les robots spammeurs. Vous devez activer le JavaScript pour la visualiser.
X-EXTRAINFO:Pour que cette formation puisse remplir ses objectifs, nous demandons aux p
 articipant.e.s d’apporter un exemplaire de leurs trois derniers rapports an
 nuels d’activités après en avoir pris globalement connaissance.
DTSTAMP:20260420T101003
DTSTART;TZID=Europe/Brussels:20221025T090000
DTEND;TZID=Europe/Brussels:20221025T170000
SEQUENCE:0
TRANSP:OPAQUE
END:VEVENT
END:VCALENDAR