BEGIN:VCALENDAR
VERSION:2.0
PRODID:-//jEvents 2.0 for Joomla//EN
CALSCALE:GREGORIAN
METHOD:PUBLISH
BEGIN:VTIMEZONE
TZID:Europe/Brussels
BEGIN:STANDARD
DTSTART:20210324T193000
RDATE:20210328T030000
TZOFFSETFROM:+0200
TZOFFSETTO:+0100
TZNAME:Europe/Brussels CET
END:STANDARD
BEGIN:STANDARD
DTSTART:20211031T020000
RDATE:20220327T030000
TZOFFSETFROM:+0200
TZOFFSETTO:+0100
TZNAME:Europe/Brussels CET
END:STANDARD
BEGIN:STANDARD
DTSTART:20221030T020000
RDATE:20230326T030000
TZOFFSETFROM:+0200
TZOFFSETTO:+0100
TZNAME:Europe/Brussels CET
END:STANDARD
BEGIN:STANDARD
DTSTART:20231029T020000
RDATE:20240331T030000
TZOFFSETFROM:+0200
TZOFFSETTO:+0100
TZNAME:Europe/Brussels CET
END:STANDARD
BEGIN:STANDARD
DTSTART:20241027T020000
RDATE:20250330T030000
TZOFFSETFROM:+0200
TZOFFSETTO:+0100
TZNAME:Europe/Brussels CET
END:STANDARD
BEGIN:STANDARD
DTSTART:20251026T020000
RDATE:20260329T030000
TZOFFSETFROM:+0200
TZOFFSETTO:+0100
TZNAME:Europe/Brussels CET
END:STANDARD
BEGIN:STANDARD
DTSTART:20261025T020000
RDATE:20270328T030000
TZOFFSETFROM:+0200
TZOFFSETTO:+0100
TZNAME:Europe/Brussels CET
END:STANDARD
BEGIN:STANDARD
DTSTART:20271031T020000
RDATE:20280326T030000
TZOFFSETFROM:+0200
TZOFFSETTO:+0100
TZNAME:Europe/Brussels CET
END:STANDARD
BEGIN:STANDARD
DTSTART:20281029T020000
RDATE:20290325T030000
TZOFFSETFROM:+0200
TZOFFSETTO:+0100
TZNAME:Europe/Brussels CET
END:STANDARD
BEGIN:STANDARD
DTSTART:20291028T020000
RDATE:20300331T030000
TZOFFSETFROM:+0200
TZOFFSETTO:+0100
TZNAME:Europe/Brussels CET
END:STANDARD
BEGIN:STANDARD
DTSTART:20301027T020000
RDATE:20310330T030000
TZOFFSETFROM:+0200
TZOFFSETTO:+0100
TZNAME:Europe/Brussels CET
END:STANDARD
BEGIN:STANDARD
DTSTART:20311026T020000
RDATE:20320328T030000
TZOFFSETFROM:+0200
TZOFFSETTO:+0100
TZNAME:Europe/Brussels CET
END:STANDARD
BEGIN:STANDARD
DTSTART:20321031T020000
RDATE:20330327T030000
TZOFFSETFROM:+0200
TZOFFSETTO:+0100
TZNAME:Europe/Brussels CET
END:STANDARD
BEGIN:STANDARD
DTSTART:20331030T020000
RDATE:20340326T030000
TZOFFSETFROM:+0200
TZOFFSETTO:+0100
TZNAME:Europe/Brussels CET
END:STANDARD
BEGIN:STANDARD
DTSTART:20341029T020000
RDATE:20350325T030000
TZOFFSETFROM:+0200
TZOFFSETTO:+0100
TZNAME:Europe/Brussels CET
END:STANDARD
BEGIN:STANDARD
DTSTART:20351028T020000
RDATE:20360330T030000
TZOFFSETFROM:+0200
TZOFFSETTO:+0100
TZNAME:Europe/Brussels CET
END:STANDARD
BEGIN:STANDARD
DTSTART:20361026T020000
RDATE:20370329T030000
TZOFFSETFROM:+0200
TZOFFSETTO:+0100
TZNAME:Europe/Brussels CET
END:STANDARD
BEGIN:STANDARD
DTSTART:20371025T020000
TZOFFSETFROM:+0200
TZOFFSETTO:+0100
TZNAME:Europe/Brussels CET
END:STANDARD
BEGIN:DAYLIGHT
DTSTART:20210328T030000
RDATE:20211031T020000
TZOFFSETFROM:+0100
TZOFFSETTO:+0200
TZNAME:Europe/Brussels CEST
END:DAYLIGHT
BEGIN:DAYLIGHT
DTSTART:20220327T030000
RDATE:20221030T020000
TZOFFSETFROM:+0100
TZOFFSETTO:+0200
TZNAME:Europe/Brussels CEST
END:DAYLIGHT
BEGIN:DAYLIGHT
DTSTART:20230326T030000
RDATE:20231029T020000
TZOFFSETFROM:+0100
TZOFFSETTO:+0200
TZNAME:Europe/Brussels CEST
END:DAYLIGHT
BEGIN:DAYLIGHT
DTSTART:20240331T030000
RDATE:20241027T020000
TZOFFSETFROM:+0100
TZOFFSETTO:+0200
TZNAME:Europe/Brussels CEST
END:DAYLIGHT
BEGIN:DAYLIGHT
DTSTART:20250330T030000
RDATE:20251026T020000
TZOFFSETFROM:+0100
TZOFFSETTO:+0200
TZNAME:Europe/Brussels CEST
END:DAYLIGHT
BEGIN:DAYLIGHT
DTSTART:20260329T030000
RDATE:20261025T020000
TZOFFSETFROM:+0100
TZOFFSETTO:+0200
TZNAME:Europe/Brussels CEST
END:DAYLIGHT
BEGIN:DAYLIGHT
DTSTART:20270328T030000
RDATE:20271031T020000
TZOFFSETFROM:+0100
TZOFFSETTO:+0200
TZNAME:Europe/Brussels CEST
END:DAYLIGHT
BEGIN:DAYLIGHT
DTSTART:20280326T030000
RDATE:20281029T020000
TZOFFSETFROM:+0100
TZOFFSETTO:+0200
TZNAME:Europe/Brussels CEST
END:DAYLIGHT
BEGIN:DAYLIGHT
DTSTART:20290325T030000
RDATE:20291028T020000
TZOFFSETFROM:+0100
TZOFFSETTO:+0200
TZNAME:Europe/Brussels CEST
END:DAYLIGHT
BEGIN:DAYLIGHT
DTSTART:20300331T030000
RDATE:20301027T020000
TZOFFSETFROM:+0100
TZOFFSETTO:+0200
TZNAME:Europe/Brussels CEST
END:DAYLIGHT
BEGIN:DAYLIGHT
DTSTART:20310330T030000
RDATE:20311026T020000
TZOFFSETFROM:+0100
TZOFFSETTO:+0200
TZNAME:Europe/Brussels CEST
END:DAYLIGHT
BEGIN:DAYLIGHT
DTSTART:20320328T030000
RDATE:20321031T020000
TZOFFSETFROM:+0100
TZOFFSETTO:+0200
TZNAME:Europe/Brussels CEST
END:DAYLIGHT
BEGIN:DAYLIGHT
DTSTART:20330327T030000
RDATE:20331030T020000
TZOFFSETFROM:+0100
TZOFFSETTO:+0200
TZNAME:Europe/Brussels CEST
END:DAYLIGHT
BEGIN:DAYLIGHT
DTSTART:20340326T030000
RDATE:20341029T020000
TZOFFSETFROM:+0100
TZOFFSETTO:+0200
TZNAME:Europe/Brussels CEST
END:DAYLIGHT
BEGIN:DAYLIGHT
DTSTART:20350325T030000
RDATE:20351028T020000
TZOFFSETFROM:+0100
TZOFFSETTO:+0200
TZNAME:Europe/Brussels CEST
END:DAYLIGHT
BEGIN:DAYLIGHT
DTSTART:20360330T030000
RDATE:20361026T020000
TZOFFSETFROM:+0100
TZOFFSETTO:+0200
TZNAME:Europe/Brussels CEST
END:DAYLIGHT
BEGIN:DAYLIGHT
DTSTART:20370329T030000
RDATE:20371025T020000
TZOFFSETFROM:+0100
TZOFFSETTO:+0200
TZNAME:Europe/Brussels CEST
END:DAYLIGHT
END:VTIMEZONE
BEGIN:VEVENT
UID:81bb95b4e37dccdec11dcc19227fc928
CATEGORIES:Université populaire
CREATED:20230205T160918
SUMMARY:LES GENS DE PEU - soirée-débat
LOCATION:Centre Liegeois du Beau Mur\, rue du Beau Mur 48 à 4030 Liège
DESCRIPTION:Peuple et Culture et le Centre Liégeois du Beau Mur vous propose un seul en
  scène de Thierry Müller \n"Ce soir, je hurle à la mort contre ceux qui nou
 s gouvernent et qui nous exploitent. Ce soir, je brûle mes papiers et les p
 apiers du monde entier. \nCe soir, je hurle ton nom, liberté. Ce soir, batt
 u, la gorge serrée et les mains tremblantes, je chante l'amour des peuples 
 vaincus. \nIls ont arraché quelque chose en moi de vital: ils m'ont arraché
  Celma."\nParcours d’insoumissions, rythmé de doutes, de velléités, d’achar
 nements, d’enthousiasmes à transformer le monde, \n« LES GENS DE PEU » est 
 un spectacle plein de vitalité et d’audace inspiré par la vie même de celui
  qui le joue. \nIl interroge la désobéissance comme mode de lutte, voire d’
 existence au quotidien, et son corollaire nécessaire : la solidarité, la vr
 aie, pas la condescendante mais celle où s’ancrent la réciprocité, le désir
  et l’amitié. Des échanges de sourires aux de moqueries bienveillantes en p
 assant par les coups de mains clandestins ou illégaux, « LES GENS DE PEU » 
 nous balancent des claques d’amour, celles qui remettent debout quand on se
  sent devenir paralytiques. L’histoire s’ouvre sur le rappel d’un double me
 urtre commis par une sixaine de nazillon à l’uniforme noir et au brassard r
 ouge, le soir de Noël 44, au creux d’un village ardennais silencieux. Exécu
 tion sommaire de deux frères, l’un résistant, l’autre juste curieux et inqu
 iet de l’arrestation de son frère.Ce premier récit sanglant nous est racont
 é comme pour camper que l’histoire qui va suivre trouve ses racines dans to
 ute rébellion à l’ordre inique. Ces solidarités fraternelles qui peuvent co
 ûter cher face au monstre du pouvoir...\nLa représentation sera suivie d'un
  débat avec le comédien et le public\n\nPRIX : 10 € entrée standard - 5 € e
 ntrée prix réduit\n
X-ALT-DESC;FMTTYPE=text/html:<p><span style="font-size: 12pt;"><strong>Peuple et Culture et le Centre Li
 égeois du Beau Mur vous propose un seul en scène de Thierry Müller</strong>
  </span></p><p>"<em>Ce soir, je hurle à la mort contre ceux qui nous gouver
 nent et qui nous exploitent. Ce soir, je brûle mes papiers et les papiers d
 u monde entier. </em><br /><em>Ce soir, je hurle ton nom, liberté. Ce soir,
  battu, la gorge serrée et les mains tremblantes, je chante l'amour des peu
 ples vaincus. </em><br /><em>Ils ont arraché quelque chose en moi de vital:
  ils m'ont arraché Celma</em>."</p><p>Parcours d’insoumissions, rythmé de d
 outes, de velléités, d’acharnements, d’enthousiasmes à transformer le monde
 , <br />« LES GENS DE PEU » est un spectacle plein de vitalité et d’audace 
 inspiré par la vie même de celui qui le joue. <br />Il interroge la désobéi
 ssance comme mode de lutte, voire d’existence au quotidien, et son corollai
 re nécessaire : la solidarité, la vraie, pas la condescendante mais celle o
 ù s’ancrent la réciprocité, le désir et l’amitié. Des échanges de sourires 
 aux de moqueries bienveillantes en passant par les coups de mains clandesti
 ns ou illégaux, « LES GENS DE PEU » nous balancent des claques d’amour, cel
 les qui remettent debout quand on se sent devenir paralytiques. L’histoire 
 s’ouvre sur le rappel d’un double meurtre commis par une sixaine de nazillo
 n à l’uniforme noir et au brassard rouge, le soir de Noël 44, au creux d’un
  village ardennais silencieux. Exécution sommaire de deux frères, l’un rési
 stant, l’autre juste curieux et inquiet de l’arrestation de son frère.Ce pr
 emier récit sanglant nous est raconté comme pour camper que l’histoire qui 
 va suivre trouve ses racines dans toute rébellion à l’ordre inique. Ces sol
 idarités fraternelles qui peuvent coûter cher face au monstre du pouvoir...
 </p><p>La représentation sera suivie d'un débat avec le comédien et le publ
 ic</p><p><br />PRIX : 10 € entrée standard - 5 € entrée prix réduit</p>
CONTACT:Cette adresse e-mail est protégée contre les robots spammeurs. Vous devez activer le JavaScript pour la visualiser.
X-EXTRAINFO:Réservation obligatoire par courriel ou par téléphone 04/3490144
DTSTAMP:20260420T183742
DTSTART;TZID=Europe/Brussels:20220325T193000
SEQUENCE:0
TRANSP:OPAQUE
END:VEVENT
END:VCALENDAR