BEGIN:VCALENDAR
VERSION:2.0
PRODID:-//jEvents 2.0 for Joomla//EN
CALSCALE:GREGORIAN
METHOD:PUBLISH
BEGIN:VTIMEZONE
TZID:Europe/Brussels
BEGIN:STANDARD
DTSTART:20221030T020000
RDATE:20230326T030000
TZOFFSETFROM:+0200
TZOFFSETTO:+0100
TZNAME:Europe/Brussels CET
END:STANDARD
BEGIN:STANDARD
DTSTART:20231029T020000
RDATE:20240331T030000
TZOFFSETFROM:+0200
TZOFFSETTO:+0100
TZNAME:Europe/Brussels CET
END:STANDARD
BEGIN:STANDARD
DTSTART:20241027T020000
RDATE:20250330T030000
TZOFFSETFROM:+0200
TZOFFSETTO:+0100
TZNAME:Europe/Brussels CET
END:STANDARD
BEGIN:STANDARD
DTSTART:20251026T020000
RDATE:20260329T030000
TZOFFSETFROM:+0200
TZOFFSETTO:+0100
TZNAME:Europe/Brussels CET
END:STANDARD
BEGIN:STANDARD
DTSTART:20261025T020000
RDATE:20270328T030000
TZOFFSETFROM:+0200
TZOFFSETTO:+0100
TZNAME:Europe/Brussels CET
END:STANDARD
BEGIN:STANDARD
DTSTART:20271031T020000
RDATE:20280326T030000
TZOFFSETFROM:+0200
TZOFFSETTO:+0100
TZNAME:Europe/Brussels CET
END:STANDARD
BEGIN:STANDARD
DTSTART:20281029T020000
RDATE:20290325T030000
TZOFFSETFROM:+0200
TZOFFSETTO:+0100
TZNAME:Europe/Brussels CET
END:STANDARD
BEGIN:STANDARD
DTSTART:20291028T020000
RDATE:20300331T030000
TZOFFSETFROM:+0200
TZOFFSETTO:+0100
TZNAME:Europe/Brussels CET
END:STANDARD
BEGIN:STANDARD
DTSTART:20301027T020000
RDATE:20310330T030000
TZOFFSETFROM:+0200
TZOFFSETTO:+0100
TZNAME:Europe/Brussels CET
END:STANDARD
BEGIN:STANDARD
DTSTART:20311026T020000
RDATE:20320328T030000
TZOFFSETFROM:+0200
TZOFFSETTO:+0100
TZNAME:Europe/Brussels CET
END:STANDARD
BEGIN:STANDARD
DTSTART:20321031T020000
RDATE:20330327T030000
TZOFFSETFROM:+0200
TZOFFSETTO:+0100
TZNAME:Europe/Brussels CET
END:STANDARD
BEGIN:STANDARD
DTSTART:20331030T020000
RDATE:20340326T030000
TZOFFSETFROM:+0200
TZOFFSETTO:+0100
TZNAME:Europe/Brussels CET
END:STANDARD
BEGIN:STANDARD
DTSTART:20341029T020000
RDATE:20350325T030000
TZOFFSETFROM:+0200
TZOFFSETTO:+0100
TZNAME:Europe/Brussels CET
END:STANDARD
BEGIN:STANDARD
DTSTART:20351028T020000
RDATE:20360330T030000
TZOFFSETFROM:+0200
TZOFFSETTO:+0100
TZNAME:Europe/Brussels CET
END:STANDARD
BEGIN:STANDARD
DTSTART:20361026T020000
RDATE:20370329T030000
TZOFFSETFROM:+0200
TZOFFSETTO:+0100
TZNAME:Europe/Brussels CET
END:STANDARD
BEGIN:STANDARD
DTSTART:20371025T020000
TZOFFSETFROM:+0200
TZOFFSETTO:+0100
TZNAME:Europe/Brussels CET
END:STANDARD
BEGIN:DAYLIGHT
DTSTART:20220531T090000
RDATE:20221030T020000
TZOFFSETFROM:+0100
TZOFFSETTO:+0200
TZNAME:Europe/Brussels CEST
END:DAYLIGHT
BEGIN:DAYLIGHT
DTSTART:20230326T030000
RDATE:20231029T020000
TZOFFSETFROM:+0100
TZOFFSETTO:+0200
TZNAME:Europe/Brussels CEST
END:DAYLIGHT
BEGIN:DAYLIGHT
DTSTART:20240331T030000
RDATE:20241027T020000
TZOFFSETFROM:+0100
TZOFFSETTO:+0200
TZNAME:Europe/Brussels CEST
END:DAYLIGHT
BEGIN:DAYLIGHT
DTSTART:20250330T030000
RDATE:20251026T020000
TZOFFSETFROM:+0100
TZOFFSETTO:+0200
TZNAME:Europe/Brussels CEST
END:DAYLIGHT
BEGIN:DAYLIGHT
DTSTART:20260329T030000
RDATE:20261025T020000
TZOFFSETFROM:+0100
TZOFFSETTO:+0200
TZNAME:Europe/Brussels CEST
END:DAYLIGHT
BEGIN:DAYLIGHT
DTSTART:20270328T030000
RDATE:20271031T020000
TZOFFSETFROM:+0100
TZOFFSETTO:+0200
TZNAME:Europe/Brussels CEST
END:DAYLIGHT
BEGIN:DAYLIGHT
DTSTART:20280326T030000
RDATE:20281029T020000
TZOFFSETFROM:+0100
TZOFFSETTO:+0200
TZNAME:Europe/Brussels CEST
END:DAYLIGHT
BEGIN:DAYLIGHT
DTSTART:20290325T030000
RDATE:20291028T020000
TZOFFSETFROM:+0100
TZOFFSETTO:+0200
TZNAME:Europe/Brussels CEST
END:DAYLIGHT
BEGIN:DAYLIGHT
DTSTART:20300331T030000
RDATE:20301027T020000
TZOFFSETFROM:+0100
TZOFFSETTO:+0200
TZNAME:Europe/Brussels CEST
END:DAYLIGHT
BEGIN:DAYLIGHT
DTSTART:20310330T030000
RDATE:20311026T020000
TZOFFSETFROM:+0100
TZOFFSETTO:+0200
TZNAME:Europe/Brussels CEST
END:DAYLIGHT
BEGIN:DAYLIGHT
DTSTART:20320328T030000
RDATE:20321031T020000
TZOFFSETFROM:+0100
TZOFFSETTO:+0200
TZNAME:Europe/Brussels CEST
END:DAYLIGHT
BEGIN:DAYLIGHT
DTSTART:20330327T030000
RDATE:20331030T020000
TZOFFSETFROM:+0100
TZOFFSETTO:+0200
TZNAME:Europe/Brussels CEST
END:DAYLIGHT
BEGIN:DAYLIGHT
DTSTART:20340326T030000
RDATE:20341029T020000
TZOFFSETFROM:+0100
TZOFFSETTO:+0200
TZNAME:Europe/Brussels CEST
END:DAYLIGHT
BEGIN:DAYLIGHT
DTSTART:20350325T030000
RDATE:20351028T020000
TZOFFSETFROM:+0100
TZOFFSETTO:+0200
TZNAME:Europe/Brussels CEST
END:DAYLIGHT
BEGIN:DAYLIGHT
DTSTART:20360330T030000
RDATE:20361026T020000
TZOFFSETFROM:+0100
TZOFFSETTO:+0200
TZNAME:Europe/Brussels CEST
END:DAYLIGHT
BEGIN:DAYLIGHT
DTSTART:20370329T030000
RDATE:20371025T020000
TZOFFSETFROM:+0100
TZOFFSETTO:+0200
TZNAME:Europe/Brussels CEST
END:DAYLIGHT
END:VTIMEZONE
BEGIN:VEVENT
UID:2c388310b385d01e709451e18c1599bb
CATEGORIES:Formations
CREATED:20230205T164242
SUMMARY:FAIRE VIVRE LA PARTICIPATION CITOYENNE AU NIVEAU LOCAL AVEC LA METHODE DU JEU DE SIMULATION (Jour 3)
LOCATION:Auberge Simenon rue Georges Simenon\, 2 à 4000 Liège
DESCRIPTION:Faire vivre la participation citoyenne au niveau local avec la méthode du j
 eu de simulation (Planspiel en allemand)  \n \n \nPeuple et Culture, Polysp
 ektiv, Peuple et Culture Wallonie-Bruxelles et Atout-Diversité organisent, 
 avec le soutien du programme Erasmus+ et de l'Office franco-allemand pour l
 a Jeunesse (OFAJ), une formation pour renforcer la participation citoyenne 
 au niveau local et vivre une expérience interculturelle franco-germano-belg
 e.\nLa formation vise à expérimenter la méthode du jeu de simulation pour p
 ermettre aux professionnel.le.s, bénévoles ou militant.e.s des secteurs ass
 ociatifs de reporter ce processus de prises de décisions démocratiques aupr
 ès de leurs publics. Durant la formation, ielles entreront « dans la peau »
  de femmes et d’hommes politiques et feront vivre la participation citoyenn
 e pour renforcer la démocratie localLa formation permet :  \n\n - le renfor
 cement de compétences socio-politiques telles que la coopération, la négoci
 ation, la médiation, l’engagement et la solidarité ainsi que de compétences
  psychosociales : confiance en soi, empathie…\n - le développement de capac
 ités de communication : écouter activement, exprimer librement son propre p
 oint de vue, modérer des échanges, animer des débats.\n - l’éducation à la 
 démocratie et à la citoyenneté active et participative.Une traduction simul
 tanée sera assurée pendant la formation dans les langues du séminaire, à sa
 voir le français et l’allemand.\nPRIX : 150€ par personne pour l'ensemble d
 e la formation (comprenant les frais d’hébergement et de restauration).\nLe
 s participant-e-s s'engagent à être présent-e-s tout au long du processus.\
 nInscriptions (index.php?option=com_rsform&amp;view=rsform&amp;formId=1&amp
 ;Itemid=158)\nDécouvrir en images (https://youtu.be/yCzqeUO9GpA)\n
X-ALT-DESC;FMTTYPE=text/html:<p><strong>Faire vivre la participation citoyenne au niveau local avec la m
 éthode du jeu de simulation (Planspiel en allemand)&nbsp; <br /> <br /> </s
 trong></p><p>Peuple et Culture<strong>, </strong>Polyspektiv, Peuple et Cul
 ture Wallonie-Bruxelles et Atout-Diversité organisent, avec le soutien du p
 rogramme <strong>Erasmus+ </strong>et de l'<strong>Office franco-allemand p
 our la Jeunesse (OFAJ)</strong>, une formation pour renforcer la participat
 ion citoyenne au niveau local et vivre une expérience interculturelle franc
 o-germano-belge.</p><p>La formation vise à expérimenter la méthode du jeu d
 e simulation pour permettre aux professionnel.le.s, bénévoles ou militant.e
 .s des secteurs associatifs de reporter ce processus de prises de décisions
  démocratiques auprès de leurs publics. Durant la formation, ielles entrero
 nt «&nbsp;dans la peau&nbsp;» de femmes et d’hommes politiques et feront vi
 vre la participation citoyenne pour renforcer la démocratie localLa formati
 on permet&nbsp;: &nbsp;</p><ul><li>le renforcement de compétences socio-pol
 itiques telles que la coopération, la négociation, la médiation, l’engageme
 nt et la solidarité ainsi que de compétences psychosociales&nbsp;: confianc
 e en soi, empathie…</li><li>le développement de capacités de communication 
 : écouter activement, exprimer librement son propre point de vue, modérer d
 es échanges, animer des débats.</li><li>l’éducation à la démocratie et à la
  citoyenneté active et participative.</li></ul><p>Une traduction simultanée
  sera assurée pendant la formation dans les langues du séminaire, à savoir 
 le français et l’allemand.</p><p>PRIX&nbsp;: 150€ par personne pour l'ensem
 ble de la formation (comprenant les frais d’hébergement et de restauration)
 .</p><p><strong>Les participant-e-s s'engagent à être présent-e-s tout au l
 ong du processus.</strong></p><p><strong><a href="https://peuple-et-culture
 -wb.be/index.php?option=com_rsform&amp;view=rsform&amp;formId=1&amp;Itemid=
 158">Inscriptions</a></strong></p><p><a class="jcepopup" href="https://yout
 u.be/yCzqeUO9GpA" target="_self" data-mediabox="1">Découvrir en images</a><
 /p>
CONTACT:Cette adresse e-mail est protégée contre les robots spammeurs. Vous devez activer le JavaScript pour la visualiser.
X-EXTRAINFO:La formation se déroule en résidentiel. Les participant.e.s viennent d'Alle
 magne, du Luxembourg, de Belgique et de France. La traduction est assurée.
DTSTAMP:20260420T003509
DTSTART;TZID=Europe/Brussels:20230601T090000
DTEND;TZID=Europe/Brussels:20230601T183000
SEQUENCE:0
TRANSP:OPAQUE
END:VEVENT
END:VCALENDAR