BEGIN:VCALENDAR
VERSION:2.0
PRODID:-//jEvents 2.0 for Joomla//EN
CALSCALE:GREGORIAN
METHOD:PUBLISH
BEGIN:VTIMEZONE
TZID:Europe/Brussels
BEGIN:STANDARD
DTSTART:20211031T020000
RDATE:20220327T030000
TZOFFSETFROM:+0200
TZOFFSETTO:+0100
TZNAME:Europe/Brussels CET
END:STANDARD
BEGIN:STANDARD
DTSTART:20221030T020000
RDATE:20230326T030000
TZOFFSETFROM:+0200
TZOFFSETTO:+0100
TZNAME:Europe/Brussels CET
END:STANDARD
BEGIN:STANDARD
DTSTART:20231029T020000
RDATE:20240331T030000
TZOFFSETFROM:+0200
TZOFFSETTO:+0100
TZNAME:Europe/Brussels CET
END:STANDARD
BEGIN:STANDARD
DTSTART:20241027T020000
RDATE:20250330T030000
TZOFFSETFROM:+0200
TZOFFSETTO:+0100
TZNAME:Europe/Brussels CET
END:STANDARD
BEGIN:STANDARD
DTSTART:20251026T020000
RDATE:20260329T030000
TZOFFSETFROM:+0200
TZOFFSETTO:+0100
TZNAME:Europe/Brussels CET
END:STANDARD
BEGIN:STANDARD
DTSTART:20261025T020000
RDATE:20270328T030000
TZOFFSETFROM:+0200
TZOFFSETTO:+0100
TZNAME:Europe/Brussels CET
END:STANDARD
BEGIN:STANDARD
DTSTART:20271031T020000
RDATE:20280326T030000
TZOFFSETFROM:+0200
TZOFFSETTO:+0100
TZNAME:Europe/Brussels CET
END:STANDARD
BEGIN:STANDARD
DTSTART:20281029T020000
RDATE:20290325T030000
TZOFFSETFROM:+0200
TZOFFSETTO:+0100
TZNAME:Europe/Brussels CET
END:STANDARD
BEGIN:STANDARD
DTSTART:20291028T020000
RDATE:20300331T030000
TZOFFSETFROM:+0200
TZOFFSETTO:+0100
TZNAME:Europe/Brussels CET
END:STANDARD
BEGIN:STANDARD
DTSTART:20301027T020000
RDATE:20310330T030000
TZOFFSETFROM:+0200
TZOFFSETTO:+0100
TZNAME:Europe/Brussels CET
END:STANDARD
BEGIN:STANDARD
DTSTART:20311026T020000
RDATE:20320328T030000
TZOFFSETFROM:+0200
TZOFFSETTO:+0100
TZNAME:Europe/Brussels CET
END:STANDARD
BEGIN:STANDARD
DTSTART:20321031T020000
RDATE:20330327T030000
TZOFFSETFROM:+0200
TZOFFSETTO:+0100
TZNAME:Europe/Brussels CET
END:STANDARD
BEGIN:STANDARD
DTSTART:20331030T020000
RDATE:20340326T030000
TZOFFSETFROM:+0200
TZOFFSETTO:+0100
TZNAME:Europe/Brussels CET
END:STANDARD
BEGIN:STANDARD
DTSTART:20341029T020000
RDATE:20350325T030000
TZOFFSETFROM:+0200
TZOFFSETTO:+0100
TZNAME:Europe/Brussels CET
END:STANDARD
BEGIN:STANDARD
DTSTART:20351028T020000
RDATE:20360330T030000
TZOFFSETFROM:+0200
TZOFFSETTO:+0100
TZNAME:Europe/Brussels CET
END:STANDARD
BEGIN:STANDARD
DTSTART:20361026T020000
RDATE:20370329T030000
TZOFFSETFROM:+0200
TZOFFSETTO:+0100
TZNAME:Europe/Brussels CET
END:STANDARD
BEGIN:STANDARD
DTSTART:20371025T020000
TZOFFSETFROM:+0200
TZOFFSETTO:+0100
TZNAME:Europe/Brussels CET
END:STANDARD
BEGIN:DAYLIGHT
DTSTART:20210607T140000
RDATE:20211031T020000
TZOFFSETFROM:+0100
TZOFFSETTO:+0200
TZNAME:Europe/Brussels CEST
END:DAYLIGHT
BEGIN:DAYLIGHT
DTSTART:20220327T030000
RDATE:20221030T020000
TZOFFSETFROM:+0100
TZOFFSETTO:+0200
TZNAME:Europe/Brussels CEST
END:DAYLIGHT
BEGIN:DAYLIGHT
DTSTART:20230326T030000
RDATE:20231029T020000
TZOFFSETFROM:+0100
TZOFFSETTO:+0200
TZNAME:Europe/Brussels CEST
END:DAYLIGHT
BEGIN:DAYLIGHT
DTSTART:20240331T030000
RDATE:20241027T020000
TZOFFSETFROM:+0100
TZOFFSETTO:+0200
TZNAME:Europe/Brussels CEST
END:DAYLIGHT
BEGIN:DAYLIGHT
DTSTART:20250330T030000
RDATE:20251026T020000
TZOFFSETFROM:+0100
TZOFFSETTO:+0200
TZNAME:Europe/Brussels CEST
END:DAYLIGHT
BEGIN:DAYLIGHT
DTSTART:20260329T030000
RDATE:20261025T020000
TZOFFSETFROM:+0100
TZOFFSETTO:+0200
TZNAME:Europe/Brussels CEST
END:DAYLIGHT
BEGIN:DAYLIGHT
DTSTART:20270328T030000
RDATE:20271031T020000
TZOFFSETFROM:+0100
TZOFFSETTO:+0200
TZNAME:Europe/Brussels CEST
END:DAYLIGHT
BEGIN:DAYLIGHT
DTSTART:20280326T030000
RDATE:20281029T020000
TZOFFSETFROM:+0100
TZOFFSETTO:+0200
TZNAME:Europe/Brussels CEST
END:DAYLIGHT
BEGIN:DAYLIGHT
DTSTART:20290325T030000
RDATE:20291028T020000
TZOFFSETFROM:+0100
TZOFFSETTO:+0200
TZNAME:Europe/Brussels CEST
END:DAYLIGHT
BEGIN:DAYLIGHT
DTSTART:20300331T030000
RDATE:20301027T020000
TZOFFSETFROM:+0100
TZOFFSETTO:+0200
TZNAME:Europe/Brussels CEST
END:DAYLIGHT
BEGIN:DAYLIGHT
DTSTART:20310330T030000
RDATE:20311026T020000
TZOFFSETFROM:+0100
TZOFFSETTO:+0200
TZNAME:Europe/Brussels CEST
END:DAYLIGHT
BEGIN:DAYLIGHT
DTSTART:20320328T030000
RDATE:20321031T020000
TZOFFSETFROM:+0100
TZOFFSETTO:+0200
TZNAME:Europe/Brussels CEST
END:DAYLIGHT
BEGIN:DAYLIGHT
DTSTART:20330327T030000
RDATE:20331030T020000
TZOFFSETFROM:+0100
TZOFFSETTO:+0200
TZNAME:Europe/Brussels CEST
END:DAYLIGHT
BEGIN:DAYLIGHT
DTSTART:20340326T030000
RDATE:20341029T020000
TZOFFSETFROM:+0100
TZOFFSETTO:+0200
TZNAME:Europe/Brussels CEST
END:DAYLIGHT
BEGIN:DAYLIGHT
DTSTART:20350325T030000
RDATE:20351028T020000
TZOFFSETFROM:+0100
TZOFFSETTO:+0200
TZNAME:Europe/Brussels CEST
END:DAYLIGHT
BEGIN:DAYLIGHT
DTSTART:20360330T030000
RDATE:20361026T020000
TZOFFSETFROM:+0100
TZOFFSETTO:+0200
TZNAME:Europe/Brussels CEST
END:DAYLIGHT
BEGIN:DAYLIGHT
DTSTART:20370329T030000
RDATE:20371025T020000
TZOFFSETFROM:+0100
TZOFFSETTO:+0200
TZNAME:Europe/Brussels CEST
END:DAYLIGHT
END:VTIMEZONE
BEGIN:VEVENT
UID:44cb7c306d3b1376c6ee011329671ee1
CATEGORIES:Dans le quartier
CREATED:20230205T170206
SUMMARY:LES PLEUROTES A LA RESCOUSSE...
LOCATION:Peuple et Culture rue du Beau Mur 45 à Liège
DESCRIPTION:Cultiver des pleurotes dans un substrat composé de marc de café, de copeaux
  ou sciure de bois ou encore de paille, c’est facile et c’est une bonne alt
 ernative pour valoriser vos marcs de café tout en allégeant vos poubelles. 
 Parce que notre projet citoyen de conscientisation à l'économie circulaire 
 et régénérative micro local a aussi un  potentiel de développement auprès d
 'autres assocations mais aussi de Services Publics ou des PME qui voudraien
 t répondre à la nouvelle législation européenne sur le tri des biodéchets d
 e 2023, nous organisons, dans le cadre de la quinzaine de l'économie circul
 aire de la Région Wallonne, trois rencontres avec Stephan Hoornaert, biomim
 éticien et expert en économie circulaire pour :\n\n - Découvrir notre proje
 t micro local et échanger sur ses visées stratégiques et politiques\n - Réf
 léchir à son potentiel de développement,\n - Faire l’expérience d’une produ
 ction artisanale au sein d’un atelier au terme duquel chacun.e repartira av
 ec un contenant de substrat et de mycélium dans lequel pousseront des pleur
 otes.Pour qui ? : Les citoyen.nes, les étudiant.es, les enseignant.es, les 
 associations, les PME, les Services publics.\nParticipation à prix libre (L
 e prix libre permet  à chacun.e de participer selon ses moyens financiers; 
 de manière équitable et solidaire). \nInscription nécessaire via l’adresse 
 Cette adresse e-mail est protégée contre les robots spammeurs. Vous devez a
 ctiver le JavaScript pour la visualiser. \nPlus d'infos sur la quinzaine de
  l'économie circulaire de la Région Wallonne : Programme | L'économie circu
 laire en Wallonie | L'économie circulaire en Wallonie (https://economiecirc
 ulaire.wallonie.be/quinzaine-economie-circulaire/programme)\n
X-ALT-DESC;FMTTYPE=text/html:<p>Cultiver des pleurotes dans un substrat composé de marc de café, de cope
 aux ou sciure de bois ou encore de paille, c’est facile et c’est une bonne 
 alternative pour valoriser vos marcs de café tout en allégeant vos poubelle
 s. Parce que notre projet citoyen de conscientisation à l'économie circulai
 re et régénérative micro local a aussi un&nbsp; potentiel de développement 
 auprès d'autres assocations mais aussi de Services Publics ou des PME qui v
 oudraient répondre à la nouvelle législation européenne sur le tri des biod
 échets de 2023, nous organisons, dans le cadre de<strong> la quinzaine de l
 'économie circulaire de la Région Wallonne</strong>, trois rencontres avec 
 Stephan Hoornaert, biomiméticien et expert en économie circulaire pour :</p
 ><ul><li>Découvrir notre projet micro local et échanger sur ses visées stra
 tégiques et politiques</li><li>Réfléchir à son potentiel de développement,<
 /li><li>Faire l’expérience d’une production artisanale au sein d’un atelier
  au terme duquel chacun.e repartira avec un contenant de substrat et de myc
 élium dans lequel pousseront des pleurotes.</li></ul><p><strong>Pour qui ?<
 /strong> : Les citoyen.nes, les étudiant.es, les enseignant.es, les associa
 tions, les PME, les Services publics.</p><p><strong><strong>Participation à
  prix libre</strong></strong> (<em>Le prix libre permet&nbsp;&nbsp;à chacun
 .e de participer selon ses moyens financiers; de manière équitable et solid
 aire)</em><strong><strong>.</strong> </strong></p><p><strong>Inscription né
 cessaire via l’adresse <span id="cloak05ed91a995e06fcdb783bb8360623e6d"><jo
 omla-hidden-mail  is-link="1" is-email="1" first="bmFuY3kuaGFyZHk=" last="c
 GV1cGxlLWV0LWN1bHR1cmUtd2IuYmU=" text="bmFuY3kuaGFyZHlAcGV1cGxlLWV0LWN1bHR1
 cmUtd2IuYmU=" base="" >Cette adresse e-mail est protégée contre les robots 
 spammeurs. Vous devez activer le JavaScript pour la visualiser.</joomla-hid
 den-mail></span> </strong></p><p>Plus d'infos sur&nbsp;<strong>la quinzaine
  de l'économie circulaire de la Région Wallonne</strong> :&nbsp;<a href="ht
 tps://economiecirculaire.wallonie.be/quinzaine-economie-circulaire/programm
 e">Programme | L'économie circulaire en Wallonie | L'économie circulaire en
  Wallonie</a></p>
CONTACT:Cette adresse e-mail est protégée contre les robots spammeurs. Vous devez activer le JavaScript pour la visualiser.
X-EXTRAINFO:30 participant.e.s maximum 
DTSTAMP:20260420T143423
DTSTART;TZID=Europe/Brussels:20220608T140000
DTEND;TZID=Europe/Brussels:20220608T170000
SEQUENCE:0
TRANSP:OPAQUE
END:VEVENT
END:VCALENDAR