BEGIN:VCALENDAR
VERSION:2.0
PRODID:-//jEvents 2.0 for Joomla//EN
CALSCALE:GREGORIAN
METHOD:PUBLISH
BEGIN:VTIMEZONE
TZID:Europe/Brussels
BEGIN:STANDARD
DTSTART:20211031T020000
RDATE:20220327T030000
TZOFFSETFROM:+0200
TZOFFSETTO:+0100
TZNAME:Europe/Brussels CET
END:STANDARD
BEGIN:STANDARD
DTSTART:20221030T020000
RDATE:20230326T030000
TZOFFSETFROM:+0200
TZOFFSETTO:+0100
TZNAME:Europe/Brussels CET
END:STANDARD
BEGIN:STANDARD
DTSTART:20231029T020000
RDATE:20240331T030000
TZOFFSETFROM:+0200
TZOFFSETTO:+0100
TZNAME:Europe/Brussels CET
END:STANDARD
BEGIN:STANDARD
DTSTART:20241027T020000
RDATE:20250330T030000
TZOFFSETFROM:+0200
TZOFFSETTO:+0100
TZNAME:Europe/Brussels CET
END:STANDARD
BEGIN:STANDARD
DTSTART:20251026T020000
RDATE:20260329T030000
TZOFFSETFROM:+0200
TZOFFSETTO:+0100
TZNAME:Europe/Brussels CET
END:STANDARD
BEGIN:STANDARD
DTSTART:20261025T020000
RDATE:20270328T030000
TZOFFSETFROM:+0200
TZOFFSETTO:+0100
TZNAME:Europe/Brussels CET
END:STANDARD
BEGIN:STANDARD
DTSTART:20271031T020000
RDATE:20280326T030000
TZOFFSETFROM:+0200
TZOFFSETTO:+0100
TZNAME:Europe/Brussels CET
END:STANDARD
BEGIN:STANDARD
DTSTART:20281029T020000
RDATE:20290325T030000
TZOFFSETFROM:+0200
TZOFFSETTO:+0100
TZNAME:Europe/Brussels CET
END:STANDARD
BEGIN:STANDARD
DTSTART:20291028T020000
RDATE:20300331T030000
TZOFFSETFROM:+0200
TZOFFSETTO:+0100
TZNAME:Europe/Brussels CET
END:STANDARD
BEGIN:STANDARD
DTSTART:20301027T020000
RDATE:20310330T030000
TZOFFSETFROM:+0200
TZOFFSETTO:+0100
TZNAME:Europe/Brussels CET
END:STANDARD
BEGIN:STANDARD
DTSTART:20311026T020000
RDATE:20320328T030000
TZOFFSETFROM:+0200
TZOFFSETTO:+0100
TZNAME:Europe/Brussels CET
END:STANDARD
BEGIN:STANDARD
DTSTART:20321031T020000
RDATE:20330327T030000
TZOFFSETFROM:+0200
TZOFFSETTO:+0100
TZNAME:Europe/Brussels CET
END:STANDARD
BEGIN:STANDARD
DTSTART:20331030T020000
RDATE:20340326T030000
TZOFFSETFROM:+0200
TZOFFSETTO:+0100
TZNAME:Europe/Brussels CET
END:STANDARD
BEGIN:STANDARD
DTSTART:20341029T020000
RDATE:20350325T030000
TZOFFSETFROM:+0200
TZOFFSETTO:+0100
TZNAME:Europe/Brussels CET
END:STANDARD
BEGIN:STANDARD
DTSTART:20351028T020000
RDATE:20360330T030000
TZOFFSETFROM:+0200
TZOFFSETTO:+0100
TZNAME:Europe/Brussels CET
END:STANDARD
BEGIN:STANDARD
DTSTART:20361026T020000
RDATE:20370329T030000
TZOFFSETFROM:+0200
TZOFFSETTO:+0100
TZNAME:Europe/Brussels CET
END:STANDARD
BEGIN:STANDARD
DTSTART:20371025T020000
TZOFFSETFROM:+0200
TZOFFSETTO:+0100
TZNAME:Europe/Brussels CET
END:STANDARD
BEGIN:DAYLIGHT
DTSTART:20210617T130000
RDATE:20211031T020000
TZOFFSETFROM:+0100
TZOFFSETTO:+0200
TZNAME:Europe/Brussels CEST
END:DAYLIGHT
BEGIN:DAYLIGHT
DTSTART:20220327T030000
RDATE:20221030T020000
TZOFFSETFROM:+0100
TZOFFSETTO:+0200
TZNAME:Europe/Brussels CEST
END:DAYLIGHT
BEGIN:DAYLIGHT
DTSTART:20230326T030000
RDATE:20231029T020000
TZOFFSETFROM:+0100
TZOFFSETTO:+0200
TZNAME:Europe/Brussels CEST
END:DAYLIGHT
BEGIN:DAYLIGHT
DTSTART:20240331T030000
RDATE:20241027T020000
TZOFFSETFROM:+0100
TZOFFSETTO:+0200
TZNAME:Europe/Brussels CEST
END:DAYLIGHT
BEGIN:DAYLIGHT
DTSTART:20250330T030000
RDATE:20251026T020000
TZOFFSETFROM:+0100
TZOFFSETTO:+0200
TZNAME:Europe/Brussels CEST
END:DAYLIGHT
BEGIN:DAYLIGHT
DTSTART:20260329T030000
RDATE:20261025T020000
TZOFFSETFROM:+0100
TZOFFSETTO:+0200
TZNAME:Europe/Brussels CEST
END:DAYLIGHT
BEGIN:DAYLIGHT
DTSTART:20270328T030000
RDATE:20271031T020000
TZOFFSETFROM:+0100
TZOFFSETTO:+0200
TZNAME:Europe/Brussels CEST
END:DAYLIGHT
BEGIN:DAYLIGHT
DTSTART:20280326T030000
RDATE:20281029T020000
TZOFFSETFROM:+0100
TZOFFSETTO:+0200
TZNAME:Europe/Brussels CEST
END:DAYLIGHT
BEGIN:DAYLIGHT
DTSTART:20290325T030000
RDATE:20291028T020000
TZOFFSETFROM:+0100
TZOFFSETTO:+0200
TZNAME:Europe/Brussels CEST
END:DAYLIGHT
BEGIN:DAYLIGHT
DTSTART:20300331T030000
RDATE:20301027T020000
TZOFFSETFROM:+0100
TZOFFSETTO:+0200
TZNAME:Europe/Brussels CEST
END:DAYLIGHT
BEGIN:DAYLIGHT
DTSTART:20310330T030000
RDATE:20311026T020000
TZOFFSETFROM:+0100
TZOFFSETTO:+0200
TZNAME:Europe/Brussels CEST
END:DAYLIGHT
BEGIN:DAYLIGHT
DTSTART:20320328T030000
RDATE:20321031T020000
TZOFFSETFROM:+0100
TZOFFSETTO:+0200
TZNAME:Europe/Brussels CEST
END:DAYLIGHT
BEGIN:DAYLIGHT
DTSTART:20330327T030000
RDATE:20331030T020000
TZOFFSETFROM:+0100
TZOFFSETTO:+0200
TZNAME:Europe/Brussels CEST
END:DAYLIGHT
BEGIN:DAYLIGHT
DTSTART:20340326T030000
RDATE:20341029T020000
TZOFFSETFROM:+0100
TZOFFSETTO:+0200
TZNAME:Europe/Brussels CEST
END:DAYLIGHT
BEGIN:DAYLIGHT
DTSTART:20350325T030000
RDATE:20351028T020000
TZOFFSETFROM:+0100
TZOFFSETTO:+0200
TZNAME:Europe/Brussels CEST
END:DAYLIGHT
BEGIN:DAYLIGHT
DTSTART:20360330T030000
RDATE:20361026T020000
TZOFFSETFROM:+0100
TZOFFSETTO:+0200
TZNAME:Europe/Brussels CEST
END:DAYLIGHT
BEGIN:DAYLIGHT
DTSTART:20370329T030000
RDATE:20371025T020000
TZOFFSETFROM:+0100
TZOFFSETTO:+0200
TZNAME:Europe/Brussels CEST
END:DAYLIGHT
END:VTIMEZONE
BEGIN:VEVENT
UID:bc0ba58bf65a49ede570dc3a896c570f
CATEGORIES:Dans le quartier
CREATED:20230205T170846
SUMMARY:GUINGUETTE DE LA BONNE FEMME DANS LE CADRE DES FETES DE LA MUSIQUE
LOCATION:Dans le bas du Bois des Oblats avenue Francisco Ferrer à 4030 Liège
DESCRIPTION:<p>Dans le cadre <strong>des fêtes de la Musique à Liège</strong>* 2022, l'
 équipe de Peuple et Culture au grand complet aura le plaisir de vous accuei
 llir à une nouvelle édition de sa traditionnelle <strong>"Guinguette de la 
 Bonne Femme"</strong>.</p><p>Nous vous proposons cette année une affiche éc
 lectique et remuante allant du blues country au hip hop en passant par l'él
 ectro-punk et la musique traditionnelle cubaine!</p><p><strong>Au programme
  :</strong></p><p>13h – 14h : <strong>Lucky D.</strong> (blues, bluegrass, 
 country &amp; western)</p><p>Des canyons arides de l’Arizona aux collines b
 oisées de la vallée de la Vesdre, des rives du Rio Grande aux berges de la 
 Meuse, Luc Dejardin, le cowboy solitaire des Hautes Fagnes vous embarque da
 ns un voyage extraordinaire peuplé de personnages hauts en couleur en vous 
 serinant un répertoire de chansons mythiques ou inconnues, voire les deux, 
 et vous entraîne dans son univers poussièreux et hostile au son de sa guita
 re et ses harmonicas.</p><p>Lucky D. on youtube&nbsp;:</p><p><a href="https
 ://www.youtube.com/channel/UCKswU-2G9t789klt0xdMQ0A">Lucky D - YouTube</a><
 /p><p>15h – 16h : <strong>Al Ritmo del Son</strong> (musique afro-cubaine)<
 /p><p>Ce groupe composé à la fois de musiciens cubains, chiliens et du terr
 oir, vous fera découvrir des chansons du répertoire traditionnel cubain.</p
 ><p>Rythmée, pimentée, explosive, cette formation de cinq musiciens et sa c
 hanteuse, vous emmènera au cœur de cette musique ensoleillée.</p><p>Si les 
 noms de danzon, cha cha cha, guaracha, son montuno ou cubia ne vous disent 
 rien, mais que vous aimez danser et faire la fête, alors venez passer un mo
 ment avec AL Ritmo del Son&nbsp;!</p><p>Clip sur youtube&nbsp;:</p><p><a hr
 ef="https://youtu.be/s7G6M0pak0w">https://youtu.be/s7G6M0pak0w</a></p><p>17
 h – 18h : <strong>Ambiance Néfaste</strong> (hip hop)</p><p>AMB’N (Ambiance
  Néfaste) est un groupe de rap belge constitué de trois membres principaux&
 nbsp;: deux rappeurs, AK-Flow et Prophesy, et un producteur-dj, Selack Musi
 c.</p><p>D’autres musiciens collaborent étroitement avec AMB’N, principalem
 ent Mario Gyevat, producteur et compositeur des instrumentales.</p><p>AMB’N
  sur youtube&nbsp;:</p><p><a href="https://youtu.be/-JaliGtDkp4">https://yo
 utu.be/-JaliGtDkp4</a></p><p><a href="https://youtu.be/xJhtbFdrupk">https:/
 /youtu.be/xJhtbFdrupk</a></p><p><a href="https://youtu.be/JXmsUXD1-0M">http
 s://youtu.be/JXmsUXD1-0M</a></p><p>19h- 20h : <strong>Khim &amp; Khout</str
 ong> (Électro – hip hop – punk)</p><p>Après vingt ans de collaboration au 
 sein de formations diverses, Khim &amp; Khout forment un duo où, désormai
 s, plus personne ne conteste leur talent. L’album Électronhiphopopunk « Mo
 rt Cynique » est le fruit de cette union musicale. Après quelques années 
 de gestation, c’est en mort-né que le duo le présente pour que résonnent
  ses dernières notes et pour matérialiser le rêve de tout musicien qui s
 e respecte : mourir sur scène.</p><div class="page" title="Page 1"><div cl
 ass="section"><div class="layoutArea"><div class="column"><p><a href="https
 ://soundcloud.com/user-893813462" target="_self">https://soundcloud.com/use
 r-893813462</a></p><p>*Pour plus d'informations sur les Fêtes de la Musique
  à Liège :</p><p><a class="oajrlxb2 g5ia77u1 qu0x051f esr5mh6w e9989ue4 r7d
 6kgcz rq0escxv nhd2j8a9 nc684nl6 p7hjln8o kvgmc6g5 cxmmr5t8 oygrvhab hcukyx
 3x jb3vyjys rz4wbd8a qt6c0cv9 a8nywdso i1ao9s8h esuyzwwr f1sip0of lzcic4wl 
 gpro0wi8 py34i1dx" tabindex="0" role="link" href="http://www.fetedelamusiqu
 eliege.be/?fbclid=IwAR2l81nSydzyDkAwJtxwL-d2IXTRtvfXKpYkigyBX5spHkTGRUdp4lz
 4BNY" target="_blank" rel="nofollow noopener">http://www.fetedelamusiquelie
 ge.be</a></p></div></div></div></div>
CONTACT:Cette adresse e-mail est protégée contre les robots spammeurs. Vous devez activer le JavaScript pour la visualiser.
DTSTAMP:20260420T155053
DTSTART;TZID=Europe/Brussels:20220618T130000
SEQUENCE:0
TRANSP:OPAQUE
END:VEVENT
END:VCALENDAR