BEGIN:VCALENDAR
VERSION:2.0
PRODID:-//jEvents 2.0 for Joomla//EN
CALSCALE:GREGORIAN
METHOD:PUBLISH
BEGIN:VTIMEZONE
TZID:Europe/Brussels
BEGIN:STANDARD
DTSTART:20211031T020000
RDATE:20220327T030000
TZOFFSETFROM:+0200
TZOFFSETTO:+0100
TZNAME:Europe/Brussels CET
END:STANDARD
BEGIN:STANDARD
DTSTART:20221030T020000
RDATE:20230326T030000
TZOFFSETFROM:+0200
TZOFFSETTO:+0100
TZNAME:Europe/Brussels CET
END:STANDARD
BEGIN:STANDARD
DTSTART:20231029T020000
RDATE:20240331T030000
TZOFFSETFROM:+0200
TZOFFSETTO:+0100
TZNAME:Europe/Brussels CET
END:STANDARD
BEGIN:STANDARD
DTSTART:20241027T020000
RDATE:20250330T030000
TZOFFSETFROM:+0200
TZOFFSETTO:+0100
TZNAME:Europe/Brussels CET
END:STANDARD
BEGIN:STANDARD
DTSTART:20251026T020000
RDATE:20260329T030000
TZOFFSETFROM:+0200
TZOFFSETTO:+0100
TZNAME:Europe/Brussels CET
END:STANDARD
BEGIN:STANDARD
DTSTART:20261025T020000
RDATE:20270328T030000
TZOFFSETFROM:+0200
TZOFFSETTO:+0100
TZNAME:Europe/Brussels CET
END:STANDARD
BEGIN:STANDARD
DTSTART:20271031T020000
RDATE:20280326T030000
TZOFFSETFROM:+0200
TZOFFSETTO:+0100
TZNAME:Europe/Brussels CET
END:STANDARD
BEGIN:STANDARD
DTSTART:20281029T020000
RDATE:20290325T030000
TZOFFSETFROM:+0200
TZOFFSETTO:+0100
TZNAME:Europe/Brussels CET
END:STANDARD
BEGIN:STANDARD
DTSTART:20291028T020000
RDATE:20300331T030000
TZOFFSETFROM:+0200
TZOFFSETTO:+0100
TZNAME:Europe/Brussels CET
END:STANDARD
BEGIN:STANDARD
DTSTART:20301027T020000
RDATE:20310330T030000
TZOFFSETFROM:+0200
TZOFFSETTO:+0100
TZNAME:Europe/Brussels CET
END:STANDARD
BEGIN:STANDARD
DTSTART:20311026T020000
RDATE:20320328T030000
TZOFFSETFROM:+0200
TZOFFSETTO:+0100
TZNAME:Europe/Brussels CET
END:STANDARD
BEGIN:STANDARD
DTSTART:20321031T020000
RDATE:20330327T030000
TZOFFSETFROM:+0200
TZOFFSETTO:+0100
TZNAME:Europe/Brussels CET
END:STANDARD
BEGIN:STANDARD
DTSTART:20331030T020000
RDATE:20340326T030000
TZOFFSETFROM:+0200
TZOFFSETTO:+0100
TZNAME:Europe/Brussels CET
END:STANDARD
BEGIN:STANDARD
DTSTART:20341029T020000
RDATE:20350325T030000
TZOFFSETFROM:+0200
TZOFFSETTO:+0100
TZNAME:Europe/Brussels CET
END:STANDARD
BEGIN:STANDARD
DTSTART:20351028T020000
RDATE:20360330T030000
TZOFFSETFROM:+0200
TZOFFSETTO:+0100
TZNAME:Europe/Brussels CET
END:STANDARD
BEGIN:STANDARD
DTSTART:20361026T020000
RDATE:20370329T030000
TZOFFSETFROM:+0200
TZOFFSETTO:+0100
TZNAME:Europe/Brussels CET
END:STANDARD
BEGIN:STANDARD
DTSTART:20371025T020000
TZOFFSETFROM:+0200
TZOFFSETTO:+0100
TZNAME:Europe/Brussels CET
END:STANDARD
BEGIN:DAYLIGHT
DTSTART:20210624T120000
RDATE:20211031T020000
TZOFFSETFROM:+0100
TZOFFSETTO:+0200
TZNAME:Europe/Brussels CEST
END:DAYLIGHT
BEGIN:DAYLIGHT
DTSTART:20220327T030000
RDATE:20221030T020000
TZOFFSETFROM:+0100
TZOFFSETTO:+0200
TZNAME:Europe/Brussels CEST
END:DAYLIGHT
BEGIN:DAYLIGHT
DTSTART:20230326T030000
RDATE:20231029T020000
TZOFFSETFROM:+0100
TZOFFSETTO:+0200
TZNAME:Europe/Brussels CEST
END:DAYLIGHT
BEGIN:DAYLIGHT
DTSTART:20240331T030000
RDATE:20241027T020000
TZOFFSETFROM:+0100
TZOFFSETTO:+0200
TZNAME:Europe/Brussels CEST
END:DAYLIGHT
BEGIN:DAYLIGHT
DTSTART:20250330T030000
RDATE:20251026T020000
TZOFFSETFROM:+0100
TZOFFSETTO:+0200
TZNAME:Europe/Brussels CEST
END:DAYLIGHT
BEGIN:DAYLIGHT
DTSTART:20260329T030000
RDATE:20261025T020000
TZOFFSETFROM:+0100
TZOFFSETTO:+0200
TZNAME:Europe/Brussels CEST
END:DAYLIGHT
BEGIN:DAYLIGHT
DTSTART:20270328T030000
RDATE:20271031T020000
TZOFFSETFROM:+0100
TZOFFSETTO:+0200
TZNAME:Europe/Brussels CEST
END:DAYLIGHT
BEGIN:DAYLIGHT
DTSTART:20280326T030000
RDATE:20281029T020000
TZOFFSETFROM:+0100
TZOFFSETTO:+0200
TZNAME:Europe/Brussels CEST
END:DAYLIGHT
BEGIN:DAYLIGHT
DTSTART:20290325T030000
RDATE:20291028T020000
TZOFFSETFROM:+0100
TZOFFSETTO:+0200
TZNAME:Europe/Brussels CEST
END:DAYLIGHT
BEGIN:DAYLIGHT
DTSTART:20300331T030000
RDATE:20301027T020000
TZOFFSETFROM:+0100
TZOFFSETTO:+0200
TZNAME:Europe/Brussels CEST
END:DAYLIGHT
BEGIN:DAYLIGHT
DTSTART:20310330T030000
RDATE:20311026T020000
TZOFFSETFROM:+0100
TZOFFSETTO:+0200
TZNAME:Europe/Brussels CEST
END:DAYLIGHT
BEGIN:DAYLIGHT
DTSTART:20320328T030000
RDATE:20321031T020000
TZOFFSETFROM:+0100
TZOFFSETTO:+0200
TZNAME:Europe/Brussels CEST
END:DAYLIGHT
BEGIN:DAYLIGHT
DTSTART:20330327T030000
RDATE:20331030T020000
TZOFFSETFROM:+0100
TZOFFSETTO:+0200
TZNAME:Europe/Brussels CEST
END:DAYLIGHT
BEGIN:DAYLIGHT
DTSTART:20340326T030000
RDATE:20341029T020000
TZOFFSETFROM:+0100
TZOFFSETTO:+0200
TZNAME:Europe/Brussels CEST
END:DAYLIGHT
BEGIN:DAYLIGHT
DTSTART:20350325T030000
RDATE:20351028T020000
TZOFFSETFROM:+0100
TZOFFSETTO:+0200
TZNAME:Europe/Brussels CEST
END:DAYLIGHT
BEGIN:DAYLIGHT
DTSTART:20360330T030000
RDATE:20361026T020000
TZOFFSETFROM:+0100
TZOFFSETTO:+0200
TZNAME:Europe/Brussels CEST
END:DAYLIGHT
BEGIN:DAYLIGHT
DTSTART:20370329T030000
RDATE:20371025T020000
TZOFFSETFROM:+0100
TZOFFSETTO:+0200
TZNAME:Europe/Brussels CEST
END:DAYLIGHT
END:VTIMEZONE
BEGIN:VEVENT
UID:7eebcb63ca2fd291d56bc0597f57c86f
CATEGORIES:Activités
CREATED:20230205T171245
SUMMARY:FESTIFAL, le festival ardemment antiraciste
LOCATION:CPCR rue Jonruelle 11-15 à 4000 Liège
DESCRIPTION:Ardemment anti-raciste, le FESTI'FAL est une initiative de Peuple et Cultur
 e (http://www.peuple-et-culture-wb.be/) organisée en partenariat avec le Fr
 ont Antifasciste de Liège 2.0 (https://liege.antifascisme.be/), le CPCR (ht
 tps://www.facebook.com/cpcr.centrepolyculturelresistances) et La Cible (htt
 ps://lacible.be/).\n\nLieu de rencontres, d'échanges et de débats entre des
  citoyen.ne.s, avec ou sans papier et des militant.e.s, l'évènement répond 
 aux besoins et urgences de la lutte contre les droites extrêmes et l'extrêm
 e droitisation de nos sociétés.\n\nCette année, le Festi'FAL met en perspec
 tive la lutte contre les extrêmes droites, le racisme et les politiques mig
 ratoires avec les indispensables combats pour la régularisation et la digni
 té des personnes sans papier.\nPROGRAMME :\n\n12h00 - 17h00 - Activités lib
 re :\nStands :\n\n - Grimage (De quoi faire plaisir aux petits comme aux gr
 ands)\n - Sérigraphie (imprime ton slogan et ton logo mais n'oublie pas de 
 ramener tes t-shirt !) ;\n - Création de badges militant (Choisis tes image
 s ou textes et presse ton badge !);\n - Les fléchettes ça pète ! (Explose l
 es ballons et teste tes connaissances sur l'antiracisme !)\n - Photomaton (
 Souriez, vous êtes cliché !)\n - Graff' : Viens taguer tes plus beaux dessi
 ns et tes plus beaux slogans !\n - Et encore d'autres surprises.Expositions
  :\n\n - ZIN TV : Une exposition audiovisuelle de différentes capsules vidé
 os sur les luttes des personnes sans-papiers en Belgique.\n - Liège Antifa 
 : Jean-Luc Jonlet, photographe liégeois, déambule dans les rues de Liège et
  photographie les plus beaux graff qui embellissent les murs de Liège. Il n
 ous a transmis quelques-uns de ses clichés d'un graffeur d'un liégeois « Li
 ège Antifa ».Ateliers avec inscription de 13h00 - 14h30 et 15h - 16h30 :\n\
 n - Front Antifasciste : Arpentage "Libres d'obéir" de Johann Chapoutot.\nD
 ans ce livre, Chapoutot, historien du nazisme, défend une thèse forte : il 
 y a une continuité entre le nazisme et les théories de management. Une thès
 e à débattre collectivement ! L'arpentage est une technique de lecture part
 agée, elle permet de lire un livre collectivement, en peu de temps, par un 
 découpage et une répartition des contenus entre les participant.es. Nombre 
 de participant.e.s : 10. Inscription : chatserrants@mailo.com (mailto:---)\
 n - La Cible : à travers une animation visant la déconstruction des préjugé
 s autour des migrant.es, nous traverserons l’histoire des migrations en Bel
 gique de la révolution industrielle à aujourd’hui. Quels sont les apports d
 e cette mixité culturelle ? Décryptage de la crise de l’accueil des réfugié
 .es et mise en lumière des perspectives citoyennes et solidaires pour l’inc
 lusion de toustes.\n\n - PEC - Atelier d'écriture rap : c'est puissant, ça 
 se compose aisément ! Force du mot et magie d'la rime, ça clache, ça sonne,
  et puis y'a le tempo. C'est du rap, composé là, sur le tas, avec ce qu'on 
 a. Et tout le monde y arrive, surtout quand tout le monde s'y met! Ouvert à
  tous et toutes à partir de 14 ans, sans prérequis hormis l'usage élémentai
 re de la langue française. Aucun matériel à prévoir. Minimum 5 et maximum 1
 2 participant.es. Inscriptions indispensables auprès de Peuple et Culture :
  Marie-Eve Maréchal 0474/812263 marie-eve.marechal@peuple-et-culture-wb.be 
 (mailto:---)\n - CPCR : Initiation au jeu coopératif « Antifa ». Antifa est
  un jeu de plateau de simulation et de gestion dans lequel vous faites vivr
 e un groupe antifasciste local. Chaque joueur incarne un militant avec des 
 compétences particulières. Chaque mois, votre groupe va être confronté aux 
 exactions d'extrême droite et, pour chaque événement auquel vous allez fair
 e face, vous décidez quelles actions mettre en place, chacune étant plus ou
  moins efficace et plus ou moins risquée. Inscription : info@cpcr.be (mailt
 o:---)17h00 - 19h00 - Table ronde : Les luttes des personnes sans-papier co
 mme résistance au racisme d'État et à l'extrême-droitisation. En présence d
 e Mamadou Bah (FGTB), Assia Lounis (USPR) et un.e troisième intervenant.e\n
 L'Europe est le théâtre de politiques migratoires meurtrières visant à crim
 inaliser la figure de la personne migrante. En créant ce mythe de l'ennemi 
 extérieur et intérieur, le cloisonnement de cette Europe Forteresse deviend
 rait une réaction inéluctable et salvatrice.\n\nCe renversement sémantique 
 devient dès lors la caution immorale des dizaines de milliers de morts en M
 éditerranée, des opérations de push back tout aussi meurtrière visant à ref
 ouler les embarcations de fortune vers le côtes libyennes ou traquant les p
 ersonnes sans-papiers dans nos villes et sur les autoroutes ou encore des c
 amps de la honte où sont entassés dans des condition de vies inhumaines des
  milliers de réfugié.es.\n\nParallèlement, on a pu constater en Belgique un
 e force de contestation résurgente des mouvements sociaux, de la lutte pour
  régularisations des personnes sans-papiers à travers les occupations du Bé
 guinage, de la VUB et du mouvement des grévistes de la faim, des mouvements
  contre le racisme tels que Black Lives Matter ou les manifestations contre
  les violences policières sont tant d'actualités récentes.\n\nLa table rond
 e sera l'occasion de faire entendre la voix des acteurs et actrices de terr
 ain qui se mobilisent au quotidien pour la régularisation et des politiques
  migratoires plus démocratiques et humaines garantissant la dignité et les 
 droits des personnes migrantes et immigrées\n\nMamadou Bah :\nEn 2006, Mama
 dou Bah fuit la Guinée pour trouver refuge en Grèce où il obtient le statut
  de réfugié politique en 2012. Travailleur sans papier et militant actif en
  Grèce, il est le premier secrétaire de l'Union des ressortissants guinéens
  et œuvre notamment au changement de loi sur le statut des enfants immigrés
  nés en Grèce. Son militantisme ne plait pas au parti néonazi Aube Dorée do
 nt il subit à plusieurs reprises des agressions, l'une d'entre-elle le lais
 sant pour mort. Depuis 2014, Mamadou Bah est réfugié politique en Belgique.
  Aujourd'hui, il est assistant social à la FGTB Bruxelles et il est membre 
 de la plateforme de soutien aux sans-papiers de Belgique.\n\nAssia Lounis :
 \nAssia Lounis vit depuis dix ans en Belgique avec sa famille, il ne lui ma
 nque qu'une seule chose : un morceau de papier qui lui garantirait qu'elle 
 ne sera jamais forcée de retourner en Algérie. Porte-parole de l'Union des 
 Sans-Papiers pour la Régularisation (USPR), elle est une actrice et un témo
 in privilégiée des luttes pour la dignité et la régularisation qui se sont 
 déroulées récemment lors de l'occupation de l'église du Béguinage et de la 
 VUB ou encore dans l'action de la grève de la faim.\n\nUn.e troisième inter
 venant.e représentant.e de La Voix des Sans-Papiers sera présent.e.\n\n\n19
 h30 - 21 h 15 : Conférence gesticulée : Moins con qu'un poisson. Pourquoi o
 n ne débat pas avec l'extrême-droite ?\nLe débat nous est présenté comme un
  incontournable de la démocratie. Il faut débattre, avec méthode et rigueur
 , afin de faire éclater la vérité, et triompher la raison. Le débat permet 
 à certaines positions d'apparaître comme meilleures, ou amène ses participa
 nt.e.s à atteindre le compromis.\n\nAussi n'est-il pas étonnant d'envisager
  le débat comme un outil de choix contre l'extrême-droite, qui apparait bie
 n souvent de mauvaise foi, peu rigoureuse, voire même carrément menteuse.\n
 \nFaut-il débattre avec l'extrême-droite ? Le débat est-il une option pour 
 qui souhaite lutter contre le fascisme ? Dans cette conférence gesticulée, 
 l'artiste-intervenant exposera ses arguments…\n\n\n21h30 - 01h00 : Concerts
 \nCanti all'arrabiata : "Canti all'arrabbiata" joue et chante les racines d
 e l'immigration italienne et évoque l'Italie du XIXe siècle à nos jours au 
 travers de luttes politiques riches et variées. A travers des chansons enga
 gées et révolutionnaires, c'est l'histoire d'hommes, de femmes et de famill
 es modestes venant des cités, ruelles et campagnes pour la dignité et contr
 e le fascisme qui nous est chanté.\n\nScène ouverte : Les participant.e.s d
 e l'atelier d'écriture auront la possibilité de lire les textes produits su
 r scène !\n\nSur nos Visages : Sur nos Visages est le nom d'un projet mené 
 par Peuple &amp; Culture, Promotion et Culture et les Maisons de jeunes de 
 la Bibi et du Péry. Des jeunes, avec ou sans papiers, ont pensé ensemble un
  monde plus juste en mettant leur trippe et leur talent dans une aventure :
  réaliser un CD de rap ! Les textes et flow de Lei, No Name, Yakus, Bikire,
  Pathson, Moha, Joao et Kha Lidi ne laissent pas indifférents, on retrouve 
 un rap engagé, intimiste et antiraciste où se mélangent trajectoires de vie
 , colères et espoirs. A découvrir absolument !\n\nDJ Set par L4U : Jeune DJ
  liégeoise, ses sets intègrent le meilleur du RnB old school en passant éga
 lement par la trap, drill et le rap. Le tout sans oublier les bonnes vibes 
 du reggaeton féministe et queer. Bref, tout ce qu'il faut pour danser\n
X-ALT-DESC;FMTTYPE=text/html:<p><strong>Ardemment anti-raciste,&nbsp;le FESTI'FAL&nbsp;est une initiativ
 e de&nbsp;<a href="http://www.peuple-et-culture-wb.be/">Peuple et Culture</
 a>&nbsp;organisée en partenariat avec le&nbsp;<a href="https://liege.antifa
 scisme.be/">Front Antifasciste de Liège 2.0</a>,&nbsp;<a href="https://www.
 facebook.com/cpcr.centrepolyculturelresistances">le CPCR</a>&nbsp;et&nbsp;<
 a href="https://lacible.be/">La Cible</a>.</strong><br /><br /><strong>Lieu
  de rencontres, d'échanges et de débats entre des citoyen.ne.s, avec ou san
 s papier et des militant.e.s, l'évènement répond aux besoins et urgences de
  la lutte contre les droites extrêmes et l'extrême droitisation de nos soci
 étés.</strong><br /><br /><strong>Cette année, le Festi'FAL met en perspect
 ive la lutte contre les extrêmes droites, le racisme et les politiques migr
 atoires avec les indispensables combats pour la régularisation et la dignit
 é des personnes sans papier.</strong></p><p><strong>PROGRAMME&nbsp;:</stron
 g></p><p><br />12h00 - 17h00 - Activités libre&nbsp;:</p><p><strong>Stands&
 nbsp;:</strong></p><ul><li>Grimage (De quoi faire plaisir aux petits comme 
 aux grands)</li><li>Sérigraphie (imprime ton slogan et ton logo mais n'oubl
 ie pas de ramener tes t-shirt&nbsp;!) ;</li><li>Création de badges militant
  (Choisis tes images ou textes et presse ton badge&nbsp;!);</li><li>Les flé
 chettes ça pète&nbsp;! (Explose les ballons et teste tes connaissances sur 
 l'antiracisme&nbsp;!)</li><li>Photomaton (Souriez, vous êtes cliché&nbsp;!)
 </li><li>Graff' : Viens taguer tes plus beaux dessins et tes plus beaux slo
 gans&nbsp;!</li><li>Et encore d'autres surprises.</li></ul><p><strong>Expos
 itions&nbsp;:</strong></p><ul><li><em>ZIN TV</em>&nbsp;: Une exposition aud
 iovisuelle de différentes capsules vidéos sur les luttes des personnes sans
 -papiers en Belgique.</li><li><em>Liège Antifa</em>&nbsp;: Jean-Luc Jonlet,
  photographe liégeois, déambule dans les rues de Liège et photographie les 
 plus beaux graff qui embellissent les murs de Liège. Il nous a transmis que
 lques-uns de ses clichés d'un graffeur d'un liégeois «&nbsp;Liège Antifa&nb
 sp;».</li></ul><p><strong>Ateliers avec inscription de 13h00 - 14h30 et 15h
  - 16h30&nbsp;:</strong></p><ul><li><em><strong>Front Antifasciste</strong>
 &nbsp;: Arpentage "Libres d'obéir" de Johann Chapoutot.</em><br />Dans ce l
 ivre, Chapoutot, historien du nazisme, défend une thèse forte&nbsp;: il y a
  une continuité entre le nazisme et les théories de management. Une thèse à
  débattre collectivement&nbsp;! L'arpentage est une technique de lecture pa
 rtagée, elle permet de lire un livre collectivement, en peu de temps, par u
 n découpage et une répartition des contenus entre les participant.es. Nombr
 e de participant.e.s&nbsp;: 10. Inscription&nbsp;:&nbsp;<a href="mailto:---
 "><span class="xsd">c</span>hatserr<span class="xsd">a</span>nts<span class
 ="xsd">@</span>mai<span class="xsd">l</span>o.com</a></li><li><em><strong>L
 a Cible</strong>&nbsp;: </em>à travers une animation visant la déconstructi
 on des préjugés autour des migrant.es, nous traverserons l’histoire des mig
 rations en Belgique de la révolution industrielle à aujourd’hui. Quels sont
  les apports de cette mixité culturelle&nbsp;? Décryptage de la crise de l’
 accueil des réfugié.es et mise en lumière des perspectives citoyennes et so
 lidaires pour l’inclusion de toustes.<em><br /></em></li><li><em><strong>PE
 C</strong> - Atelier d'écriture rap</em>&nbsp;: c'est puissant, ça se compo
 se aisément&nbsp;! Force du mot et magie d'la rime, ça clache, ça sonne, et
  puis y'a le tempo. C'est du rap, composé là, sur le tas, avec ce qu'on a. 
 Et tout le monde y arrive, surtout quand tout le monde s'y met! Ouvert à to
 us et toutes à partir de 14 ans, sans prérequis hormis l'usage élémentaire 
 de la langue française. Aucun matériel à prévoir. Minimum 5 et maximum 12 p
 articipant.es. Inscriptions indispensables auprès de Peuple et Culture&nbsp
 ;: Marie-Eve Maréchal 0474/812263&nbsp;<a href="mailto:---"><span class="xs
 d">m</span>arie-ev<span class="xsd">e</span>.marech<span class="xsd">a</spa
 n>l<span class="xsd">@</span>peupl<span class="xsd">e</span>-et-cul<span cl
 ass="xsd">t</span>ure-wb.<span class="xsd">b</span>e</a></li><li><em><stron
 g>CPCR</strong>&nbsp;: Initiation au jeu coopératif «&nbsp;Antifa&nbsp;»</e
 m>. Antifa est un jeu de plateau de simulation et de gestion dans lequel vo
 us faites vivre un groupe antifasciste local. Chaque joueur incarne un mili
 tant avec des compétences particulières. Chaque mois, votre groupe va être 
 confronté aux exactions d'extrême droite et, pour chaque événement auquel v
 ous allez faire face, vous décidez quelles actions mettre en place, chacune
  étant plus ou moins efficace et plus ou moins risquée. Inscription&nbsp;:&
 nbsp;<a href="mailto:---"><span class="xsd">i</span>nfo<span class="xsd">@<
 /span>cpc<span class="xsd">r</span>.be</a></li></ul><p><strong>17h00 - 19h0
 0 - Table ronde&nbsp;: Les luttes des personnes sans-papier comme résistanc
 e au racisme d'État et à l'extrême-droitisation.</strong>&nbsp;En présence 
 de Mamadou Bah (FGTB), Assia Lounis (USPR) et un.e troisième intervenant.e<
 /p><p>L'Europe est le théâtre de politiques migratoires meurtrières visant 
 à criminaliser la figure de la personne migrante. En créant ce mythe de l'e
 nnemi extérieur et intérieur, le cloisonnement de cette Europe Forteresse d
 eviendrait une réaction inéluctable et salvatrice.<br /><br />Ce renverseme
 nt sémantique devient dès lors la caution immorale des dizaines de milliers
  de morts en Méditerranée, des opérations de push back tout aussi meurtrièr
 e visant à refouler les embarcations de fortune vers le côtes libyennes ou 
 traquant les personnes sans-papiers dans nos villes et sur les autoroutes o
 u encore des camps de la honte où sont entassés dans des condition de vies 
 inhumaines des milliers de réfugié.es.<br /><br />Parallèlement, on a pu co
 nstater en Belgique une force de contestation résurgente des mouvements soc
 iaux, de la lutte pour régularisations des personnes sans-papiers à travers
  les occupations du Béguinage, de la VUB et du mouvement des grévistes de l
 a faim, des mouvements contre le racisme tels que Black Lives Matter ou les
  manifestations contre les violences policières sont tant d'actualités réce
 ntes.<br /><br />La table ronde sera l'occasion de faire entendre la voix d
 es acteurs et actrices de terrain qui se mobilisent au quotidien pour la ré
 gularisation et des politiques migratoires plus démocratiques et humaines g
 arantissant la dignité et les droits des personnes migrantes et immigrées<b
 r /><br /><strong>Mamadou Bah&nbsp;:</strong><br />En 2006, Mamadou Bah fui
 t la Guinée pour trouver refuge en Grèce où il obtient le statut de réfugié
  politique en 2012. Travailleur sans papier et militant actif en Grèce, il 
 est le premier secrétaire de l'Union des ressortissants guinéens et œuvre n
 otamment au changement de loi sur le statut des enfants immigrés nés en Grè
 ce. Son militantisme ne plait pas au parti néonazi Aube Dorée dont il subit
  à plusieurs reprises des agressions, l'une d'entre-elle le laissant pour m
 ort. Depuis 2014, Mamadou Bah est réfugié politique en Belgique. Aujourd'hu
 i, il est assistant social à la FGTB Bruxelles et il est membre de la plate
 forme de soutien aux sans-papiers de Belgique.</p><p><br /><strong>Assia Lo
 unis&nbsp;:</strong><br />Assia Lounis vit depuis dix ans en Belgique avec 
 sa famille, il ne lui manque qu'une seule chose&nbsp;: un morceau de papier
  qui lui garantirait qu'elle ne sera jamais forcée de retourner en Algérie.
  Porte-parole de l'Union des Sans-Papiers pour la Régularisation (USPR), el
 le est une actrice et un témoin privilégiée des luttes pour la dignité et l
 a régularisation qui se sont déroulées récemment lors de l'occupation de l'
 église du Béguinage et de la VUB ou encore dans l'action de la grève de la 
 faim.<br /><br /><strong>Un.e troisième intervenant.e</strong> <strong>repr
 ésentant.e de La Voix des Sans-Papiers sera présent.e.</strong><br /><br />
 </p><p><strong>19h30 - 21 h 15&nbsp;: Conférence gesticulée&nbsp;: Moins co
 n qu'un poisson. Pourquoi on ne débat pas avec l'extrême-droite&nbsp;?</str
 ong></p><p>Le débat nous est présenté comme un incontournable de la démocra
 tie. Il faut débattre, avec méthode et rigueur, afin de faire éclater la vé
 rité, et triompher la raison. Le débat permet à certaines positions d'appar
 aître comme meilleures, ou amène ses participant.e.s à atteindre le comprom
 is.<br /><br />Aussi n'est-il pas étonnant d'envisager le débat comme un ou
 til de choix contre l'extrême-droite, qui apparait bien souvent de mauvaise
  foi, peu rigoureuse, voire même carrément menteuse.<br /><br />Faut-il déb
 attre avec l'extrême-droite&nbsp;? Le débat est-il une option pour qui souh
 aite lutter contre le fascisme&nbsp;? Dans cette conférence gesticulée, l'a
 rtiste-intervenant exposera ses arguments…<br /><br /></p><p><strong>21h30 
 - 01h00&nbsp;: Concerts</strong></p><p><strong>Canti all'arrabiata</strong>
 &nbsp;: "Canti all'arrabbiata" joue et chante les racines de l'immigration 
 italienne et évoque l'Italie du XIXe siècle à nos jours au travers de lutte
 s politiques riches et variées. A travers des chansons engagées et révoluti
 onnaires, c'est l'histoire d'hommes, de femmes et de familles modestes vena
 nt des cités, ruelles et campagnes pour la dignité et contre le fascisme qu
 i nous est chanté.<br /><br /><strong>Scène ouverte</strong>&nbsp;: Les par
 ticipant.e.s de l'atelier d'écriture auront la possibilité de lire les text
 es produits sur scène&nbsp;!<br /><br /><strong>Sur nos Visages</strong>&nb
 sp;: Sur nos Visages est le nom d'un projet mené par Peuple &amp; Culture, 
 Promotion et Culture et les Maisons de jeunes de la Bibi et du Péry. Des je
 unes, avec ou sans papiers, ont pensé ensemble un monde plus juste en metta
 nt leur trippe et leur talent dans une aventure&nbsp;: réaliser un CD de ra
 p&nbsp;! Les textes et flow de Lei, No Name, Yakus, Bikire, Pathson, Moha, 
 Joao et Kha Lidi ne laissent pas indifférents, on retrouve un rap engagé, i
 ntimiste et antiraciste où se mélangent trajectoires de vie, colères et esp
 oirs. A découvrir absolument&nbsp;!<br /><br /><strong>DJ Set par L4U</stro
 ng>&nbsp;: Jeune DJ liégeoise, ses sets intègrent le meilleur du RnB old sc
 hool en passant également par la trap, drill et le rap. Le tout sans oublie
 r les bonnes vibes du reggaeton féministe et queer. Bref, tout ce qu'il fau
 t pour danser</p>
CONTACT:Cette adresse e-mail est protégée contre les robots spammeurs. Vous devez activer le JavaScript pour la visualiser.
DTSTAMP:20260420T143944
DTSTART;TZID=Europe/Brussels:20220625T120000
SEQUENCE:0
TRANSP:OPAQUE
END:VEVENT
END:VCALENDAR