BEGIN:VCALENDAR
VERSION:2.0
PRODID:-//jEvents 2.0 for Joomla//EN
CALSCALE:GREGORIAN
METHOD:PUBLISH
BEGIN:VTIMEZONE
TZID:Europe/Brussels
BEGIN:STANDARD
DTSTART:20211031T020000
RDATE:20220327T030000
TZOFFSETFROM:+0200
TZOFFSETTO:+0100
TZNAME:Europe/Brussels CET
END:STANDARD
BEGIN:STANDARD
DTSTART:20221030T020000
RDATE:20230326T030000
TZOFFSETFROM:+0200
TZOFFSETTO:+0100
TZNAME:Europe/Brussels CET
END:STANDARD
BEGIN:STANDARD
DTSTART:20231029T020000
RDATE:20240331T030000
TZOFFSETFROM:+0200
TZOFFSETTO:+0100
TZNAME:Europe/Brussels CET
END:STANDARD
BEGIN:STANDARD
DTSTART:20241027T020000
RDATE:20250330T030000
TZOFFSETFROM:+0200
TZOFFSETTO:+0100
TZNAME:Europe/Brussels CET
END:STANDARD
BEGIN:STANDARD
DTSTART:20251026T020000
RDATE:20260329T030000
TZOFFSETFROM:+0200
TZOFFSETTO:+0100
TZNAME:Europe/Brussels CET
END:STANDARD
BEGIN:STANDARD
DTSTART:20261025T020000
RDATE:20270328T030000
TZOFFSETFROM:+0200
TZOFFSETTO:+0100
TZNAME:Europe/Brussels CET
END:STANDARD
BEGIN:STANDARD
DTSTART:20271031T020000
RDATE:20280326T030000
TZOFFSETFROM:+0200
TZOFFSETTO:+0100
TZNAME:Europe/Brussels CET
END:STANDARD
BEGIN:STANDARD
DTSTART:20281029T020000
RDATE:20290325T030000
TZOFFSETFROM:+0200
TZOFFSETTO:+0100
TZNAME:Europe/Brussels CET
END:STANDARD
BEGIN:STANDARD
DTSTART:20291028T020000
RDATE:20300331T030000
TZOFFSETFROM:+0200
TZOFFSETTO:+0100
TZNAME:Europe/Brussels CET
END:STANDARD
BEGIN:STANDARD
DTSTART:20301027T020000
RDATE:20310330T030000
TZOFFSETFROM:+0200
TZOFFSETTO:+0100
TZNAME:Europe/Brussels CET
END:STANDARD
BEGIN:STANDARD
DTSTART:20311026T020000
RDATE:20320328T030000
TZOFFSETFROM:+0200
TZOFFSETTO:+0100
TZNAME:Europe/Brussels CET
END:STANDARD
BEGIN:STANDARD
DTSTART:20321031T020000
RDATE:20330327T030000
TZOFFSETFROM:+0200
TZOFFSETTO:+0100
TZNAME:Europe/Brussels CET
END:STANDARD
BEGIN:STANDARD
DTSTART:20331030T020000
RDATE:20340326T030000
TZOFFSETFROM:+0200
TZOFFSETTO:+0100
TZNAME:Europe/Brussels CET
END:STANDARD
BEGIN:STANDARD
DTSTART:20341029T020000
RDATE:20350325T030000
TZOFFSETFROM:+0200
TZOFFSETTO:+0100
TZNAME:Europe/Brussels CET
END:STANDARD
BEGIN:STANDARD
DTSTART:20351028T020000
RDATE:20360330T030000
TZOFFSETFROM:+0200
TZOFFSETTO:+0100
TZNAME:Europe/Brussels CET
END:STANDARD
BEGIN:STANDARD
DTSTART:20361026T020000
RDATE:20370329T030000
TZOFFSETFROM:+0200
TZOFFSETTO:+0100
TZNAME:Europe/Brussels CET
END:STANDARD
BEGIN:STANDARD
DTSTART:20371025T020000
TZOFFSETFROM:+0200
TZOFFSETTO:+0100
TZNAME:Europe/Brussels CET
END:STANDARD
BEGIN:DAYLIGHT
DTSTART:20211005T170000
RDATE:20211031T020000
TZOFFSETFROM:+0100
TZOFFSETTO:+0200
TZNAME:Europe/Brussels CEST
END:DAYLIGHT
BEGIN:DAYLIGHT
DTSTART:20220327T030000
RDATE:20221030T020000
TZOFFSETFROM:+0100
TZOFFSETTO:+0200
TZNAME:Europe/Brussels CEST
END:DAYLIGHT
BEGIN:DAYLIGHT
DTSTART:20230326T030000
RDATE:20231029T020000
TZOFFSETFROM:+0100
TZOFFSETTO:+0200
TZNAME:Europe/Brussels CEST
END:DAYLIGHT
BEGIN:DAYLIGHT
DTSTART:20240331T030000
RDATE:20241027T020000
TZOFFSETFROM:+0100
TZOFFSETTO:+0200
TZNAME:Europe/Brussels CEST
END:DAYLIGHT
BEGIN:DAYLIGHT
DTSTART:20250330T030000
RDATE:20251026T020000
TZOFFSETFROM:+0100
TZOFFSETTO:+0200
TZNAME:Europe/Brussels CEST
END:DAYLIGHT
BEGIN:DAYLIGHT
DTSTART:20260329T030000
RDATE:20261025T020000
TZOFFSETFROM:+0100
TZOFFSETTO:+0200
TZNAME:Europe/Brussels CEST
END:DAYLIGHT
BEGIN:DAYLIGHT
DTSTART:20270328T030000
RDATE:20271031T020000
TZOFFSETFROM:+0100
TZOFFSETTO:+0200
TZNAME:Europe/Brussels CEST
END:DAYLIGHT
BEGIN:DAYLIGHT
DTSTART:20280326T030000
RDATE:20281029T020000
TZOFFSETFROM:+0100
TZOFFSETTO:+0200
TZNAME:Europe/Brussels CEST
END:DAYLIGHT
BEGIN:DAYLIGHT
DTSTART:20290325T030000
RDATE:20291028T020000
TZOFFSETFROM:+0100
TZOFFSETTO:+0200
TZNAME:Europe/Brussels CEST
END:DAYLIGHT
BEGIN:DAYLIGHT
DTSTART:20300331T030000
RDATE:20301027T020000
TZOFFSETFROM:+0100
TZOFFSETTO:+0200
TZNAME:Europe/Brussels CEST
END:DAYLIGHT
BEGIN:DAYLIGHT
DTSTART:20310330T030000
RDATE:20311026T020000
TZOFFSETFROM:+0100
TZOFFSETTO:+0200
TZNAME:Europe/Brussels CEST
END:DAYLIGHT
BEGIN:DAYLIGHT
DTSTART:20320328T030000
RDATE:20321031T020000
TZOFFSETFROM:+0100
TZOFFSETTO:+0200
TZNAME:Europe/Brussels CEST
END:DAYLIGHT
BEGIN:DAYLIGHT
DTSTART:20330327T030000
RDATE:20331030T020000
TZOFFSETFROM:+0100
TZOFFSETTO:+0200
TZNAME:Europe/Brussels CEST
END:DAYLIGHT
BEGIN:DAYLIGHT
DTSTART:20340326T030000
RDATE:20341029T020000
TZOFFSETFROM:+0100
TZOFFSETTO:+0200
TZNAME:Europe/Brussels CEST
END:DAYLIGHT
BEGIN:DAYLIGHT
DTSTART:20350325T030000
RDATE:20351028T020000
TZOFFSETFROM:+0100
TZOFFSETTO:+0200
TZNAME:Europe/Brussels CEST
END:DAYLIGHT
BEGIN:DAYLIGHT
DTSTART:20360330T030000
RDATE:20361026T020000
TZOFFSETFROM:+0100
TZOFFSETTO:+0200
TZNAME:Europe/Brussels CEST
END:DAYLIGHT
BEGIN:DAYLIGHT
DTSTART:20370329T030000
RDATE:20371025T020000
TZOFFSETFROM:+0100
TZOFFSETTO:+0200
TZNAME:Europe/Brussels CEST
END:DAYLIGHT
END:VTIMEZONE
BEGIN:VEVENT
UID:aded8181b3f0ccd6808b9384b0ecdddb
CATEGORIES:Université populaire
CREATED:20230206T074618
SUMMARY:ESPACE PUBLIC, VOUS AVEZ DIT PUBLIC - Débat
LOCATION:Peuple et Culture rue du Beau Mur 45 à Liège
DESCRIPTION:A Liège comme ailleurs, la rue a toujours été le terrain de l’exercice des 
 contre-pouvoirs citoyens. Pensons, par exemple, aux grandes manifestations 
 ouvrières des années 60, les mobilisations des femmes à la FN, les grèves é
 tudiantes, la lutte dans les années 2000 contre l’extension du Palais de Ju
 stice dans le quartier Pierreuse, l’occupation de l’espace public par le mo
 uvement des Indignés, Nuits Debout ou encore les Gilets Jaunes jusqu’aujour
 d’hui avec l’occupation du Parc de la Chartreuse contre un projet immobilie
 r de logements de standing. Toutefois, à y regarder de plus près, il appara
 ît que cet espace est multiforme. Éclaté, divisé, privatisé, normé, il est 
 l’enjeu de nombreux conflits entre différents acteurs aux intérêts souvent 
 divergents.\nCes espaces communs de solidarité et de sociabilité, d’organis
 ations, d’expériences nouvelles, de mobilisations sont peut-être plus que j
 amais nécessaires puisque sans eux, les pratiques démocratiques sont asphyx
 iées.\nMais, finalement,  c’est quoi l’espace public ? Est-il toujours le l
 ieu du commun ? Quels espaces voulons-nous pour aujourd’hui et demain ? Pou
 r quels usages ?\nQuels regards portons-nous sur l'espace public ? Souvenir
 s, imaginaires, constats, craintes, luttes et utopies pour l'espace public 
 liégeois, et au-delà...\n
X-ALT-DESC;FMTTYPE=text/html:<p>A Liège comme ailleurs, la rue a toujours été le terrain de l’exercice d
 es contre-pouvoirs citoyens. Pensons, par exemple, aux grandes manifestatio
 ns ouvrières des années 60, les mobilisations des femmes à la FN, les grève
 s étudiantes, la lutte dans les années 2000 contre l’extension du Palais de
  Justice dans le quartier Pierreuse, l’occupation de l’espace public par le
  mouvement des Indignés, Nuits Debout ou encore les Gilets Jaunes jusqu’auj
 ourd’hui avec l’occupation du Parc de la Chartreuse contre un projet immobi
 lier de logements de standing. Toutefois, à y regarder de plus près, il app
 araît que cet espace est multiforme. Éclaté, divisé, privatisé, normé, il e
 st l’enjeu de nombreux conflits entre différents acteurs aux intérêts souve
 nt divergents.</p><p>Ces espaces communs de solidarité et de sociabilité, d
 ’organisations, d’expériences nouvelles, de mobilisations sont peut-être pl
 us que jamais nécessaires puisque sans eux, les pratiques démocratiques son
 t asphyxiées.</p><p>Mais, finalement,&nbsp; c’est quoi <i>l’espace public <
 /i>? Est-il toujours le lieu du commun ? Quels espaces voulons-nous pour au
 jourd’hui et demain ? Pour quels usages ?</p><p>Quels regards portons-nous 
 sur l'espace public ? Souvenirs, imaginaires, constats, craintes, luttes et
  utopies pour l'espace public liégeois, et au-delà...</p><hr />
CONTACT:Cette adresse e-mail est protégée contre les robots spammeurs. Vous devez activer le JavaScript pour la visualiser.
DTSTAMP:20260420T100448
DTSTART;TZID=Europe/Brussels:20221006T170000
DTEND;TZID=Europe/Brussels:20221006T200000
SEQUENCE:0
TRANSP:OPAQUE
END:VEVENT
END:VCALENDAR