BEGIN:VCALENDAR
VERSION:2.0
PRODID:-//jEvents 2.0 for Joomla//EN
CALSCALE:GREGORIAN
METHOD:PUBLISH
BEGIN:VTIMEZONE
TZID:Europe/Brussels
BEGIN:STANDARD
DTSTART:20211031T020000
RDATE:20220327T030000
TZOFFSETFROM:+0200
TZOFFSETTO:+0100
TZNAME:Europe/Brussels CET
END:STANDARD
BEGIN:STANDARD
DTSTART:20221030T020000
RDATE:20230326T030000
TZOFFSETFROM:+0200
TZOFFSETTO:+0100
TZNAME:Europe/Brussels CET
END:STANDARD
BEGIN:STANDARD
DTSTART:20231029T020000
RDATE:20240331T030000
TZOFFSETFROM:+0200
TZOFFSETTO:+0100
TZNAME:Europe/Brussels CET
END:STANDARD
BEGIN:STANDARD
DTSTART:20241027T020000
RDATE:20250330T030000
TZOFFSETFROM:+0200
TZOFFSETTO:+0100
TZNAME:Europe/Brussels CET
END:STANDARD
BEGIN:STANDARD
DTSTART:20251026T020000
RDATE:20260329T030000
TZOFFSETFROM:+0200
TZOFFSETTO:+0100
TZNAME:Europe/Brussels CET
END:STANDARD
BEGIN:STANDARD
DTSTART:20261025T020000
RDATE:20270328T030000
TZOFFSETFROM:+0200
TZOFFSETTO:+0100
TZNAME:Europe/Brussels CET
END:STANDARD
BEGIN:STANDARD
DTSTART:20271031T020000
RDATE:20280326T030000
TZOFFSETFROM:+0200
TZOFFSETTO:+0100
TZNAME:Europe/Brussels CET
END:STANDARD
BEGIN:STANDARD
DTSTART:20281029T020000
RDATE:20290325T030000
TZOFFSETFROM:+0200
TZOFFSETTO:+0100
TZNAME:Europe/Brussels CET
END:STANDARD
BEGIN:STANDARD
DTSTART:20291028T020000
RDATE:20300331T030000
TZOFFSETFROM:+0200
TZOFFSETTO:+0100
TZNAME:Europe/Brussels CET
END:STANDARD
BEGIN:STANDARD
DTSTART:20301027T020000
RDATE:20310330T030000
TZOFFSETFROM:+0200
TZOFFSETTO:+0100
TZNAME:Europe/Brussels CET
END:STANDARD
BEGIN:STANDARD
DTSTART:20311026T020000
RDATE:20320328T030000
TZOFFSETFROM:+0200
TZOFFSETTO:+0100
TZNAME:Europe/Brussels CET
END:STANDARD
BEGIN:STANDARD
DTSTART:20321031T020000
RDATE:20330327T030000
TZOFFSETFROM:+0200
TZOFFSETTO:+0100
TZNAME:Europe/Brussels CET
END:STANDARD
BEGIN:STANDARD
DTSTART:20331030T020000
RDATE:20340326T030000
TZOFFSETFROM:+0200
TZOFFSETTO:+0100
TZNAME:Europe/Brussels CET
END:STANDARD
BEGIN:STANDARD
DTSTART:20341029T020000
RDATE:20350325T030000
TZOFFSETFROM:+0200
TZOFFSETTO:+0100
TZNAME:Europe/Brussels CET
END:STANDARD
BEGIN:STANDARD
DTSTART:20351028T020000
RDATE:20360330T030000
TZOFFSETFROM:+0200
TZOFFSETTO:+0100
TZNAME:Europe/Brussels CET
END:STANDARD
BEGIN:STANDARD
DTSTART:20361026T020000
RDATE:20370329T030000
TZOFFSETFROM:+0200
TZOFFSETTO:+0100
TZNAME:Europe/Brussels CET
END:STANDARD
BEGIN:STANDARD
DTSTART:20371025T020000
TZOFFSETFROM:+0200
TZOFFSETTO:+0100
TZNAME:Europe/Brussels CET
END:STANDARD
BEGIN:DAYLIGHT
DTSTART:20211013T100000
RDATE:20211031T020000
TZOFFSETFROM:+0100
TZOFFSETTO:+0200
TZNAME:Europe/Brussels CEST
END:DAYLIGHT
BEGIN:DAYLIGHT
DTSTART:20220327T030000
RDATE:20221030T020000
TZOFFSETFROM:+0100
TZOFFSETTO:+0200
TZNAME:Europe/Brussels CEST
END:DAYLIGHT
BEGIN:DAYLIGHT
DTSTART:20230326T030000
RDATE:20231029T020000
TZOFFSETFROM:+0100
TZOFFSETTO:+0200
TZNAME:Europe/Brussels CEST
END:DAYLIGHT
BEGIN:DAYLIGHT
DTSTART:20240331T030000
RDATE:20241027T020000
TZOFFSETFROM:+0100
TZOFFSETTO:+0200
TZNAME:Europe/Brussels CEST
END:DAYLIGHT
BEGIN:DAYLIGHT
DTSTART:20250330T030000
RDATE:20251026T020000
TZOFFSETFROM:+0100
TZOFFSETTO:+0200
TZNAME:Europe/Brussels CEST
END:DAYLIGHT
BEGIN:DAYLIGHT
DTSTART:20260329T030000
RDATE:20261025T020000
TZOFFSETFROM:+0100
TZOFFSETTO:+0200
TZNAME:Europe/Brussels CEST
END:DAYLIGHT
BEGIN:DAYLIGHT
DTSTART:20270328T030000
RDATE:20271031T020000
TZOFFSETFROM:+0100
TZOFFSETTO:+0200
TZNAME:Europe/Brussels CEST
END:DAYLIGHT
BEGIN:DAYLIGHT
DTSTART:20280326T030000
RDATE:20281029T020000
TZOFFSETFROM:+0100
TZOFFSETTO:+0200
TZNAME:Europe/Brussels CEST
END:DAYLIGHT
BEGIN:DAYLIGHT
DTSTART:20290325T030000
RDATE:20291028T020000
TZOFFSETFROM:+0100
TZOFFSETTO:+0200
TZNAME:Europe/Brussels CEST
END:DAYLIGHT
BEGIN:DAYLIGHT
DTSTART:20300331T030000
RDATE:20301027T020000
TZOFFSETFROM:+0100
TZOFFSETTO:+0200
TZNAME:Europe/Brussels CEST
END:DAYLIGHT
BEGIN:DAYLIGHT
DTSTART:20310330T030000
RDATE:20311026T020000
TZOFFSETFROM:+0100
TZOFFSETTO:+0200
TZNAME:Europe/Brussels CEST
END:DAYLIGHT
BEGIN:DAYLIGHT
DTSTART:20320328T030000
RDATE:20321031T020000
TZOFFSETFROM:+0100
TZOFFSETTO:+0200
TZNAME:Europe/Brussels CEST
END:DAYLIGHT
BEGIN:DAYLIGHT
DTSTART:20330327T030000
RDATE:20331030T020000
TZOFFSETFROM:+0100
TZOFFSETTO:+0200
TZNAME:Europe/Brussels CEST
END:DAYLIGHT
BEGIN:DAYLIGHT
DTSTART:20340326T030000
RDATE:20341029T020000
TZOFFSETFROM:+0100
TZOFFSETTO:+0200
TZNAME:Europe/Brussels CEST
END:DAYLIGHT
BEGIN:DAYLIGHT
DTSTART:20350325T030000
RDATE:20351028T020000
TZOFFSETFROM:+0100
TZOFFSETTO:+0200
TZNAME:Europe/Brussels CEST
END:DAYLIGHT
BEGIN:DAYLIGHT
DTSTART:20360330T030000
RDATE:20361026T020000
TZOFFSETFROM:+0100
TZOFFSETTO:+0200
TZNAME:Europe/Brussels CEST
END:DAYLIGHT
BEGIN:DAYLIGHT
DTSTART:20370329T030000
RDATE:20371025T020000
TZOFFSETFROM:+0100
TZOFFSETTO:+0200
TZNAME:Europe/Brussels CEST
END:DAYLIGHT
END:VTIMEZONE
BEGIN:VEVENT
UID:0e923b4c2f0ea60bb2a1017699e75bb8
CATEGORIES:Dans le quartier
CREATED:20230206T110507
SUMMARY:REALISATION DES FRESQUES MURALES DANS LA RUE DU BEAU MUR
LOCATION:rue du Beau Mur à 4030 Liège
DESCRIPTION:Le projet STREET ART s’inscrit dans la continuité de la démarche du Collect
 if de quartier de la Bonne Femme visant à améliorer durablement et signific
 ativement la qualité de vie à la Bonne Femme. Il s'agissait de co-créer ave
 c l’ASBL SPRAY CAN ARTS, deux fresques murales pour éviter les dépôts sauva
 ges d’encombrants sous le pont du chemin de fer de la rue du Beau Mur en lu
 i donnant un caractère moins glauque et abandonné. \nAprès plus d'une année
  de travail et la délivrance du permis d'urbanisme, deux street artistes co
 mmenceront la réalisation des fresques de 45m² chacune, dès ce 14 octobre.\
 nN'hésitez pas à vous aller les rencontrer.\nUne fois terminées, les deux œ
 uvres enrichiront la collection Paliss’art de la Ville de Liège ainsi qu’en
  témoigne l’avis rendu par la cellule « art urbain » en vue de l’octroi du 
 permis d’urbanisme :\n« Ces fresques aux couleurs douces apporteront lumièr
 e et clarté dans ce passage sous voies utilisé tant par les automobilistes 
 que les piétons. Le traitement très graphique de cette peinture animalière 
 abordant le thème de la biodiversité rend l’intervention artistique particu
 lièrement visible. Les sujets animaliers et naturalistes amèneront la natur
 e dans cet espace très minéral. Le message de respect de la biodiversité tr
 aité de manière douce et suggestive est une thématique qui n’a pas encore é
 té abordée dans la collection artistique des œuvres de street art à Liège. 
 La facture de ces fresques amènera également une esthétique nouvelle et int
 éressante au catalogue des œuvres existantes ».\nPeuple et Culture remercie
  le Services des affaires culturelles de la Province de Liège et la Fédérat
 ion Wallonie Bruxelles pour leurs apports financiers, les habitant.e.s pour
  le temps qu’ils ont consacrés à sa réalisation et les street artistes pour
  leurs multiples talents. \n\n\n\n \n
X-ALT-DESC;FMTTYPE=text/html:<p>Le projet STREET ART s’inscrit dans la continuité de la démarche du Coll
 ectif de quartier de la Bonne Femme<span class="Apple-converted-space"> </s
 pan>visant à améliorer durablement et significativement la qualité de vie à
  la Bonne Femme. Il s'agissait de co-créer avec l’ASBL SPRAY CAN ARTS, deux
  fresques murales pour éviter les dépôts sauvages d’encombrants sous le pon
 t du chemin de fer de la rue du Beau Mur en lui donnant un caractère moins 
 glauque et abandonné.&nbsp;</p><p>Après plus d'une année de travail et la d
 élivrance du permis d'urbanisme, deux street artistes commenceront la réali
 sation des fresques de 45m² chacune, dès ce 14 octobre.</p><p><strong>N'hés
 itez pas à vous aller les rencontrer.</strong></p><p>Une fois terminées, le
 s deux œuvres enrichiront la collection Paliss’art de la Ville de Liège ain
 si qu’en témoigne l’avis rendu par la cellule «&nbsp;art urbain&nbsp;» en v
 ue de l’octroi du permis d’urbanisme :</p><p>«&nbsp;Ces fresques aux couleu
 rs douces apporteront lumière et clarté dans ce passage sous voies utilisé 
 tant par les automobilistes que les piétons. Le traitement très graphique d
 e cette peinture animalière abordant le thème de la biodiversité rend l’int
 ervention artistique particulièrement visible. Les sujets animaliers et nat
 uralistes amèneront la nature dans cet espace très minéral. Le message de r
 espect de la biodiversité traité de manière douce et suggestive est une thé
 matique qui n’a pas encore été abordée dans la collection artistique des œu
 vres de street art à Liège. La facture de ces fresques amènera également un
 e esthétique nouvelle et intéressante au catalogue des œuvres existantes&nb
 sp;».</p><p>Peuple et Culture remercie le Services des affaires culturelles
  de la Province de Liège et la Fédération Wallonie Bruxelles pour leurs app
 orts financiers, les habitant.e.s pour le temps qu’ils ont consacrés à sa r
 éalisation et les street artistes pour leurs multiples talents.&nbsp;</p><p
 ><br /><br /></p><p>&nbsp;</p>
CONTACT:Cette adresse e-mail est protégée contre les robots spammeurs. Vous devez activer le JavaScript pour la visualiser.
DTSTAMP:20260420T100554
DTSTART;TZID=Europe/Brussels:20221014T100000
DTEND;TZID=Europe/Brussels;VALUE=DATE:20221024
SEQUENCE:0
TRANSP:OPAQUE
END:VEVENT
END:VCALENDAR