BEGIN:VCALENDAR
VERSION:2.0
PRODID:-//jEvents 2.0 for Joomla//EN
CALSCALE:GREGORIAN
METHOD:PUBLISH
BEGIN:VTIMEZONE
TZID:Europe/Brussels
BEGIN:STANDARD
DTSTART:20211213T090000
RDATE:20220327T030000
TZOFFSETFROM:+0200
TZOFFSETTO:+0100
TZNAME:Europe/Brussels CET
END:STANDARD
BEGIN:STANDARD
DTSTART:20221030T020000
RDATE:20230326T030000
TZOFFSETFROM:+0200
TZOFFSETTO:+0100
TZNAME:Europe/Brussels CET
END:STANDARD
BEGIN:STANDARD
DTSTART:20231029T020000
RDATE:20240331T030000
TZOFFSETFROM:+0200
TZOFFSETTO:+0100
TZNAME:Europe/Brussels CET
END:STANDARD
BEGIN:STANDARD
DTSTART:20241027T020000
RDATE:20250330T030000
TZOFFSETFROM:+0200
TZOFFSETTO:+0100
TZNAME:Europe/Brussels CET
END:STANDARD
BEGIN:STANDARD
DTSTART:20251026T020000
RDATE:20260329T030000
TZOFFSETFROM:+0200
TZOFFSETTO:+0100
TZNAME:Europe/Brussels CET
END:STANDARD
BEGIN:STANDARD
DTSTART:20261025T020000
RDATE:20270328T030000
TZOFFSETFROM:+0200
TZOFFSETTO:+0100
TZNAME:Europe/Brussels CET
END:STANDARD
BEGIN:STANDARD
DTSTART:20271031T020000
RDATE:20280326T030000
TZOFFSETFROM:+0200
TZOFFSETTO:+0100
TZNAME:Europe/Brussels CET
END:STANDARD
BEGIN:STANDARD
DTSTART:20281029T020000
RDATE:20290325T030000
TZOFFSETFROM:+0200
TZOFFSETTO:+0100
TZNAME:Europe/Brussels CET
END:STANDARD
BEGIN:STANDARD
DTSTART:20291028T020000
RDATE:20300331T030000
TZOFFSETFROM:+0200
TZOFFSETTO:+0100
TZNAME:Europe/Brussels CET
END:STANDARD
BEGIN:STANDARD
DTSTART:20301027T020000
RDATE:20310330T030000
TZOFFSETFROM:+0200
TZOFFSETTO:+0100
TZNAME:Europe/Brussels CET
END:STANDARD
BEGIN:STANDARD
DTSTART:20311026T020000
RDATE:20320328T030000
TZOFFSETFROM:+0200
TZOFFSETTO:+0100
TZNAME:Europe/Brussels CET
END:STANDARD
BEGIN:STANDARD
DTSTART:20321031T020000
RDATE:20330327T030000
TZOFFSETFROM:+0200
TZOFFSETTO:+0100
TZNAME:Europe/Brussels CET
END:STANDARD
BEGIN:STANDARD
DTSTART:20331030T020000
RDATE:20340326T030000
TZOFFSETFROM:+0200
TZOFFSETTO:+0100
TZNAME:Europe/Brussels CET
END:STANDARD
BEGIN:STANDARD
DTSTART:20341029T020000
RDATE:20350325T030000
TZOFFSETFROM:+0200
TZOFFSETTO:+0100
TZNAME:Europe/Brussels CET
END:STANDARD
BEGIN:STANDARD
DTSTART:20351028T020000
RDATE:20360330T030000
TZOFFSETFROM:+0200
TZOFFSETTO:+0100
TZNAME:Europe/Brussels CET
END:STANDARD
BEGIN:STANDARD
DTSTART:20361026T020000
RDATE:20370329T030000
TZOFFSETFROM:+0200
TZOFFSETTO:+0100
TZNAME:Europe/Brussels CET
END:STANDARD
BEGIN:STANDARD
DTSTART:20371025T020000
TZOFFSETFROM:+0200
TZOFFSETTO:+0100
TZNAME:Europe/Brussels CET
END:STANDARD
BEGIN:DAYLIGHT
DTSTART:20220327T030000
RDATE:20221030T020000
TZOFFSETFROM:+0100
TZOFFSETTO:+0200
TZNAME:Europe/Brussels CEST
END:DAYLIGHT
BEGIN:DAYLIGHT
DTSTART:20230326T030000
RDATE:20231029T020000
TZOFFSETFROM:+0100
TZOFFSETTO:+0200
TZNAME:Europe/Brussels CEST
END:DAYLIGHT
BEGIN:DAYLIGHT
DTSTART:20240331T030000
RDATE:20241027T020000
TZOFFSETFROM:+0100
TZOFFSETTO:+0200
TZNAME:Europe/Brussels CEST
END:DAYLIGHT
BEGIN:DAYLIGHT
DTSTART:20250330T030000
RDATE:20251026T020000
TZOFFSETFROM:+0100
TZOFFSETTO:+0200
TZNAME:Europe/Brussels CEST
END:DAYLIGHT
BEGIN:DAYLIGHT
DTSTART:20260329T030000
RDATE:20261025T020000
TZOFFSETFROM:+0100
TZOFFSETTO:+0200
TZNAME:Europe/Brussels CEST
END:DAYLIGHT
BEGIN:DAYLIGHT
DTSTART:20270328T030000
RDATE:20271031T020000
TZOFFSETFROM:+0100
TZOFFSETTO:+0200
TZNAME:Europe/Brussels CEST
END:DAYLIGHT
BEGIN:DAYLIGHT
DTSTART:20280326T030000
RDATE:20281029T020000
TZOFFSETFROM:+0100
TZOFFSETTO:+0200
TZNAME:Europe/Brussels CEST
END:DAYLIGHT
BEGIN:DAYLIGHT
DTSTART:20290325T030000
RDATE:20291028T020000
TZOFFSETFROM:+0100
TZOFFSETTO:+0200
TZNAME:Europe/Brussels CEST
END:DAYLIGHT
BEGIN:DAYLIGHT
DTSTART:20300331T030000
RDATE:20301027T020000
TZOFFSETFROM:+0100
TZOFFSETTO:+0200
TZNAME:Europe/Brussels CEST
END:DAYLIGHT
BEGIN:DAYLIGHT
DTSTART:20310330T030000
RDATE:20311026T020000
TZOFFSETFROM:+0100
TZOFFSETTO:+0200
TZNAME:Europe/Brussels CEST
END:DAYLIGHT
BEGIN:DAYLIGHT
DTSTART:20320328T030000
RDATE:20321031T020000
TZOFFSETFROM:+0100
TZOFFSETTO:+0200
TZNAME:Europe/Brussels CEST
END:DAYLIGHT
BEGIN:DAYLIGHT
DTSTART:20330327T030000
RDATE:20331030T020000
TZOFFSETFROM:+0100
TZOFFSETTO:+0200
TZNAME:Europe/Brussels CEST
END:DAYLIGHT
BEGIN:DAYLIGHT
DTSTART:20340326T030000
RDATE:20341029T020000
TZOFFSETFROM:+0100
TZOFFSETTO:+0200
TZNAME:Europe/Brussels CEST
END:DAYLIGHT
BEGIN:DAYLIGHT
DTSTART:20350325T030000
RDATE:20351028T020000
TZOFFSETFROM:+0100
TZOFFSETTO:+0200
TZNAME:Europe/Brussels CEST
END:DAYLIGHT
BEGIN:DAYLIGHT
DTSTART:20360330T030000
RDATE:20361026T020000
TZOFFSETFROM:+0100
TZOFFSETTO:+0200
TZNAME:Europe/Brussels CEST
END:DAYLIGHT
BEGIN:DAYLIGHT
DTSTART:20370329T030000
RDATE:20371025T020000
TZOFFSETFROM:+0100
TZOFFSETTO:+0200
TZNAME:Europe/Brussels CEST
END:DAYLIGHT
END:VTIMEZONE
BEGIN:VEVENT
UID:cc4bad6f5a7ff6332c3f1a3c47d85694
CATEGORIES:Formations
CREATED:20230206T111957
SUMMARY:UNIVERSITE D'AUTOMNE - L'HIVER ARRIVE (Jour 3)
LOCATION:Peuple et Culture rue du Beau Mur 45 à Liège
DESCRIPTION:Recrudescence de l’extrême-droite à travers le monde : elle gouverne en Ind
 e, en Russie, en Hongrie ou en Pologne ; elle est associée au pouvoir en Is
 raël ou en Communauté flamande de Belgique, elle est aux portes du pouvoir 
 en France, en Suède et en Italie. Partout elle marque les esprits dans un c
 ontexte de guerre en Europe et de menace nucléaire, de crise économique qui
  ruine le pouvoir d’achat et accroit les inégalités dans le monde, de crise
  environnementale sonnant le glas d'une humanité traumatisée par une pandém
 ie accompagnée de fake news, de relents de complotisme et de défiance.\nEn 
 Belgique également, les signes ne manquent pas  : un responsable universita
 ire se lance dans une véritable chasse aux sorcières contre le wokisme alor
 s qu'un président de parti libéral rompt le cordon sanitaire pour aller dia
 loguer en Flandre avec un chef de file d'extrême-droite tandis qu'un couran
 t laïque d'exclusion s'ingénie à dénoncer un prétendu "entrisme voilé" au s
 ein du monde politique, médiatique et associatif. Bref, l’air du temps est 
 à la confusion et au brouillard…\nLe monde militant, syndical et associatif
  est lui-même en questionnement : quelles pédagogies face aux discours simp
 listes ? Comment éviter que de nouvelles formes de lectures du monde, de re
 vendications et d’actions (intersectionnalité, décroissance…) n’entretienne
 nt ou ne provoquent une crispation réactionnaire chez les citoyens et citoy
 ennes ? Comment analyser et critiquer l’ordre du monde sans alimenter le pe
 ssimisme et la résignation ? Comment naviguer dans une société en perte de 
 repère ?\nL’Université de Peuple et Culture « L’hiver arrive… » est un temp
 s de formation ouvert à tous et toutes pour travailler collectivement, dans
  une période obscure, la question de l’action politique et de l’Education p
 opulaire envisagée dans son projet historique d’accompagnement culturel des
  mouvements sociaux.\nPar la construction collective d’une boussole de l’ém
 ancipation, il s’agira de travailler les repères et les balises, d’identifi
 er les impensés et les écueils, de penser la question de l’agir en période 
 incertaine.\n
X-ALT-DESC;FMTTYPE=text/html:<p>Recrudescence de l’extrême-droite à travers le monde&nbsp;: elle gouvern
 e en Inde, en Russie, en Hongrie ou en Pologne&nbsp;; elle est associée au 
 pouvoir en Israël ou en Communauté flamande de Belgique, elle est aux porte
 s du pouvoir en France, en Suède et en Italie. Partout elle marque les espr
 its dans un contexte de guerre en Europe et de menace nucléaire, de crise é
 conomique qui ruine le pouvoir d’achat et accroit les inégalités dans le mo
 nde, de crise environnementale sonnant le glas d'une humanité traumatisée p
 ar une pandémie accompagnée de fake news, de relents de complotisme et de d
 éfiance.</p><p>En Belgique également, les signes ne manquent pas&nbsp; : un
  responsable universitaire se lance dans une véritable chasse aux sorcières
  contre le wokisme alors qu'un président de parti libéral rompt le cordon s
 anitaire pour aller dialoguer en Flandre avec un chef de file d'extrême-dro
 ite tandis qu'un courant laïque d'exclusion s'ingénie à dénoncer un prétend
 u "entrisme voilé" au sein du monde politique, médiatique et associatif. Br
 ef, l’air du temps est à la confusion et au brouillard…</p><p>Le monde mili
 tant, syndical et associatif est lui-même en questionnement&nbsp;: quelles 
 pédagogies face aux discours simplistes&nbsp;? Comment éviter que de nouvel
 les formes de lectures du monde, de revendications et d’actions (intersecti
 onnalité, décroissance…) n’entretiennent ou ne provoquent une crispation ré
 actionnaire chez les citoyens et citoyennes&nbsp;? Comment analyser et crit
 iquer l’ordre du monde sans alimenter le pessimisme et la résignation&nbsp;
 ? Comment naviguer dans une société en perte de repère&nbsp;?</p><p>L’Unive
 rsité de Peuple et Culture « L’hiver arrive… » est un temps de formation ou
 vert à tous et toutes pour travailler collectivement, dans une période obsc
 ure, la question de l’action politique et de l’Education populaire envisagé
 e dans son projet historique d’accompagnement culturel des mouvements socia
 ux.</p><p>Par la construction collective d’une boussole de l’émancipation, 
 il s’agira de travailler les repères et les balises, d’identifier les impen
 sés et les écueils, de penser la question de l’agir en période incertaine.<
 /p>
CONTACT:Cette adresse e-mail est protégée contre les robots spammeurs. Vous devez activer le JavaScript pour la visualiser.
DTSTAMP:20260420T080611
DTSTART;TZID=Europe/Brussels:20221214T090000
SEQUENCE:0
TRANSP:OPAQUE
END:VEVENT
END:VCALENDAR