BEGIN:VCALENDAR
VERSION:2.0
PRODID:-//jEvents 2.0 for Joomla//EN
CALSCALE:GREGORIAN
METHOD:PUBLISH
BEGIN:VTIMEZONE
TZID:Europe/Brussels
BEGIN:STANDARD
DTSTART:20220323T093000
RDATE:20220327T030000
TZOFFSETFROM:+0200
TZOFFSETTO:+0100
TZNAME:Europe/Brussels CET
END:STANDARD
BEGIN:STANDARD
DTSTART:20221030T020000
RDATE:20230326T030000
TZOFFSETFROM:+0200
TZOFFSETTO:+0100
TZNAME:Europe/Brussels CET
END:STANDARD
BEGIN:STANDARD
DTSTART:20231029T020000
RDATE:20240331T030000
TZOFFSETFROM:+0200
TZOFFSETTO:+0100
TZNAME:Europe/Brussels CET
END:STANDARD
BEGIN:STANDARD
DTSTART:20241027T020000
RDATE:20250330T030000
TZOFFSETFROM:+0200
TZOFFSETTO:+0100
TZNAME:Europe/Brussels CET
END:STANDARD
BEGIN:STANDARD
DTSTART:20251026T020000
RDATE:20260329T030000
TZOFFSETFROM:+0200
TZOFFSETTO:+0100
TZNAME:Europe/Brussels CET
END:STANDARD
BEGIN:STANDARD
DTSTART:20261025T020000
RDATE:20270328T030000
TZOFFSETFROM:+0200
TZOFFSETTO:+0100
TZNAME:Europe/Brussels CET
END:STANDARD
BEGIN:STANDARD
DTSTART:20271031T020000
RDATE:20280326T030000
TZOFFSETFROM:+0200
TZOFFSETTO:+0100
TZNAME:Europe/Brussels CET
END:STANDARD
BEGIN:STANDARD
DTSTART:20281029T020000
RDATE:20290325T030000
TZOFFSETFROM:+0200
TZOFFSETTO:+0100
TZNAME:Europe/Brussels CET
END:STANDARD
BEGIN:STANDARD
DTSTART:20291028T020000
RDATE:20300331T030000
TZOFFSETFROM:+0200
TZOFFSETTO:+0100
TZNAME:Europe/Brussels CET
END:STANDARD
BEGIN:STANDARD
DTSTART:20301027T020000
RDATE:20310330T030000
TZOFFSETFROM:+0200
TZOFFSETTO:+0100
TZNAME:Europe/Brussels CET
END:STANDARD
BEGIN:STANDARD
DTSTART:20311026T020000
RDATE:20320328T030000
TZOFFSETFROM:+0200
TZOFFSETTO:+0100
TZNAME:Europe/Brussels CET
END:STANDARD
BEGIN:STANDARD
DTSTART:20321031T020000
RDATE:20330327T030000
TZOFFSETFROM:+0200
TZOFFSETTO:+0100
TZNAME:Europe/Brussels CET
END:STANDARD
BEGIN:STANDARD
DTSTART:20331030T020000
RDATE:20340326T030000
TZOFFSETFROM:+0200
TZOFFSETTO:+0100
TZNAME:Europe/Brussels CET
END:STANDARD
BEGIN:STANDARD
DTSTART:20341029T020000
RDATE:20350325T030000
TZOFFSETFROM:+0200
TZOFFSETTO:+0100
TZNAME:Europe/Brussels CET
END:STANDARD
BEGIN:STANDARD
DTSTART:20351028T020000
RDATE:20360330T030000
TZOFFSETFROM:+0200
TZOFFSETTO:+0100
TZNAME:Europe/Brussels CET
END:STANDARD
BEGIN:STANDARD
DTSTART:20361026T020000
RDATE:20370329T030000
TZOFFSETFROM:+0200
TZOFFSETTO:+0100
TZNAME:Europe/Brussels CET
END:STANDARD
BEGIN:STANDARD
DTSTART:20371025T020000
TZOFFSETFROM:+0200
TZOFFSETTO:+0100
TZNAME:Europe/Brussels CET
END:STANDARD
BEGIN:DAYLIGHT
DTSTART:20220327T030000
RDATE:20221030T020000
TZOFFSETFROM:+0100
TZOFFSETTO:+0200
TZNAME:Europe/Brussels CEST
END:DAYLIGHT
BEGIN:DAYLIGHT
DTSTART:20230326T030000
RDATE:20231029T020000
TZOFFSETFROM:+0100
TZOFFSETTO:+0200
TZNAME:Europe/Brussels CEST
END:DAYLIGHT
BEGIN:DAYLIGHT
DTSTART:20240331T030000
RDATE:20241027T020000
TZOFFSETFROM:+0100
TZOFFSETTO:+0200
TZNAME:Europe/Brussels CEST
END:DAYLIGHT
BEGIN:DAYLIGHT
DTSTART:20250330T030000
RDATE:20251026T020000
TZOFFSETFROM:+0100
TZOFFSETTO:+0200
TZNAME:Europe/Brussels CEST
END:DAYLIGHT
BEGIN:DAYLIGHT
DTSTART:20260329T030000
RDATE:20261025T020000
TZOFFSETFROM:+0100
TZOFFSETTO:+0200
TZNAME:Europe/Brussels CEST
END:DAYLIGHT
BEGIN:DAYLIGHT
DTSTART:20270328T030000
RDATE:20271031T020000
TZOFFSETFROM:+0100
TZOFFSETTO:+0200
TZNAME:Europe/Brussels CEST
END:DAYLIGHT
BEGIN:DAYLIGHT
DTSTART:20280326T030000
RDATE:20281029T020000
TZOFFSETFROM:+0100
TZOFFSETTO:+0200
TZNAME:Europe/Brussels CEST
END:DAYLIGHT
BEGIN:DAYLIGHT
DTSTART:20290325T030000
RDATE:20291028T020000
TZOFFSETFROM:+0100
TZOFFSETTO:+0200
TZNAME:Europe/Brussels CEST
END:DAYLIGHT
BEGIN:DAYLIGHT
DTSTART:20300331T030000
RDATE:20301027T020000
TZOFFSETFROM:+0100
TZOFFSETTO:+0200
TZNAME:Europe/Brussels CEST
END:DAYLIGHT
BEGIN:DAYLIGHT
DTSTART:20310330T030000
RDATE:20311026T020000
TZOFFSETFROM:+0100
TZOFFSETTO:+0200
TZNAME:Europe/Brussels CEST
END:DAYLIGHT
BEGIN:DAYLIGHT
DTSTART:20320328T030000
RDATE:20321031T020000
TZOFFSETFROM:+0100
TZOFFSETTO:+0200
TZNAME:Europe/Brussels CEST
END:DAYLIGHT
BEGIN:DAYLIGHT
DTSTART:20330327T030000
RDATE:20331030T020000
TZOFFSETFROM:+0100
TZOFFSETTO:+0200
TZNAME:Europe/Brussels CEST
END:DAYLIGHT
BEGIN:DAYLIGHT
DTSTART:20340326T030000
RDATE:20341029T020000
TZOFFSETFROM:+0100
TZOFFSETTO:+0200
TZNAME:Europe/Brussels CEST
END:DAYLIGHT
BEGIN:DAYLIGHT
DTSTART:20350325T030000
RDATE:20351028T020000
TZOFFSETFROM:+0100
TZOFFSETTO:+0200
TZNAME:Europe/Brussels CEST
END:DAYLIGHT
BEGIN:DAYLIGHT
DTSTART:20360330T030000
RDATE:20361026T020000
TZOFFSETFROM:+0100
TZOFFSETTO:+0200
TZNAME:Europe/Brussels CEST
END:DAYLIGHT
BEGIN:DAYLIGHT
DTSTART:20370329T030000
RDATE:20371025T020000
TZOFFSETFROM:+0100
TZOFFSETTO:+0200
TZNAME:Europe/Brussels CEST
END:DAYLIGHT
END:VTIMEZONE
BEGIN:VEVENT
UID:ecb529903dad1f3890f18271b8bf8872
CATEGORIES:Formations
CREATED:20230207T111557
SUMMARY:Inscrire les ateliers d'écriture dans les visées de l'éducation populaire J2
LOCATION:Peuple et Culture\, rue du Beau Mur 45\, 4030 Liège (Grivegnée)
DESCRIPTION:Les 23 et 24 mars 2023 de 9h30 à 17h à l’Espace Cacérès de Peuple et Cultur
 e, rue du Beau Mur 45, 4030 Liège (Grivegnée)\nObjectifs : \nLa formation v
 ise à permettre aux participants d'acquérir expériences, connaissances et c
 ompétences pour concevoir, animer et évaluer des ateliers où l'écriture est
  un tremplin vers la construction d'une pensée socio-politique collective.\
 nContenu : \n\n - L'écriture : moyen d'expression accessible à chacun.e ? D
 éconstruction des représentations et construction collective du sens donné 
 au terme "écrire" dans le champ de l'éducation permanente.\n - Comment indu
 ire un cadre collectif permettant la liberté d'expression écrite et son par
 tage oral? Quelles valeurs à l'oeuvre? Faut-il les nommer? Le groupe doit-i
 l y adhérer?\n - Quelles méthodologies pour favoriser l'interaction entre l
 es textes individuels et la discussion collective au départ des contenus ? 
 Points de vigilance à respecter en terme d'animation.\n - Comment formuler 
 des consignes d'écriture ouvrant les portes vers les expressions et les ana
 lyses sociopolitiques? Les récits individuels sont-ils toujours traversés p
 ar les enjeux sociétaux ?\n - Comment favoriser l'expérimentation de l'écri
 ture comme support de contestation sociale?\n - Quels espaces publics pour 
 quelles formes d'interventions écrites ?Méthodologie\nLes méthodologies et 
 les pédagogies s'inscrivent en rupture avec le modèle scolaire et requièren
 t une implication active des participant.es.\nPublic\nTravailleur.euse.s sa
 larié.e.s ou bénévoles des secteurs associatif ou non marchand public/ priv
 é travaillant avec des groupes d’adultes ou de jeunes.\nPrix\n100 € (rembou
 rsés par le Fonds 4S pour les travailleurs/travailleuses des commissions pa
 ritaires 329.02 et 329.03)\n \nInscription (http://www.peuple-et-culture-wb
 .be/index.php?option=com_rsform&amp;view=rsform&amp;formId=1&amp;Itemid=158
 )\n
X-ALT-DESC;FMTTYPE=text/html:<p><strong>Les 23 et 24 mars 2023 de 9h30 à 17h <strong>à l’Espace Cacérès 
 de </strong>Peuple et Culture, rue du Beau Mur 45, 4030 Liège (Grivegnée)</
 strong></p><p><strong>Objectifs&nbsp;: </strong></p><p>La formation vise à 
 permettre aux participants d'acquérir expériences, connaissances et compéte
 nces pour concevoir, animer et évaluer des ateliers où l'écriture est un tr
 emplin vers la construction d'une pensée socio-politique collective.</p><p>
 <strong>Contenu&nbsp;: </strong></p><ul><li>L'écriture : moyen d'expression
  accessible à chacun.e ? Déconstruction des représentations et construction
  collective du sens donné au terme "écrire" dans le champ de l'éducation pe
 rmanente.</li><li>Comment induire un cadre collectif permettant la liberté 
 d'expression écrite et son partage oral? Quelles valeurs à l'oeuvre? Faut-i
 l les nommer? Le groupe doit-il y adhérer?</li><li>Quelles méthodologies po
 ur favoriser l'interaction entre les textes individuels et la discussion co
 llective au départ des contenus ? Points de vigilance à respecter en terme 
 d'animation.</li><li>Comment formuler des consignes d'écriture ouvrant les 
 portes vers les expressions et les analyses sociopolitiques? Les récits ind
 ividuels sont-ils toujours traversés par les enjeux sociétaux ?</li><li>Com
 ment favoriser l'expérimentation de l'écriture comme support de contestatio
 n sociale?</li><li>Quels espaces publics pour quelles formes d'intervention
 s écrites ?</li></ul><p><strong>Méthodologie</strong></p><p>Les méthodologi
 es et les pédagogies s'inscrivent en rupture avec le modèle scolaire et req
 uièrent une implication active des participant.es.</p><p><strong>Public</st
 rong></p><p>Travailleur.euse.s salarié.e.s ou bénévoles des secteurs associ
 atif ou non marchand public/ privé travaillant avec des groupes d’adultes o
 u de jeunes.</p><p><strong>Prix</strong></p><p>100 € (remboursés par le Fon
 ds 4S pour les travailleurs/travailleuses des commissions paritaires 329.02
  et 329.03)</p><p>&nbsp;</p><p><a href="http://www.peuple-et-culture-wb.be/
 index.php?option=com_rsform&amp;view=rsform&amp;formId=1&amp;Itemid=158" ta
 rget="_self">Inscription</a></p>
CONTACT:Marie-Ève Maréchal : 0474 / 81.22.63 - Cette adresse e-mail est protégée contre les robots spammeurs. Vous devez activer le JavaScript pour la visualiser.
DTSTAMP:20260420T041739
DTSTART;TZID=Europe/Brussels:20230324T093000
DTEND;TZID=Europe/Brussels:20230324T170000
SEQUENCE:0
TRANSP:OPAQUE
END:VEVENT
END:VCALENDAR