BEGIN:VCALENDAR
VERSION:2.0
PRODID:-//jEvents 2.0 for Joomla//EN
CALSCALE:GREGORIAN
METHOD:PUBLISH
BEGIN:VTIMEZONE
TZID:Europe/Brussels
BEGIN:STANDARD
DTSTART:20220307T180000
RDATE:20220327T030000
TZOFFSETFROM:+0200
TZOFFSETTO:+0100
TZNAME:Europe/Brussels CET
END:STANDARD
BEGIN:STANDARD
DTSTART:20221030T020000
RDATE:20230326T030000
TZOFFSETFROM:+0200
TZOFFSETTO:+0100
TZNAME:Europe/Brussels CET
END:STANDARD
BEGIN:STANDARD
DTSTART:20231029T020000
RDATE:20240331T030000
TZOFFSETFROM:+0200
TZOFFSETTO:+0100
TZNAME:Europe/Brussels CET
END:STANDARD
BEGIN:STANDARD
DTSTART:20241027T020000
RDATE:20250330T030000
TZOFFSETFROM:+0200
TZOFFSETTO:+0100
TZNAME:Europe/Brussels CET
END:STANDARD
BEGIN:STANDARD
DTSTART:20251026T020000
RDATE:20260329T030000
TZOFFSETFROM:+0200
TZOFFSETTO:+0100
TZNAME:Europe/Brussels CET
END:STANDARD
BEGIN:STANDARD
DTSTART:20261025T020000
RDATE:20270328T030000
TZOFFSETFROM:+0200
TZOFFSETTO:+0100
TZNAME:Europe/Brussels CET
END:STANDARD
BEGIN:STANDARD
DTSTART:20271031T020000
RDATE:20280326T030000
TZOFFSETFROM:+0200
TZOFFSETTO:+0100
TZNAME:Europe/Brussels CET
END:STANDARD
BEGIN:STANDARD
DTSTART:20281029T020000
RDATE:20290325T030000
TZOFFSETFROM:+0200
TZOFFSETTO:+0100
TZNAME:Europe/Brussels CET
END:STANDARD
BEGIN:STANDARD
DTSTART:20291028T020000
RDATE:20300331T030000
TZOFFSETFROM:+0200
TZOFFSETTO:+0100
TZNAME:Europe/Brussels CET
END:STANDARD
BEGIN:STANDARD
DTSTART:20301027T020000
RDATE:20310330T030000
TZOFFSETFROM:+0200
TZOFFSETTO:+0100
TZNAME:Europe/Brussels CET
END:STANDARD
BEGIN:STANDARD
DTSTART:20311026T020000
RDATE:20320328T030000
TZOFFSETFROM:+0200
TZOFFSETTO:+0100
TZNAME:Europe/Brussels CET
END:STANDARD
BEGIN:STANDARD
DTSTART:20321031T020000
RDATE:20330327T030000
TZOFFSETFROM:+0200
TZOFFSETTO:+0100
TZNAME:Europe/Brussels CET
END:STANDARD
BEGIN:STANDARD
DTSTART:20331030T020000
RDATE:20340326T030000
TZOFFSETFROM:+0200
TZOFFSETTO:+0100
TZNAME:Europe/Brussels CET
END:STANDARD
BEGIN:STANDARD
DTSTART:20341029T020000
RDATE:20350325T030000
TZOFFSETFROM:+0200
TZOFFSETTO:+0100
TZNAME:Europe/Brussels CET
END:STANDARD
BEGIN:STANDARD
DTSTART:20351028T020000
RDATE:20360330T030000
TZOFFSETFROM:+0200
TZOFFSETTO:+0100
TZNAME:Europe/Brussels CET
END:STANDARD
BEGIN:STANDARD
DTSTART:20361026T020000
RDATE:20370329T030000
TZOFFSETFROM:+0200
TZOFFSETTO:+0100
TZNAME:Europe/Brussels CET
END:STANDARD
BEGIN:STANDARD
DTSTART:20371025T020000
TZOFFSETFROM:+0200
TZOFFSETTO:+0100
TZNAME:Europe/Brussels CET
END:STANDARD
BEGIN:DAYLIGHT
DTSTART:20220327T030000
RDATE:20221030T020000
TZOFFSETFROM:+0100
TZOFFSETTO:+0200
TZNAME:Europe/Brussels CEST
END:DAYLIGHT
BEGIN:DAYLIGHT
DTSTART:20230326T030000
RDATE:20231029T020000
TZOFFSETFROM:+0100
TZOFFSETTO:+0200
TZNAME:Europe/Brussels CEST
END:DAYLIGHT
BEGIN:DAYLIGHT
DTSTART:20240331T030000
RDATE:20241027T020000
TZOFFSETFROM:+0100
TZOFFSETTO:+0200
TZNAME:Europe/Brussels CEST
END:DAYLIGHT
BEGIN:DAYLIGHT
DTSTART:20250330T030000
RDATE:20251026T020000
TZOFFSETFROM:+0100
TZOFFSETTO:+0200
TZNAME:Europe/Brussels CEST
END:DAYLIGHT
BEGIN:DAYLIGHT
DTSTART:20260329T030000
RDATE:20261025T020000
TZOFFSETFROM:+0100
TZOFFSETTO:+0200
TZNAME:Europe/Brussels CEST
END:DAYLIGHT
BEGIN:DAYLIGHT
DTSTART:20270328T030000
RDATE:20271031T020000
TZOFFSETFROM:+0100
TZOFFSETTO:+0200
TZNAME:Europe/Brussels CEST
END:DAYLIGHT
BEGIN:DAYLIGHT
DTSTART:20280326T030000
RDATE:20281029T020000
TZOFFSETFROM:+0100
TZOFFSETTO:+0200
TZNAME:Europe/Brussels CEST
END:DAYLIGHT
BEGIN:DAYLIGHT
DTSTART:20290325T030000
RDATE:20291028T020000
TZOFFSETFROM:+0100
TZOFFSETTO:+0200
TZNAME:Europe/Brussels CEST
END:DAYLIGHT
BEGIN:DAYLIGHT
DTSTART:20300331T030000
RDATE:20301027T020000
TZOFFSETFROM:+0100
TZOFFSETTO:+0200
TZNAME:Europe/Brussels CEST
END:DAYLIGHT
BEGIN:DAYLIGHT
DTSTART:20310330T030000
RDATE:20311026T020000
TZOFFSETFROM:+0100
TZOFFSETTO:+0200
TZNAME:Europe/Brussels CEST
END:DAYLIGHT
BEGIN:DAYLIGHT
DTSTART:20320328T030000
RDATE:20321031T020000
TZOFFSETFROM:+0100
TZOFFSETTO:+0200
TZNAME:Europe/Brussels CEST
END:DAYLIGHT
BEGIN:DAYLIGHT
DTSTART:20330327T030000
RDATE:20331030T020000
TZOFFSETFROM:+0100
TZOFFSETTO:+0200
TZNAME:Europe/Brussels CEST
END:DAYLIGHT
BEGIN:DAYLIGHT
DTSTART:20340326T030000
RDATE:20341029T020000
TZOFFSETFROM:+0100
TZOFFSETTO:+0200
TZNAME:Europe/Brussels CEST
END:DAYLIGHT
BEGIN:DAYLIGHT
DTSTART:20350325T030000
RDATE:20351028T020000
TZOFFSETFROM:+0100
TZOFFSETTO:+0200
TZNAME:Europe/Brussels CEST
END:DAYLIGHT
BEGIN:DAYLIGHT
DTSTART:20360330T030000
RDATE:20361026T020000
TZOFFSETFROM:+0100
TZOFFSETTO:+0200
TZNAME:Europe/Brussels CEST
END:DAYLIGHT
BEGIN:DAYLIGHT
DTSTART:20370329T030000
RDATE:20371025T020000
TZOFFSETFROM:+0100
TZOFFSETTO:+0200
TZNAME:Europe/Brussels CEST
END:DAYLIGHT
END:VTIMEZONE
BEGIN:VEVENT
UID:0913c0cf6d897d97729c7075f3620c71
CATEGORIES:Formations
CREATED:20230207T112159
SUMMARY:Comptabilité Simplifiée J3
LOCATION:Peuple et Culture – rue du Beau Mur 45 à 4030 Liège.
DESCRIPTION:Les 6, 7, 8, et 13 mars 2023 de 18h00 à 21h30 à l’Espace Cacérès de Peuple 
 et Culture – rue du Beau Mur 45 à 4030 Liège.\nLa formation a pour objectif
  de donner les bases de la comptabilité simple à toute personne qui est ame
 née à prendre en charge la gestion financière d’une association. Elle vise 
 à répondre aux besoins spécifiques des nano asbl et adapte son horaire en f
 onction des contraintes horaires de leurs membres.\nAu terme de la formatio
 n, les participant.e.s seront en capacité de : \n\n - Cerner les grands pri
 ncipes d’une comptabilité simplifiée ;\n - Etablir une comptabilité simplif
 iée ;\n - Collecter et classer les pièces comptables ;\n - Encoder des pièc
 es comptables dans un livre ;\n - Réaliser l’inventaire de ses avoirs ;\n -
  Etablir les comptes annuels.Méthodologie\nLa formation alterne de courts e
 xposés théoriques et des exercices pratiques.\nPublic\nAnimateurs, formateu
 rs, chargés de projet, responsables des secteurs associatifs et des secteur
 s non marchands publics ou privés.\nPrix : 50€ \n \nInscription  (http://ww
 w.peuple-et-culture-wb.be/index.php?option=com_rsform&amp;view=rsform&amp;f
 ormId=1&amp;Itemid=158)\n
X-ALT-DESC;FMTTYPE=text/html:<p><strong>Les 6, 7, 8, et 13 mars 2023 de 18h00 à 21h30 <strong>à l’Espace
  Cacérès de Peuple et Culture – rue du Beau Mur 45 à 4030 Liège.</strong></
 strong></p><p>La formation a pour objectif de donner les bases de la compta
 bilité simple à toute personne qui est amenée à prendre en charge la gestio
 n financière d’une association. Elle vise à répondre aux besoins spécifique
 s des nano asbl et adapte son horaire en fonction des contraintes horaires 
 de leurs membres.</p><p><strong>Au terme de la formation, les participant.e
 .s seront en capacité de&nbsp;: </strong></p><ul><li>Cerner les grands prin
 cipes d’une comptabilité simplifiée ;</li><li>Etablir une comptabilité simp
 lifiée ;</li><li>Collecter et classer les pièces comptables ;</li><li>Encod
 er des pièces comptables dans un livre ;</li><li>Réaliser l’inventaire de s
 es avoirs ;</li><li>Etablir les comptes annuels.</li></ul><p><strong>Méthod
 ologie</strong></p><p>La formation alterne de courts exposés théoriques et 
 des exercices pratiques.</p><p><strong>Public</strong></p><p>Animateurs, fo
 rmateurs, chargés de projet, responsables des secteurs associatifs et des s
 ecteurs non marchands publics ou privés.</p><p><strong>Prix&nbsp;: 50€&nbsp
 ;</strong></p><p><strong>&nbsp;</strong></p><p><a href="http://www.peuple-e
 t-culture-wb.be/index.php?option=com_rsform&amp;view=rsform&amp;formId=1&am
 p;Itemid=158">Inscription </a></p>
CONTACT:Nancy Hardy : Cette adresse e-mail est protégée contre les robots spammeurs. Vous devez activer le JavaScript pour la visualiser.
DTSTAMP:20260420T041755
DTSTART;TZID=Europe/Brussels:20230308T180000
DTEND;TZID=Europe/Brussels:20230308T213000
SEQUENCE:0
TRANSP:OPAQUE
END:VEVENT
END:VCALENDAR