BEGIN:VCALENDAR
VERSION:2.0
PRODID:-//jEvents 2.0 for Joomla//EN
CALSCALE:GREGORIAN
METHOD:PUBLISH
BEGIN:VTIMEZONE
TZID:Europe/Brussels
BEGIN:STANDARD
DTSTART:20221030T020000
RDATE:20230326T030000
TZOFFSETFROM:+0200
TZOFFSETTO:+0100
TZNAME:Europe/Brussels CET
END:STANDARD
BEGIN:STANDARD
DTSTART:20231029T020000
RDATE:20240331T030000
TZOFFSETFROM:+0200
TZOFFSETTO:+0100
TZNAME:Europe/Brussels CET
END:STANDARD
BEGIN:STANDARD
DTSTART:20241027T020000
RDATE:20250330T030000
TZOFFSETFROM:+0200
TZOFFSETTO:+0100
TZNAME:Europe/Brussels CET
END:STANDARD
BEGIN:STANDARD
DTSTART:20251026T020000
RDATE:20260329T030000
TZOFFSETFROM:+0200
TZOFFSETTO:+0100
TZNAME:Europe/Brussels CET
END:STANDARD
BEGIN:STANDARD
DTSTART:20261025T020000
RDATE:20270328T030000
TZOFFSETFROM:+0200
TZOFFSETTO:+0100
TZNAME:Europe/Brussels CET
END:STANDARD
BEGIN:STANDARD
DTSTART:20271031T020000
RDATE:20280326T030000
TZOFFSETFROM:+0200
TZOFFSETTO:+0100
TZNAME:Europe/Brussels CET
END:STANDARD
BEGIN:STANDARD
DTSTART:20281029T020000
RDATE:20290325T030000
TZOFFSETFROM:+0200
TZOFFSETTO:+0100
TZNAME:Europe/Brussels CET
END:STANDARD
BEGIN:STANDARD
DTSTART:20291028T020000
RDATE:20300331T030000
TZOFFSETFROM:+0200
TZOFFSETTO:+0100
TZNAME:Europe/Brussels CET
END:STANDARD
BEGIN:STANDARD
DTSTART:20301027T020000
RDATE:20310330T030000
TZOFFSETFROM:+0200
TZOFFSETTO:+0100
TZNAME:Europe/Brussels CET
END:STANDARD
BEGIN:STANDARD
DTSTART:20311026T020000
RDATE:20320328T030000
TZOFFSETFROM:+0200
TZOFFSETTO:+0100
TZNAME:Europe/Brussels CET
END:STANDARD
BEGIN:STANDARD
DTSTART:20321031T020000
RDATE:20330327T030000
TZOFFSETFROM:+0200
TZOFFSETTO:+0100
TZNAME:Europe/Brussels CET
END:STANDARD
BEGIN:STANDARD
DTSTART:20331030T020000
RDATE:20340326T030000
TZOFFSETFROM:+0200
TZOFFSETTO:+0100
TZNAME:Europe/Brussels CET
END:STANDARD
BEGIN:STANDARD
DTSTART:20341029T020000
RDATE:20350325T030000
TZOFFSETFROM:+0200
TZOFFSETTO:+0100
TZNAME:Europe/Brussels CET
END:STANDARD
BEGIN:STANDARD
DTSTART:20351028T020000
RDATE:20360330T030000
TZOFFSETFROM:+0200
TZOFFSETTO:+0100
TZNAME:Europe/Brussels CET
END:STANDARD
BEGIN:STANDARD
DTSTART:20361026T020000
RDATE:20370329T030000
TZOFFSETFROM:+0200
TZOFFSETTO:+0100
TZNAME:Europe/Brussels CET
END:STANDARD
BEGIN:STANDARD
DTSTART:20371025T020000
TZOFFSETFROM:+0200
TZOFFSETTO:+0100
TZNAME:Europe/Brussels CET
END:STANDARD
BEGIN:DAYLIGHT
DTSTART:20220413T090000
RDATE:20221030T020000
TZOFFSETFROM:+0100
TZOFFSETTO:+0200
TZNAME:Europe/Brussels CEST
END:DAYLIGHT
BEGIN:DAYLIGHT
DTSTART:20230326T030000
RDATE:20231029T020000
TZOFFSETFROM:+0100
TZOFFSETTO:+0200
TZNAME:Europe/Brussels CEST
END:DAYLIGHT
BEGIN:DAYLIGHT
DTSTART:20240331T030000
RDATE:20241027T020000
TZOFFSETFROM:+0100
TZOFFSETTO:+0200
TZNAME:Europe/Brussels CEST
END:DAYLIGHT
BEGIN:DAYLIGHT
DTSTART:20250330T030000
RDATE:20251026T020000
TZOFFSETFROM:+0100
TZOFFSETTO:+0200
TZNAME:Europe/Brussels CEST
END:DAYLIGHT
BEGIN:DAYLIGHT
DTSTART:20260329T030000
RDATE:20261025T020000
TZOFFSETFROM:+0100
TZOFFSETTO:+0200
TZNAME:Europe/Brussels CEST
END:DAYLIGHT
BEGIN:DAYLIGHT
DTSTART:20270328T030000
RDATE:20271031T020000
TZOFFSETFROM:+0100
TZOFFSETTO:+0200
TZNAME:Europe/Brussels CEST
END:DAYLIGHT
BEGIN:DAYLIGHT
DTSTART:20280326T030000
RDATE:20281029T020000
TZOFFSETFROM:+0100
TZOFFSETTO:+0200
TZNAME:Europe/Brussels CEST
END:DAYLIGHT
BEGIN:DAYLIGHT
DTSTART:20290325T030000
RDATE:20291028T020000
TZOFFSETFROM:+0100
TZOFFSETTO:+0200
TZNAME:Europe/Brussels CEST
END:DAYLIGHT
BEGIN:DAYLIGHT
DTSTART:20300331T030000
RDATE:20301027T020000
TZOFFSETFROM:+0100
TZOFFSETTO:+0200
TZNAME:Europe/Brussels CEST
END:DAYLIGHT
BEGIN:DAYLIGHT
DTSTART:20310330T030000
RDATE:20311026T020000
TZOFFSETFROM:+0100
TZOFFSETTO:+0200
TZNAME:Europe/Brussels CEST
END:DAYLIGHT
BEGIN:DAYLIGHT
DTSTART:20320328T030000
RDATE:20321031T020000
TZOFFSETFROM:+0100
TZOFFSETTO:+0200
TZNAME:Europe/Brussels CEST
END:DAYLIGHT
BEGIN:DAYLIGHT
DTSTART:20330327T030000
RDATE:20331030T020000
TZOFFSETFROM:+0100
TZOFFSETTO:+0200
TZNAME:Europe/Brussels CEST
END:DAYLIGHT
BEGIN:DAYLIGHT
DTSTART:20340326T030000
RDATE:20341029T020000
TZOFFSETFROM:+0100
TZOFFSETTO:+0200
TZNAME:Europe/Brussels CEST
END:DAYLIGHT
BEGIN:DAYLIGHT
DTSTART:20350325T030000
RDATE:20351028T020000
TZOFFSETFROM:+0100
TZOFFSETTO:+0200
TZNAME:Europe/Brussels CEST
END:DAYLIGHT
BEGIN:DAYLIGHT
DTSTART:20360330T030000
RDATE:20361026T020000
TZOFFSETFROM:+0100
TZOFFSETTO:+0200
TZNAME:Europe/Brussels CEST
END:DAYLIGHT
BEGIN:DAYLIGHT
DTSTART:20370329T030000
RDATE:20371025T020000
TZOFFSETFROM:+0100
TZOFFSETTO:+0200
TZNAME:Europe/Brussels CEST
END:DAYLIGHT
END:VTIMEZONE
BEGIN:VEVENT
UID:59d8b48d13bf99982068cb4103cf425e
CATEGORIES:Formations
CREATED:20230207T113545
SUMMARY:L’ETAT SOCIAL ACTIF J3
LOCATION:Peuple et Culture – rue du Beau Mur 45 à 4030 Liège
DESCRIPTION:<p><strong>Les 12, 13 et 14 avril 2023 de 9h à 17h à l’Espace Cacérès de Pe
 uple et Culture – rue du Beau Mur 45 à 4030 Liège.</strong></p><p>«&nbsp;Tr
 oisième voie&nbsp;» en Grande-Bretagne, «&nbsp;Nouveau centre&nbsp;» en All
 emagne, «&nbsp;Etat Social Actif&nbsp;» en Belgique…, ces différentes appel
 lations marquent, depuis une trentaine d’années, une évolution profonde du 
 rapport de l’Etat aux citoyens traduite dans les politiques sociales d’acti
 vation et les cures d’amaigrissement des politiques publiques.</p><p>Sans i
 déologie apparente - ni de gauche, ni de droite - l’ESA a pourtant peu à pe
 u transformer les politiques d’aides sociales en instrument de formation au
  travail et d’éducation morale. L’accès aux droits d’une partie de la popul
 ation est désormais conditionné à des devoirs : tous les allocataires socia
 ux doivent adopter une attitude volontariste et pro-active tant en matière 
 de formation que de recherche d’emploi ou encore de reprise du travail en s
 ’adaptant sans cesse aux besoins et exigences d’un système économique qui l
 ui, n’est jamais remis en question.</p><p>Les conséquences ne sont pas seul
 ement sociales, elles sont aussi professionnelles pour celles et ceux qui s
 ont chargés de mettre en œuvre ces nouvelles orientations : le contrôle et 
 la sanction prévalent sur l’aide et l’accompagnement, les résultats à attei
 ndre sont chaque année plus élevés alors que les emplois manquent cruelleme
 nt.</p><p>La formation propose une immersion dans l’ESA pour mieux le saisi
 r dans ses différentes composantes et sa complexité. Elle s’adresse à toute
 s celles et ceux qui sont aux prises, directement ou indirectement, avec le
 s politiques d’ESA : enseignants, formateurs d’adultes, animateurs sociocul
 turels, travailleurs sociaux, de l’insertion, de l’intégration, de la santé
 , délégués syndicaux, travailleurs sans emploi...</p><p><strong>Objectifs</
 strong>&nbsp;:</p><p>Permettre aux participant.es&nbsp;:</p><ul><li>De comp
 rendre et d’analyser les fondements idéologiques et les visées politiques d
 e l’ESA.</li><li>D’évaluer les changements intervenus et de mesurer les ris
 ques qu’il font peser sur la vie en société en démocratie.</li><li>D’identi
 fier les différents acteurs de l’Etat Social Actif et de porter un regard c
 ritique sur leurs statuts, rôles et fonctions.</li></ul><p><strong>Public</
 strong> :</p><p>Cette formation s’adresse à des animateur.trices, formateur
 .trices, travailleur.euses du secteur non marchand public/privé.</p><p><str
 ong>Prix</strong> :</p><p>La participation s’élève à 150€ par participant(e
 ) (remboursés par le Fonds 4S pour les travailleurs/travailleuses des commi
 ssions paritaires 329.02 et 329.03)</p><p>&nbsp;</p><p><a href="http://www.
 peuple-et-culture-wb.be/index.php?option=com_rsform&amp;view=rsform&amp;for
 mId=1&amp;Itemid=158" target="_self">Inscription</a></p>
CONTACT:Pierre Arnoldy : 04/3428333 -  Cette adresse e-mail est protégée contre les robots spammeurs. Vous devez activer le JavaScript pour la visualiser.
DTSTAMP:20260420T042203
DTSTART;TZID=Europe/Brussels:20230414T090000
DTEND;TZID=Europe/Brussels:20230414T170000
SEQUENCE:0
TRANSP:OPAQUE
END:VEVENT
END:VCALENDAR