BEGIN:VCALENDAR
VERSION:2.0
PRODID:-//jEvents 2.0 for Joomla//EN
CALSCALE:GREGORIAN
METHOD:PUBLISH
BEGIN:VTIMEZONE
TZID:Europe/Brussels
BEGIN:STANDARD
DTSTART:20221030T020000
RDATE:20230326T030000
TZOFFSETFROM:+0200
TZOFFSETTO:+0100
TZNAME:Europe/Brussels CET
END:STANDARD
BEGIN:STANDARD
DTSTART:20231029T020000
RDATE:20240331T030000
TZOFFSETFROM:+0200
TZOFFSETTO:+0100
TZNAME:Europe/Brussels CET
END:STANDARD
BEGIN:STANDARD
DTSTART:20241027T020000
RDATE:20250330T030000
TZOFFSETFROM:+0200
TZOFFSETTO:+0100
TZNAME:Europe/Brussels CET
END:STANDARD
BEGIN:STANDARD
DTSTART:20251026T020000
RDATE:20260329T030000
TZOFFSETFROM:+0200
TZOFFSETTO:+0100
TZNAME:Europe/Brussels CET
END:STANDARD
BEGIN:STANDARD
DTSTART:20261025T020000
RDATE:20270328T030000
TZOFFSETFROM:+0200
TZOFFSETTO:+0100
TZNAME:Europe/Brussels CET
END:STANDARD
BEGIN:STANDARD
DTSTART:20271031T020000
RDATE:20280326T030000
TZOFFSETFROM:+0200
TZOFFSETTO:+0100
TZNAME:Europe/Brussels CET
END:STANDARD
BEGIN:STANDARD
DTSTART:20281029T020000
RDATE:20290325T030000
TZOFFSETFROM:+0200
TZOFFSETTO:+0100
TZNAME:Europe/Brussels CET
END:STANDARD
BEGIN:STANDARD
DTSTART:20291028T020000
RDATE:20300331T030000
TZOFFSETFROM:+0200
TZOFFSETTO:+0100
TZNAME:Europe/Brussels CET
END:STANDARD
BEGIN:STANDARD
DTSTART:20301027T020000
RDATE:20310330T030000
TZOFFSETFROM:+0200
TZOFFSETTO:+0100
TZNAME:Europe/Brussels CET
END:STANDARD
BEGIN:STANDARD
DTSTART:20311026T020000
RDATE:20320328T030000
TZOFFSETFROM:+0200
TZOFFSETTO:+0100
TZNAME:Europe/Brussels CET
END:STANDARD
BEGIN:STANDARD
DTSTART:20321031T020000
RDATE:20330327T030000
TZOFFSETFROM:+0200
TZOFFSETTO:+0100
TZNAME:Europe/Brussels CET
END:STANDARD
BEGIN:STANDARD
DTSTART:20331030T020000
RDATE:20340326T030000
TZOFFSETFROM:+0200
TZOFFSETTO:+0100
TZNAME:Europe/Brussels CET
END:STANDARD
BEGIN:STANDARD
DTSTART:20341029T020000
RDATE:20350325T030000
TZOFFSETFROM:+0200
TZOFFSETTO:+0100
TZNAME:Europe/Brussels CET
END:STANDARD
BEGIN:STANDARD
DTSTART:20351028T020000
RDATE:20360330T030000
TZOFFSETFROM:+0200
TZOFFSETTO:+0100
TZNAME:Europe/Brussels CET
END:STANDARD
BEGIN:STANDARD
DTSTART:20361026T020000
RDATE:20370329T030000
TZOFFSETFROM:+0200
TZOFFSETTO:+0100
TZNAME:Europe/Brussels CET
END:STANDARD
BEGIN:STANDARD
DTSTART:20371025T020000
TZOFFSETFROM:+0200
TZOFFSETTO:+0100
TZNAME:Europe/Brussels CET
END:STANDARD
BEGIN:DAYLIGHT
DTSTART:20220419T090000
RDATE:20221030T020000
TZOFFSETFROM:+0100
TZOFFSETTO:+0200
TZNAME:Europe/Brussels CEST
END:DAYLIGHT
BEGIN:DAYLIGHT
DTSTART:20230326T030000
RDATE:20231029T020000
TZOFFSETFROM:+0100
TZOFFSETTO:+0200
TZNAME:Europe/Brussels CEST
END:DAYLIGHT
BEGIN:DAYLIGHT
DTSTART:20240331T030000
RDATE:20241027T020000
TZOFFSETFROM:+0100
TZOFFSETTO:+0200
TZNAME:Europe/Brussels CEST
END:DAYLIGHT
BEGIN:DAYLIGHT
DTSTART:20250330T030000
RDATE:20251026T020000
TZOFFSETFROM:+0100
TZOFFSETTO:+0200
TZNAME:Europe/Brussels CEST
END:DAYLIGHT
BEGIN:DAYLIGHT
DTSTART:20260329T030000
RDATE:20261025T020000
TZOFFSETFROM:+0100
TZOFFSETTO:+0200
TZNAME:Europe/Brussels CEST
END:DAYLIGHT
BEGIN:DAYLIGHT
DTSTART:20270328T030000
RDATE:20271031T020000
TZOFFSETFROM:+0100
TZOFFSETTO:+0200
TZNAME:Europe/Brussels CEST
END:DAYLIGHT
BEGIN:DAYLIGHT
DTSTART:20280326T030000
RDATE:20281029T020000
TZOFFSETFROM:+0100
TZOFFSETTO:+0200
TZNAME:Europe/Brussels CEST
END:DAYLIGHT
BEGIN:DAYLIGHT
DTSTART:20290325T030000
RDATE:20291028T020000
TZOFFSETFROM:+0100
TZOFFSETTO:+0200
TZNAME:Europe/Brussels CEST
END:DAYLIGHT
BEGIN:DAYLIGHT
DTSTART:20300331T030000
RDATE:20301027T020000
TZOFFSETFROM:+0100
TZOFFSETTO:+0200
TZNAME:Europe/Brussels CEST
END:DAYLIGHT
BEGIN:DAYLIGHT
DTSTART:20310330T030000
RDATE:20311026T020000
TZOFFSETFROM:+0100
TZOFFSETTO:+0200
TZNAME:Europe/Brussels CEST
END:DAYLIGHT
BEGIN:DAYLIGHT
DTSTART:20320328T030000
RDATE:20321031T020000
TZOFFSETFROM:+0100
TZOFFSETTO:+0200
TZNAME:Europe/Brussels CEST
END:DAYLIGHT
BEGIN:DAYLIGHT
DTSTART:20330327T030000
RDATE:20331030T020000
TZOFFSETFROM:+0100
TZOFFSETTO:+0200
TZNAME:Europe/Brussels CEST
END:DAYLIGHT
BEGIN:DAYLIGHT
DTSTART:20340326T030000
RDATE:20341029T020000
TZOFFSETFROM:+0100
TZOFFSETTO:+0200
TZNAME:Europe/Brussels CEST
END:DAYLIGHT
BEGIN:DAYLIGHT
DTSTART:20350325T030000
RDATE:20351028T020000
TZOFFSETFROM:+0100
TZOFFSETTO:+0200
TZNAME:Europe/Brussels CEST
END:DAYLIGHT
BEGIN:DAYLIGHT
DTSTART:20360330T030000
RDATE:20361026T020000
TZOFFSETFROM:+0100
TZOFFSETTO:+0200
TZNAME:Europe/Brussels CEST
END:DAYLIGHT
BEGIN:DAYLIGHT
DTSTART:20370329T030000
RDATE:20371025T020000
TZOFFSETFROM:+0100
TZOFFSETTO:+0200
TZNAME:Europe/Brussels CEST
END:DAYLIGHT
END:VTIMEZONE
BEGIN:VEVENT
UID:5fa67ff0c104c317eb8f74b67bb5a18d
CATEGORIES:Formations
CREATED:20230207T113900
SUMMARY:Découverte des pédagogies nouvelles J2
LOCATION:Peuple et Culture – rue du Beau Mur 45 à 4030 Liège
DESCRIPTION:Les 19, 20 et 21 avril 2023 de 9h à 17h à l’Espace Cacérès de Peuple et Cul
 ture – rue du Beau Mur 45 à 4030 Liège.\n«L’émancipation subordonne l’acqui
 sition des savoirs aux choix des citoyens à partir de leurs expériences et 
 besoins tandis que l’instruction vise à donner au peuple ce qu’il doit savo
 ir pour des raisons d’utilité et de stabilité sociales» - Jean-Pierre Nosse
 nt\nToutes celles et ceux qui souhaitent inscrire leurs activités dans ces 
 visées émancipantes doivent être capables de traduire l’émancipation dans l
 eurs pratiques en se distanciant notamment de la posture traditionnelle « d
 u maître qui enseigne et de l’élève qui apprend ». Pour y parvenir, les réf
 érences pédagogiques ne manquent pas : Oury, Freinet, Neill, Freire,Pestalo
 zzi ... pour n’en citer que quelques-uns.\nObjectifs :\n\n - • Découvrir le
 s principaux pédagogues de l’Education Nouvelle, analyser et porter un rega
 rd critique les éléments significatifs de leur approche ainsi que les valeu
 rs qui les sous-tendent ;\n - • Réfléchir ses pratiques d’animation et de f
 ormation à la lumière des apports de l’Education Nouvelle.Méthodologie :\nL
 es pratiques méthodologiques de Peuple &amp; Culture s’inscrivent en ruptur
 e avec l’enseignement traditionnel : les pédagogies sont ascendantes, elles
  s’appuient sur des méthodes actives qui placent les participant·es au cœur
  du processus d’apprentissage en les mettant en situation d’agir.\n« On oub
 lie vite ce qu’on a appris mais on n’oublie guère ce qu’on a trouvé »- Maur
 ice Debesse\nPublic :\nCette formation s’adresse à des animateur.trices, fo
 rmateur.trices, travailleur.euses du secteur non marchand public/privé.\nPr
 ix :\nLa participation s’élève à 150€ par participant(e) (remboursés par le
  Fonds 4S pour les travailleurs/travailleuses des commissions paritaires 32
 9.02 et 329.03)\n \n \nInscription (http://www.peuple-et-culture-wb.be/inde
 x.php?option=com_rsform&amp;view=rsform&amp;formId=1&amp;Itemid=158)\n
X-ALT-DESC;FMTTYPE=text/html:<p><strong>Les 19, 20 et 21 avril 2023 de 9h à 17h à l’Espace Cacérès de Pe
 uple et Culture – rue du Beau Mur 45 à 4030 Liège.</strong></p><p>«L’émanci
 pation subordonne l’acquisition des savoirs aux choix des citoyens à partir
  de leurs expériences et besoins tandis que l’instruction vise à donner au 
 peuple ce qu’il doit savoir pour des raisons d’utilité et de stabilité soci
 ales» - Jean-Pierre Nossent</p><p>Toutes celles et ceux qui souhaitent insc
 rire leurs activités dans ces visées émancipantes doivent être capables de 
 traduire l’émancipation dans leurs pratiques en se distanciant notamment de
  la posture traditionnelle « du maître qui enseigne et de l’élève qui appre
 nd ». Pour y parvenir, les références pédagogiques ne manquent pas : Oury, 
 Freinet, Neill, Freire,Pestalozzi ... pour n’en citer que quelques-uns.</p>
 <p><strong>Objectifs</strong><strong>&nbsp;:</strong></p><ul><li>• Découvri
 r les principaux pédagogues de l’Education Nouvelle, analyser et porter un 
 regard critique les éléments significatifs de leur approche ainsi que les v
 aleurs qui les sous-tendent ;</li><li>• Réfléchir ses pratiques d’animation
  et de formation à la lumière des apports de l’Education Nouvelle.</li></ul
 ><p><strong>Méthodologie</strong>&nbsp;:</p><p>Les pratiques méthodologique
 s de Peuple &amp; Culture s’inscrivent en rupture avec l’enseignement tradi
 tionnel : les pédagogies sont ascendantes, elles s’appuient sur des méthode
 s actives qui placent les participant·es au cœur du processus d’apprentissa
 ge en les mettant en situation d’agir.</p><p>« On oublie vite ce qu’on a ap
 pris mais on n’oublie guère ce qu’on a trouvé »- Maurice Debesse</p><p><str
 ong>Public</strong> :</p><p>Cette formation s’adresse à des animateur.trice
 s, formateur.trices, travailleur.euses du secteur non marchand public/privé
 .</p><p><strong>Prix </strong>:</p><p>La participation s’élève à 150€ par p
 articipant(e) (remboursés par le Fonds 4S pour les travailleurs/travailleus
 es des commissions paritaires 329.02 et 329.03)</p><p>&nbsp;</p><p>&nbsp;</
 p><p><a href="http://www.peuple-et-culture-wb.be/index.php?option=com_rsfor
 m&amp;view=rsform&amp;formId=1&amp;Itemid=158" target="_self">Inscription</
 a></p>
CONTACT:Pierre Arnoldy : 04/3428333 -  Cette adresse e-mail est protégée contre les robots spammeurs. Vous devez activer le JavaScript pour la visualiser.
DTSTAMP:20260420T025412
DTSTART;TZID=Europe/Brussels:20230420T090000
DTEND;TZID=Europe/Brussels:20230420T170000
SEQUENCE:0
TRANSP:OPAQUE
END:VEVENT
END:VCALENDAR