BEGIN:VCALENDAR
VERSION:2.0
PRODID:-//jEvents 2.0 for Joomla//EN
CALSCALE:GREGORIAN
METHOD:PUBLISH
BEGIN:VTIMEZONE
TZID:Europe/Brussels
BEGIN:STANDARD
DTSTART:20221030T020000
RDATE:20230326T030000
TZOFFSETFROM:+0200
TZOFFSETTO:+0100
TZNAME:Europe/Brussels CET
END:STANDARD
BEGIN:STANDARD
DTSTART:20231029T020000
RDATE:20240331T030000
TZOFFSETFROM:+0200
TZOFFSETTO:+0100
TZNAME:Europe/Brussels CET
END:STANDARD
BEGIN:STANDARD
DTSTART:20241027T020000
RDATE:20250330T030000
TZOFFSETFROM:+0200
TZOFFSETTO:+0100
TZNAME:Europe/Brussels CET
END:STANDARD
BEGIN:STANDARD
DTSTART:20251026T020000
RDATE:20260329T030000
TZOFFSETFROM:+0200
TZOFFSETTO:+0100
TZNAME:Europe/Brussels CET
END:STANDARD
BEGIN:STANDARD
DTSTART:20261025T020000
RDATE:20270328T030000
TZOFFSETFROM:+0200
TZOFFSETTO:+0100
TZNAME:Europe/Brussels CET
END:STANDARD
BEGIN:STANDARD
DTSTART:20271031T020000
RDATE:20280326T030000
TZOFFSETFROM:+0200
TZOFFSETTO:+0100
TZNAME:Europe/Brussels CET
END:STANDARD
BEGIN:STANDARD
DTSTART:20281029T020000
RDATE:20290325T030000
TZOFFSETFROM:+0200
TZOFFSETTO:+0100
TZNAME:Europe/Brussels CET
END:STANDARD
BEGIN:STANDARD
DTSTART:20291028T020000
RDATE:20300331T030000
TZOFFSETFROM:+0200
TZOFFSETTO:+0100
TZNAME:Europe/Brussels CET
END:STANDARD
BEGIN:STANDARD
DTSTART:20301027T020000
RDATE:20310330T030000
TZOFFSETFROM:+0200
TZOFFSETTO:+0100
TZNAME:Europe/Brussels CET
END:STANDARD
BEGIN:STANDARD
DTSTART:20311026T020000
RDATE:20320328T030000
TZOFFSETFROM:+0200
TZOFFSETTO:+0100
TZNAME:Europe/Brussels CET
END:STANDARD
BEGIN:STANDARD
DTSTART:20321031T020000
RDATE:20330327T030000
TZOFFSETFROM:+0200
TZOFFSETTO:+0100
TZNAME:Europe/Brussels CET
END:STANDARD
BEGIN:STANDARD
DTSTART:20331030T020000
RDATE:20340326T030000
TZOFFSETFROM:+0200
TZOFFSETTO:+0100
TZNAME:Europe/Brussels CET
END:STANDARD
BEGIN:STANDARD
DTSTART:20341029T020000
RDATE:20350325T030000
TZOFFSETFROM:+0200
TZOFFSETTO:+0100
TZNAME:Europe/Brussels CET
END:STANDARD
BEGIN:STANDARD
DTSTART:20351028T020000
RDATE:20360330T030000
TZOFFSETFROM:+0200
TZOFFSETTO:+0100
TZNAME:Europe/Brussels CET
END:STANDARD
BEGIN:STANDARD
DTSTART:20361026T020000
RDATE:20370329T030000
TZOFFSETFROM:+0200
TZOFFSETTO:+0100
TZNAME:Europe/Brussels CET
END:STANDARD
BEGIN:STANDARD
DTSTART:20371025T020000
TZOFFSETFROM:+0200
TZOFFSETTO:+0100
TZNAME:Europe/Brussels CET
END:STANDARD
BEGIN:DAYLIGHT
DTSTART:20220516T090000
RDATE:20221030T020000
TZOFFSETFROM:+0100
TZOFFSETTO:+0200
TZNAME:Europe/Brussels CEST
END:DAYLIGHT
BEGIN:DAYLIGHT
DTSTART:20230326T030000
RDATE:20231029T020000
TZOFFSETFROM:+0100
TZOFFSETTO:+0200
TZNAME:Europe/Brussels CEST
END:DAYLIGHT
BEGIN:DAYLIGHT
DTSTART:20240331T030000
RDATE:20241027T020000
TZOFFSETFROM:+0100
TZOFFSETTO:+0200
TZNAME:Europe/Brussels CEST
END:DAYLIGHT
BEGIN:DAYLIGHT
DTSTART:20250330T030000
RDATE:20251026T020000
TZOFFSETFROM:+0100
TZOFFSETTO:+0200
TZNAME:Europe/Brussels CEST
END:DAYLIGHT
BEGIN:DAYLIGHT
DTSTART:20260329T030000
RDATE:20261025T020000
TZOFFSETFROM:+0100
TZOFFSETTO:+0200
TZNAME:Europe/Brussels CEST
END:DAYLIGHT
BEGIN:DAYLIGHT
DTSTART:20270328T030000
RDATE:20271031T020000
TZOFFSETFROM:+0100
TZOFFSETTO:+0200
TZNAME:Europe/Brussels CEST
END:DAYLIGHT
BEGIN:DAYLIGHT
DTSTART:20280326T030000
RDATE:20281029T020000
TZOFFSETFROM:+0100
TZOFFSETTO:+0200
TZNAME:Europe/Brussels CEST
END:DAYLIGHT
BEGIN:DAYLIGHT
DTSTART:20290325T030000
RDATE:20291028T020000
TZOFFSETFROM:+0100
TZOFFSETTO:+0200
TZNAME:Europe/Brussels CEST
END:DAYLIGHT
BEGIN:DAYLIGHT
DTSTART:20300331T030000
RDATE:20301027T020000
TZOFFSETFROM:+0100
TZOFFSETTO:+0200
TZNAME:Europe/Brussels CEST
END:DAYLIGHT
BEGIN:DAYLIGHT
DTSTART:20310330T030000
RDATE:20311026T020000
TZOFFSETFROM:+0100
TZOFFSETTO:+0200
TZNAME:Europe/Brussels CEST
END:DAYLIGHT
BEGIN:DAYLIGHT
DTSTART:20320328T030000
RDATE:20321031T020000
TZOFFSETFROM:+0100
TZOFFSETTO:+0200
TZNAME:Europe/Brussels CEST
END:DAYLIGHT
BEGIN:DAYLIGHT
DTSTART:20330327T030000
RDATE:20331030T020000
TZOFFSETFROM:+0100
TZOFFSETTO:+0200
TZNAME:Europe/Brussels CEST
END:DAYLIGHT
BEGIN:DAYLIGHT
DTSTART:20340326T030000
RDATE:20341029T020000
TZOFFSETFROM:+0100
TZOFFSETTO:+0200
TZNAME:Europe/Brussels CEST
END:DAYLIGHT
BEGIN:DAYLIGHT
DTSTART:20350325T030000
RDATE:20351028T020000
TZOFFSETFROM:+0100
TZOFFSETTO:+0200
TZNAME:Europe/Brussels CEST
END:DAYLIGHT
BEGIN:DAYLIGHT
DTSTART:20360330T030000
RDATE:20361026T020000
TZOFFSETFROM:+0100
TZOFFSETTO:+0200
TZNAME:Europe/Brussels CEST
END:DAYLIGHT
BEGIN:DAYLIGHT
DTSTART:20370329T030000
RDATE:20371025T020000
TZOFFSETFROM:+0100
TZOFFSETTO:+0200
TZNAME:Europe/Brussels CEST
END:DAYLIGHT
END:VTIMEZONE
BEGIN:VEVENT
UID:7c9628baa56d1122866ca7b07a2eb60a
CATEGORIES:Formations
CREATED:20230207T114444
SUMMARY:Rendre compte de ses pratiques d'Éducation permanente dans son rapport annuel d'activité J3
LOCATION:Peuple et Culture\, rue du Beau Mur 45\, 4030 Liège (Grivegnée)
DESCRIPTION:Les 15, 16, et 17 mai 2023 de 9h00 à 17h00 à l’Espace Cacérès de Peuple et 
 Culture – rue du Beau Mur 45 à 4030 Liège.\nObjectifs \nLa formation vise à
  accompagner les associations d’Education permanente des adultes dans l’écr
 iture de leur rapport annuel d’activités dans le respect des missions du dé
 cret de la FWB du 17 juillet 2003 et des critères quantitatifs et qualitati
 fs de ses arrêtés d’application.\nAu départ des thématiques, des projets et
  des activités développés par les participants, la formation propose en 4 j
 ournées de :\n• Se réapproprier collectivement le cadre légal (exposé des m
 otifs, décret du 17 juillet 2003 et arrêtés d’application) ;\n• Travailler 
 à la définition d’objectifs, de critères et d’indicateurs d’évaluation ;\n•
  Bâtir des processus porteurs des visées politiques de l’éducation permanen
 te et d’en faire le récit.\nMéthodologie \nLa formation alterne entre des c
 ourts exposés théoriques, des temps d’échanges et des exercices pratiques.\
 nPublic Travailleurs salariés ou bénévoles ainsi que responsables d’ASBL re
 connues et subventionnées dans le cadre du décret Éducation permanente des 
 adultes qui rencontrent des difficultés à inscrire leurs pratiques dans les
  visées politiques ou qui éprouvent des difficultés à écrire leur rapport a
 nnuel d’activités.\nPrix\n150€\n \nInscription (http://www.peuple-et-cultur
 e-wb.be/index.php?option=com_rsform&amp;view=rsform&amp;formId=1&amp;Itemid
 =158)\n
X-ALT-DESC;FMTTYPE=text/html:<p><strong>Les 15, 16, et 17 mai 2023 de 9h00 à 17h00 <strong>à l’Espace Ca
 cérès de Peuple et Culture – rue du Beau Mur 45 à 4030 Liège.</strong></str
 ong></p><p><strong>Objectifs </strong></p><p>La formation vise à accompagne
 r les associations d’Education permanente des adultes dans l’écriture de le
 ur rapport annuel d’activités dans le respect des missions du décret de la 
 FWB du 17 juillet 2003 et des critères quantitatifs et qualitatifs de ses a
 rrêtés d’application.</p><p>Au départ des thématiques, des projets et des a
 ctivités développés par les participants, la formation propose en 4 journée
 s de :</p><p>• Se réapproprier collectivement le cadre légal (exposé des mo
 tifs, décret du 17 juillet 2003 et arrêtés d’application) ;</p><p>• Travail
 ler à la définition d’objectifs, de critères et d’indicateurs d’évaluation 
 ;</p><p>• Bâtir des processus porteurs des visées politiques de l’éducation
  permanente et d’en faire le récit.</p><p><strong>Méthodologie </strong></p
 ><p>La formation alterne entre des courts exposés théoriques, des temps d’é
 changes et des exercices pratiques.</p><p>Public Travailleurs salariés ou b
 énévoles ainsi que responsables d’ASBL reconnues et subventionnées dans le 
 cadre du décret Éducation permanente des adultes qui rencontrent des diffic
 ultés à inscrire leurs pratiques dans les visées politiques ou qui éprouven
 t des difficultés à écrire leur rapport annuel d’activités.</p><p><strong>P
 rix</strong></p><p>150€</p><p>&nbsp;</p><p><a href="http://www.peuple-et-cu
 lture-wb.be/index.php?option=com_rsform&amp;view=rsform&amp;formId=1&amp;It
 emid=158" target="_self">Inscription</a></p>
CONTACT:Pierre Arnoldy : 04/3428333 -  Cette adresse e-mail est protégée contre les robots spammeurs. Vous devez activer le JavaScript pour la visualiser.
DTSTAMP:20260420T014015
DTSTART;TZID=Europe/Brussels:20230517T090000
DTEND;TZID=Europe/Brussels:20230517T170000
SEQUENCE:0
TRANSP:OPAQUE
END:VEVENT
END:VCALENDAR