BEGIN:VCALENDAR
VERSION:2.0
PRODID:-//jEvents 2.0 for Joomla//EN
CALSCALE:GREGORIAN
METHOD:PUBLISH
BEGIN:VTIMEZONE
TZID:Europe/Brussels
BEGIN:STANDARD
DTSTART:20221030T020000
RDATE:20230326T030000
TZOFFSETFROM:+0200
TZOFFSETTO:+0100
TZNAME:Europe/Brussels CET
END:STANDARD
BEGIN:STANDARD
DTSTART:20231029T020000
RDATE:20240331T030000
TZOFFSETFROM:+0200
TZOFFSETTO:+0100
TZNAME:Europe/Brussels CET
END:STANDARD
BEGIN:STANDARD
DTSTART:20241027T020000
RDATE:20250330T030000
TZOFFSETFROM:+0200
TZOFFSETTO:+0100
TZNAME:Europe/Brussels CET
END:STANDARD
BEGIN:STANDARD
DTSTART:20251026T020000
RDATE:20260329T030000
TZOFFSETFROM:+0200
TZOFFSETTO:+0100
TZNAME:Europe/Brussels CET
END:STANDARD
BEGIN:STANDARD
DTSTART:20261025T020000
RDATE:20270328T030000
TZOFFSETFROM:+0200
TZOFFSETTO:+0100
TZNAME:Europe/Brussels CET
END:STANDARD
BEGIN:STANDARD
DTSTART:20271031T020000
RDATE:20280326T030000
TZOFFSETFROM:+0200
TZOFFSETTO:+0100
TZNAME:Europe/Brussels CET
END:STANDARD
BEGIN:STANDARD
DTSTART:20281029T020000
RDATE:20290325T030000
TZOFFSETFROM:+0200
TZOFFSETTO:+0100
TZNAME:Europe/Brussels CET
END:STANDARD
BEGIN:STANDARD
DTSTART:20291028T020000
RDATE:20300331T030000
TZOFFSETFROM:+0200
TZOFFSETTO:+0100
TZNAME:Europe/Brussels CET
END:STANDARD
BEGIN:STANDARD
DTSTART:20301027T020000
RDATE:20310330T030000
TZOFFSETFROM:+0200
TZOFFSETTO:+0100
TZNAME:Europe/Brussels CET
END:STANDARD
BEGIN:STANDARD
DTSTART:20311026T020000
RDATE:20320328T030000
TZOFFSETFROM:+0200
TZOFFSETTO:+0100
TZNAME:Europe/Brussels CET
END:STANDARD
BEGIN:STANDARD
DTSTART:20321031T020000
RDATE:20330327T030000
TZOFFSETFROM:+0200
TZOFFSETTO:+0100
TZNAME:Europe/Brussels CET
END:STANDARD
BEGIN:STANDARD
DTSTART:20331030T020000
RDATE:20340326T030000
TZOFFSETFROM:+0200
TZOFFSETTO:+0100
TZNAME:Europe/Brussels CET
END:STANDARD
BEGIN:STANDARD
DTSTART:20341029T020000
RDATE:20350325T030000
TZOFFSETFROM:+0200
TZOFFSETTO:+0100
TZNAME:Europe/Brussels CET
END:STANDARD
BEGIN:STANDARD
DTSTART:20351028T020000
RDATE:20360330T030000
TZOFFSETFROM:+0200
TZOFFSETTO:+0100
TZNAME:Europe/Brussels CET
END:STANDARD
BEGIN:STANDARD
DTSTART:20361026T020000
RDATE:20370329T030000
TZOFFSETFROM:+0200
TZOFFSETTO:+0100
TZNAME:Europe/Brussels CET
END:STANDARD
BEGIN:STANDARD
DTSTART:20371025T020000
TZOFFSETFROM:+0200
TZOFFSETTO:+0100
TZNAME:Europe/Brussels CET
END:STANDARD
BEGIN:DAYLIGHT
DTSTART:20220521T090000
RDATE:20221030T020000
TZOFFSETFROM:+0100
TZOFFSETTO:+0200
TZNAME:Europe/Brussels CEST
END:DAYLIGHT
BEGIN:DAYLIGHT
DTSTART:20230326T030000
RDATE:20231029T020000
TZOFFSETFROM:+0100
TZOFFSETTO:+0200
TZNAME:Europe/Brussels CEST
END:DAYLIGHT
BEGIN:DAYLIGHT
DTSTART:20240331T030000
RDATE:20241027T020000
TZOFFSETFROM:+0100
TZOFFSETTO:+0200
TZNAME:Europe/Brussels CEST
END:DAYLIGHT
BEGIN:DAYLIGHT
DTSTART:20250330T030000
RDATE:20251026T020000
TZOFFSETFROM:+0100
TZOFFSETTO:+0200
TZNAME:Europe/Brussels CEST
END:DAYLIGHT
BEGIN:DAYLIGHT
DTSTART:20260329T030000
RDATE:20261025T020000
TZOFFSETFROM:+0100
TZOFFSETTO:+0200
TZNAME:Europe/Brussels CEST
END:DAYLIGHT
BEGIN:DAYLIGHT
DTSTART:20270328T030000
RDATE:20271031T020000
TZOFFSETFROM:+0100
TZOFFSETTO:+0200
TZNAME:Europe/Brussels CEST
END:DAYLIGHT
BEGIN:DAYLIGHT
DTSTART:20280326T030000
RDATE:20281029T020000
TZOFFSETFROM:+0100
TZOFFSETTO:+0200
TZNAME:Europe/Brussels CEST
END:DAYLIGHT
BEGIN:DAYLIGHT
DTSTART:20290325T030000
RDATE:20291028T020000
TZOFFSETFROM:+0100
TZOFFSETTO:+0200
TZNAME:Europe/Brussels CEST
END:DAYLIGHT
BEGIN:DAYLIGHT
DTSTART:20300331T030000
RDATE:20301027T020000
TZOFFSETFROM:+0100
TZOFFSETTO:+0200
TZNAME:Europe/Brussels CEST
END:DAYLIGHT
BEGIN:DAYLIGHT
DTSTART:20310330T030000
RDATE:20311026T020000
TZOFFSETFROM:+0100
TZOFFSETTO:+0200
TZNAME:Europe/Brussels CEST
END:DAYLIGHT
BEGIN:DAYLIGHT
DTSTART:20320328T030000
RDATE:20321031T020000
TZOFFSETFROM:+0100
TZOFFSETTO:+0200
TZNAME:Europe/Brussels CEST
END:DAYLIGHT
BEGIN:DAYLIGHT
DTSTART:20330327T030000
RDATE:20331030T020000
TZOFFSETFROM:+0100
TZOFFSETTO:+0200
TZNAME:Europe/Brussels CEST
END:DAYLIGHT
BEGIN:DAYLIGHT
DTSTART:20340326T030000
RDATE:20341029T020000
TZOFFSETFROM:+0100
TZOFFSETTO:+0200
TZNAME:Europe/Brussels CEST
END:DAYLIGHT
BEGIN:DAYLIGHT
DTSTART:20350325T030000
RDATE:20351028T020000
TZOFFSETFROM:+0100
TZOFFSETTO:+0200
TZNAME:Europe/Brussels CEST
END:DAYLIGHT
BEGIN:DAYLIGHT
DTSTART:20360330T030000
RDATE:20361026T020000
TZOFFSETFROM:+0100
TZOFFSETTO:+0200
TZNAME:Europe/Brussels CEST
END:DAYLIGHT
BEGIN:DAYLIGHT
DTSTART:20370329T030000
RDATE:20371025T020000
TZOFFSETFROM:+0100
TZOFFSETTO:+0200
TZNAME:Europe/Brussels CEST
END:DAYLIGHT
END:VTIMEZONE
BEGIN:VEVENT
UID:ff4eac0934f649a3bb2abe341a62ecc5
CATEGORIES:Formations
CREATED:20230207T114656
SUMMARY:Institution(s) vous avez dit institution(s) ? J1
LOCATION:Peuple et Culture\, rue du Beau Mur 45\, 4030 Liège (Grivegnée)
DESCRIPTION:Les 22, 23, 24, 30 et 31 mai 2023 de 9h à 17h à l’Espace Cacérès de Peuple 
 et Culture – rue du Beau Mur 45 à 4030 Liège.\nSouvent confondue avec l’org
 anisation, impalpable et pourtant influente, à la fois dynamique et résista
 nte au changement, extérieure à nous et incarnée, l’institution constitue u
 n symbole fort des changements paradoxaux qui animent la vie sociale et pol
 itique.\nPourtant, pour nous permettre d’assumer pleinement le caractère cr
 itique de l’analyse que nous portons sur la société, il nous appartient, en
  tant qu’acteur, actrice  du secteur associatif, d’identifier les instituti
 ons qui pourraient constituer autant d’obstacles à notre émancipation indiv
 iduelle et collective.  \n« Faire de l’analyse institutionnelle », c’est ap
 prendre à utiliser un certain nombre de clefs de décryptage pour aborder au
 ssi bien la vie de la Cité que les situations singulières de la vie profess
 ionnelle, les replacer dans leur contexte socio-historique et mettre en évi
 dence les valeurs, les enjeux et les rapports de pouvoir qui les traversent
 .\nObjectifs :\nPermettre aux participant.es :\n\n - D’expérimenter la déma
 rche d’analyse institutionnelle.\n - De se familiariser avec son cadre conc
 eptuel.\n - De pouvoir identifier les valeurs, les enjeux et les rapports d
 e pouvoir qui traversent les institutions dans le champ socio-politique.Mét
 hodologie :\nLa méthodologie mise en place s’appuie sur les situations amen
 ées par les participant.es. Ce savoir expérientiel peut être complété par d
 es apports théoriques ponctuels en vue de  les ressourcer et  de préciser l
 e sens de la démarche.\nPublic :\nCette formation s’adresse à des animateur
 .trices, formateur.trices, travailleur.euses du secteur non marchand public
 /privé.\nPrix :\nLa participation s’élève à 250€ par participant(e) (rembou
 rsés par le Fonds 4S pour les travailleurs/travailleuses des commissions pa
 ritaires 329.02 et 329.03)\n \nInscription (http://www.peuple-et-culture-wb
 .be/index.php?option=com_rsform&amp;view=rsform&amp;formId=1&amp;Itemid=158
 )\n
X-ALT-DESC;FMTTYPE=text/html:<p><strong>Les 22, 23, 24, 30 et 31 mai 2023 de 9h à 17h à l’Espace Cacérès
  de Peuple et Culture – rue du Beau Mur 45 à 4030 Liège.</strong></p><p>Sou
 vent confondue avec l’organisation, impalpable et pourtant influente, à la 
 fois dynamique et résistante au changement, extérieure à nous et incarnée, 
 l’institution constitue un symbole fort des changements paradoxaux qui anim
 ent la vie sociale et politique.</p><p>Pourtant, pour nous permettre d’assu
 mer pleinement le caractère critique de l’analyse que nous portons sur la s
 ociété, il nous appartient, en tant qu’acteur, actrice &nbsp;du secteur ass
 ociatif, d’identifier les institutions qui pourraient constituer autant d’o
 bstacles à notre émancipation individuelle et collective.&nbsp;&nbsp;</p><p
 >«&nbsp;Faire&nbsp;de l’analyse institutionnelle&nbsp;», c’est apprendre à 
 utiliser un certain nombre de clefs de décryptage pour aborder aussi bien l
 a vie de la Cité que les situations singulières de la vie professionnelle, 
 les replacer dans leur contexte socio-historique et mettre en évidence les 
 valeurs, les enjeux et les rapports de pouvoir qui les traversent.</p><p><s
 trong>Objectifs</strong>&nbsp;:</p><p>Permettre aux participant.es&nbsp;:</
 p><ul><li>D’expérimenter la démarche d’analyse institutionnelle.</li><li>De
  se familiariser avec son cadre conceptuel.</li><li>De pouvoir identifier l
 es valeurs, les enjeux et les rapports de pouvoir qui traversent les instit
 utions dans le champ socio-politique.</li></ul><p><strong>Méthodologie&nbsp
 ;</strong><strong>:</strong></p><p>La méthodologie mise en place s’appuie s
 ur les situations amenées par les participant.es. Ce savoir expérientiel pe
 ut être complété par des apports théoriques ponctuels en vue de&nbsp; les r
 essourcer et&nbsp; de préciser le sens de la démarche.</p><p><strong>Public
 &nbsp;:</strong></p><p>Cette formation s’adresse à des animateur.trices, fo
 rmateur.trices, travailleur.euses du secteur non marchand public/privé.</p>
 <p><strong>Prix</strong><strong>&nbsp;:</strong></p><p>La participation s’é
 lève à 250€ par participant(e) (remboursés par le Fonds 4S pour les travail
 leurs/travailleuses des commissions paritaires 329.02 et 329.03)</p><p>&nbs
 p;</p><p><a href="http://www.peuple-et-culture-wb.be/index.php?option=com_r
 sform&amp;view=rsform&amp;formId=1&amp;Itemid=158" target="_self">Inscripti
 on</a></p>
CONTACT:Pierre Arnoldy : 04/3428333 -  Cette adresse e-mail est protégée contre les robots spammeurs. Vous devez activer le JavaScript pour la visualiser.
DTSTAMP:20260420T014106
DTSTART;TZID=Europe/Brussels:20230522T090000
DTEND;TZID=Europe/Brussels:20230522T170000
SEQUENCE:0
TRANSP:OPAQUE
END:VEVENT
END:VCALENDAR