BEGIN:VCALENDAR
VERSION:2.0
PRODID:-//jEvents 2.0 for Joomla//EN
CALSCALE:GREGORIAN
METHOD:PUBLISH
BEGIN:VTIMEZONE
TZID:Europe/Brussels
BEGIN:STANDARD
DTSTART:20221030T020000
RDATE:20230326T030000
TZOFFSETFROM:+0200
TZOFFSETTO:+0100
TZNAME:Europe/Brussels CET
END:STANDARD
BEGIN:STANDARD
DTSTART:20231029T020000
RDATE:20240331T030000
TZOFFSETFROM:+0200
TZOFFSETTO:+0100
TZNAME:Europe/Brussels CET
END:STANDARD
BEGIN:STANDARD
DTSTART:20241027T020000
RDATE:20250330T030000
TZOFFSETFROM:+0200
TZOFFSETTO:+0100
TZNAME:Europe/Brussels CET
END:STANDARD
BEGIN:STANDARD
DTSTART:20251026T020000
RDATE:20260329T030000
TZOFFSETFROM:+0200
TZOFFSETTO:+0100
TZNAME:Europe/Brussels CET
END:STANDARD
BEGIN:STANDARD
DTSTART:20261025T020000
RDATE:20270328T030000
TZOFFSETFROM:+0200
TZOFFSETTO:+0100
TZNAME:Europe/Brussels CET
END:STANDARD
BEGIN:STANDARD
DTSTART:20271031T020000
RDATE:20280326T030000
TZOFFSETFROM:+0200
TZOFFSETTO:+0100
TZNAME:Europe/Brussels CET
END:STANDARD
BEGIN:STANDARD
DTSTART:20281029T020000
RDATE:20290325T030000
TZOFFSETFROM:+0200
TZOFFSETTO:+0100
TZNAME:Europe/Brussels CET
END:STANDARD
BEGIN:STANDARD
DTSTART:20291028T020000
RDATE:20300331T030000
TZOFFSETFROM:+0200
TZOFFSETTO:+0100
TZNAME:Europe/Brussels CET
END:STANDARD
BEGIN:STANDARD
DTSTART:20301027T020000
RDATE:20310330T030000
TZOFFSETFROM:+0200
TZOFFSETTO:+0100
TZNAME:Europe/Brussels CET
END:STANDARD
BEGIN:STANDARD
DTSTART:20311026T020000
RDATE:20320328T030000
TZOFFSETFROM:+0200
TZOFFSETTO:+0100
TZNAME:Europe/Brussels CET
END:STANDARD
BEGIN:STANDARD
DTSTART:20321031T020000
RDATE:20330327T030000
TZOFFSETFROM:+0200
TZOFFSETTO:+0100
TZNAME:Europe/Brussels CET
END:STANDARD
BEGIN:STANDARD
DTSTART:20331030T020000
RDATE:20340326T030000
TZOFFSETFROM:+0200
TZOFFSETTO:+0100
TZNAME:Europe/Brussels CET
END:STANDARD
BEGIN:STANDARD
DTSTART:20341029T020000
RDATE:20350325T030000
TZOFFSETFROM:+0200
TZOFFSETTO:+0100
TZNAME:Europe/Brussels CET
END:STANDARD
BEGIN:STANDARD
DTSTART:20351028T020000
RDATE:20360330T030000
TZOFFSETFROM:+0200
TZOFFSETTO:+0100
TZNAME:Europe/Brussels CET
END:STANDARD
BEGIN:STANDARD
DTSTART:20361026T020000
RDATE:20370329T030000
TZOFFSETFROM:+0200
TZOFFSETTO:+0100
TZNAME:Europe/Brussels CET
END:STANDARD
BEGIN:STANDARD
DTSTART:20371025T020000
TZOFFSETFROM:+0200
TZOFFSETTO:+0100
TZNAME:Europe/Brussels CET
END:STANDARD
BEGIN:DAYLIGHT
DTSTART:20220604T090000
RDATE:20221030T020000
TZOFFSETFROM:+0100
TZOFFSETTO:+0200
TZNAME:Europe/Brussels CEST
END:DAYLIGHT
BEGIN:DAYLIGHT
DTSTART:20230326T030000
RDATE:20231029T020000
TZOFFSETFROM:+0100
TZOFFSETTO:+0200
TZNAME:Europe/Brussels CEST
END:DAYLIGHT
BEGIN:DAYLIGHT
DTSTART:20240331T030000
RDATE:20241027T020000
TZOFFSETFROM:+0100
TZOFFSETTO:+0200
TZNAME:Europe/Brussels CEST
END:DAYLIGHT
BEGIN:DAYLIGHT
DTSTART:20250330T030000
RDATE:20251026T020000
TZOFFSETFROM:+0100
TZOFFSETTO:+0200
TZNAME:Europe/Brussels CEST
END:DAYLIGHT
BEGIN:DAYLIGHT
DTSTART:20260329T030000
RDATE:20261025T020000
TZOFFSETFROM:+0100
TZOFFSETTO:+0200
TZNAME:Europe/Brussels CEST
END:DAYLIGHT
BEGIN:DAYLIGHT
DTSTART:20270328T030000
RDATE:20271031T020000
TZOFFSETFROM:+0100
TZOFFSETTO:+0200
TZNAME:Europe/Brussels CEST
END:DAYLIGHT
BEGIN:DAYLIGHT
DTSTART:20280326T030000
RDATE:20281029T020000
TZOFFSETFROM:+0100
TZOFFSETTO:+0200
TZNAME:Europe/Brussels CEST
END:DAYLIGHT
BEGIN:DAYLIGHT
DTSTART:20290325T030000
RDATE:20291028T020000
TZOFFSETFROM:+0100
TZOFFSETTO:+0200
TZNAME:Europe/Brussels CEST
END:DAYLIGHT
BEGIN:DAYLIGHT
DTSTART:20300331T030000
RDATE:20301027T020000
TZOFFSETFROM:+0100
TZOFFSETTO:+0200
TZNAME:Europe/Brussels CEST
END:DAYLIGHT
BEGIN:DAYLIGHT
DTSTART:20310330T030000
RDATE:20311026T020000
TZOFFSETFROM:+0100
TZOFFSETTO:+0200
TZNAME:Europe/Brussels CEST
END:DAYLIGHT
BEGIN:DAYLIGHT
DTSTART:20320328T030000
RDATE:20321031T020000
TZOFFSETFROM:+0100
TZOFFSETTO:+0200
TZNAME:Europe/Brussels CEST
END:DAYLIGHT
BEGIN:DAYLIGHT
DTSTART:20330327T030000
RDATE:20331030T020000
TZOFFSETFROM:+0100
TZOFFSETTO:+0200
TZNAME:Europe/Brussels CEST
END:DAYLIGHT
BEGIN:DAYLIGHT
DTSTART:20340326T030000
RDATE:20341029T020000
TZOFFSETFROM:+0100
TZOFFSETTO:+0200
TZNAME:Europe/Brussels CEST
END:DAYLIGHT
BEGIN:DAYLIGHT
DTSTART:20350325T030000
RDATE:20351028T020000
TZOFFSETFROM:+0100
TZOFFSETTO:+0200
TZNAME:Europe/Brussels CEST
END:DAYLIGHT
BEGIN:DAYLIGHT
DTSTART:20360330T030000
RDATE:20361026T020000
TZOFFSETFROM:+0100
TZOFFSETTO:+0200
TZNAME:Europe/Brussels CEST
END:DAYLIGHT
BEGIN:DAYLIGHT
DTSTART:20370329T030000
RDATE:20371025T020000
TZOFFSETFROM:+0100
TZOFFSETTO:+0200
TZNAME:Europe/Brussels CEST
END:DAYLIGHT
END:VTIMEZONE
BEGIN:VEVENT
UID:59c4b4366e6370612aa8f74b90d2fd89
CATEGORIES:Formations
CREATED:20230207T121503
SUMMARY:Tout ce que vous avez toujours voulu savoir à propos du groupe... sans jamais oser le demander J1 
LOCATION:Peuple et Culture\, rue du Beau Mur 45\, 4030 Liège (Grivegnée)
DESCRIPTION:5, 6 et 7 juin 2022  de 9h à 17h à l’Espace Cacérès de Peuple et Culture – 
 rue du Beau Mur 45 à 4030 Liège.\nAvant que la crise sanitaire nous oblige 
 à reconsidérer l’ensemble de nos rapports sociaux, nous avions tendance à c
 roire que les activités en groupe qui accompagnaient aussi bien notre quoti
 dien familial que nos activités de loisir, nos engagements politiques ou en
 core notre vie professionnelle allaient de soi tout en conservant leur part
  de mystère ou de difficulté...\nMais dans quelle mesure cette apparente fa
 miliarité ne nous empêche-t-elle pas, en tant qu'acteur.trice du champ cult
 urel qui travaillons au quotidien avec des groupes, de prendre la mesure de
  l'importance de se qui se joue dans cet espace de socialisation, profondém
 ent vivant, où s'expérimentent aussi le changement social et les conditions
  d'existence de la démocratie ?\nObjectifs :\nC’est à cette exploration de 
 la vie groupale que nous invitons les participant.es en leur permettant :\n
 \n - D’envisager la réalité groupale dans toute son épaisseur en prenant la
  mesure des phénomènes particuliers à l’œuvre en termes de normes, de commu
 nication, d’influence, de rôle,...\n - D’intégrer la dimension groupale dan
 s la mise en œuvre des activités d’animation et de formation\n - De s’exerc
 er à l’observation dans un groupe.Méthodologie :\nExpérimentation d’un cert
 ain nombre d’exercices, de mises en situation collectives, d’outils pédagog
 iques qui permettent de mettre en lumière et d’analyser les phénomènes grou
 paux.\nPublic :\nAnimateur.trices, formateur.trices et acteur.trices du sec
 teur associatif et non marchand public/privé.\nPrix :\nLa participation s’é
 lève à 150€ par participant(e) (remboursés par le Fonds 4S pour les travail
 leurs/travailleuses des commissions paritaires 329.02 et 329.03)\n \nInscri
 ption (http://www.peuple-et-culture-wb.be/index.php?option=com_rsform&amp;v
 iew=rsform&amp;formId=1&amp;Itemid=158)\n
X-ALT-DESC;FMTTYPE=text/html:<p><strong>5, 6 et 7 juin 2022&nbsp; de 9h à 17h à l’Espace Cacérès de Peup
 le et Culture – rue du Beau Mur 45 à 4030 Liège.</strong></p><p>Avant que l
 a crise sanitaire nous oblige à reconsidérer l’ensemble de nos rapports soc
 iaux, nous avions tendance à croire que les activités en groupe qui accompa
 gnaient aussi bien notre quotidien familial que nos activités de loisir, no
 s engagements politiques ou encore notre vie professionnelle allaient de so
 i tout en conservant leur part de mystère ou de difficulté...</p><p>Mais da
 ns quelle mesure cette apparente familiarité ne nous empêche-t-elle pas, en
  tant qu'acteur.trice du champ culturel qui travaillons au quotidien avec d
 es groupes, de prendre la mesure de l'importance de se qui se joue dans cet
  espace de socialisation, profondément vivant, où s'expérimentent aussi le 
 changement social et les conditions d'existence de la démocratie ?</p><p><s
 trong>Objectifs&nbsp;</strong>:</p><p>C’est à cette exploration de la vie g
 roupale que nous invitons les participant.es en leur permettant&nbsp;:</p><
 ul><li>D’envisager la réalité groupale dans toute son épaisseur en prenant 
 la mesure des phénomènes particuliers à l’œuvre en termes de normes, de com
 munication, d’influence, de rôle,...</li><li>D’intégrer la dimension groupa
 le dans la mise en œuvre des activités d’animation et de formation</li><li>
 De s’exercer à l’observation dans un groupe.</li></ul><p><strong>Méthodolog
 ie</strong>&nbsp;:</p><p>Expérimentation d’un certain nombre d’exercices, d
 e mises en situation collectives, d’outils pédagogiques qui permettent de m
 ettre en lumière et d’analyser les phénomènes groupaux.</p><p><strong>Publi
 c</strong>&nbsp;:</p><p>Animateur.trices, formateur.trices et acteur.trices
  du secteur associatif et non marchand public/privé.</p><p><strong>Prix</st
 rong>&nbsp;:</p><p>La participation s’élève à 150€ par participant(e) (remb
 oursés par le Fonds 4S pour les travailleurs/travailleuses des commissions 
 paritaires 329.02 et 329.03)</p><p>&nbsp;</p><p><a href="http://www.peuple-
 et-culture-wb.be/index.php?option=com_rsform&amp;view=rsform&amp;formId=1&a
 mp;Itemid=158" target="_self">Inscription</a></p>
CONTACT:Pierre Arnoldy : 04/3428333 -  Cette adresse e-mail est protégée contre les robots spammeurs. Vous devez activer le JavaScript pour la visualiser.
DTSTAMP:20260420T003421
DTSTART;TZID=Europe/Brussels:20230605T090000
DTEND;TZID=Europe/Brussels:20230605T170000
SEQUENCE:0
TRANSP:OPAQUE
END:VEVENT
END:VCALENDAR