BEGIN:VCALENDAR
VERSION:2.0
PRODID:-//jEvents 2.0 for Joomla//EN
CALSCALE:GREGORIAN
METHOD:PUBLISH
BEGIN:VTIMEZONE
TZID:Europe/Brussels
BEGIN:STANDARD
DTSTART:20221030T020000
RDATE:20230326T030000
TZOFFSETFROM:+0200
TZOFFSETTO:+0100
TZNAME:Europe/Brussels CET
END:STANDARD
BEGIN:STANDARD
DTSTART:20231029T020000
RDATE:20240331T030000
TZOFFSETFROM:+0200
TZOFFSETTO:+0100
TZNAME:Europe/Brussels CET
END:STANDARD
BEGIN:STANDARD
DTSTART:20241027T020000
RDATE:20250330T030000
TZOFFSETFROM:+0200
TZOFFSETTO:+0100
TZNAME:Europe/Brussels CET
END:STANDARD
BEGIN:STANDARD
DTSTART:20251026T020000
RDATE:20260329T030000
TZOFFSETFROM:+0200
TZOFFSETTO:+0100
TZNAME:Europe/Brussels CET
END:STANDARD
BEGIN:STANDARD
DTSTART:20261025T020000
RDATE:20270328T030000
TZOFFSETFROM:+0200
TZOFFSETTO:+0100
TZNAME:Europe/Brussels CET
END:STANDARD
BEGIN:STANDARD
DTSTART:20271031T020000
RDATE:20280326T030000
TZOFFSETFROM:+0200
TZOFFSETTO:+0100
TZNAME:Europe/Brussels CET
END:STANDARD
BEGIN:STANDARD
DTSTART:20281029T020000
RDATE:20290325T030000
TZOFFSETFROM:+0200
TZOFFSETTO:+0100
TZNAME:Europe/Brussels CET
END:STANDARD
BEGIN:STANDARD
DTSTART:20291028T020000
RDATE:20300331T030000
TZOFFSETFROM:+0200
TZOFFSETTO:+0100
TZNAME:Europe/Brussels CET
END:STANDARD
BEGIN:STANDARD
DTSTART:20301027T020000
RDATE:20310330T030000
TZOFFSETFROM:+0200
TZOFFSETTO:+0100
TZNAME:Europe/Brussels CET
END:STANDARD
BEGIN:STANDARD
DTSTART:20311026T020000
RDATE:20320328T030000
TZOFFSETFROM:+0200
TZOFFSETTO:+0100
TZNAME:Europe/Brussels CET
END:STANDARD
BEGIN:STANDARD
DTSTART:20321031T020000
RDATE:20330327T030000
TZOFFSETFROM:+0200
TZOFFSETTO:+0100
TZNAME:Europe/Brussels CET
END:STANDARD
BEGIN:STANDARD
DTSTART:20331030T020000
RDATE:20340326T030000
TZOFFSETFROM:+0200
TZOFFSETTO:+0100
TZNAME:Europe/Brussels CET
END:STANDARD
BEGIN:STANDARD
DTSTART:20341029T020000
RDATE:20350325T030000
TZOFFSETFROM:+0200
TZOFFSETTO:+0100
TZNAME:Europe/Brussels CET
END:STANDARD
BEGIN:STANDARD
DTSTART:20351028T020000
RDATE:20360330T030000
TZOFFSETFROM:+0200
TZOFFSETTO:+0100
TZNAME:Europe/Brussels CET
END:STANDARD
BEGIN:STANDARD
DTSTART:20361026T020000
RDATE:20370329T030000
TZOFFSETFROM:+0200
TZOFFSETTO:+0100
TZNAME:Europe/Brussels CET
END:STANDARD
BEGIN:STANDARD
DTSTART:20371025T020000
TZOFFSETFROM:+0200
TZOFFSETTO:+0100
TZNAME:Europe/Brussels CET
END:STANDARD
BEGIN:DAYLIGHT
DTSTART:20220615T093000
RDATE:20221030T020000
TZOFFSETFROM:+0100
TZOFFSETTO:+0200
TZNAME:Europe/Brussels CEST
END:DAYLIGHT
BEGIN:DAYLIGHT
DTSTART:20230326T030000
RDATE:20231029T020000
TZOFFSETFROM:+0100
TZOFFSETTO:+0200
TZNAME:Europe/Brussels CEST
END:DAYLIGHT
BEGIN:DAYLIGHT
DTSTART:20240331T030000
RDATE:20241027T020000
TZOFFSETFROM:+0100
TZOFFSETTO:+0200
TZNAME:Europe/Brussels CEST
END:DAYLIGHT
BEGIN:DAYLIGHT
DTSTART:20250330T030000
RDATE:20251026T020000
TZOFFSETFROM:+0100
TZOFFSETTO:+0200
TZNAME:Europe/Brussels CEST
END:DAYLIGHT
BEGIN:DAYLIGHT
DTSTART:20260329T030000
RDATE:20261025T020000
TZOFFSETFROM:+0100
TZOFFSETTO:+0200
TZNAME:Europe/Brussels CEST
END:DAYLIGHT
BEGIN:DAYLIGHT
DTSTART:20270328T030000
RDATE:20271031T020000
TZOFFSETFROM:+0100
TZOFFSETTO:+0200
TZNAME:Europe/Brussels CEST
END:DAYLIGHT
BEGIN:DAYLIGHT
DTSTART:20280326T030000
RDATE:20281029T020000
TZOFFSETFROM:+0100
TZOFFSETTO:+0200
TZNAME:Europe/Brussels CEST
END:DAYLIGHT
BEGIN:DAYLIGHT
DTSTART:20290325T030000
RDATE:20291028T020000
TZOFFSETFROM:+0100
TZOFFSETTO:+0200
TZNAME:Europe/Brussels CEST
END:DAYLIGHT
BEGIN:DAYLIGHT
DTSTART:20300331T030000
RDATE:20301027T020000
TZOFFSETFROM:+0100
TZOFFSETTO:+0200
TZNAME:Europe/Brussels CEST
END:DAYLIGHT
BEGIN:DAYLIGHT
DTSTART:20310330T030000
RDATE:20311026T020000
TZOFFSETFROM:+0100
TZOFFSETTO:+0200
TZNAME:Europe/Brussels CEST
END:DAYLIGHT
BEGIN:DAYLIGHT
DTSTART:20320328T030000
RDATE:20321031T020000
TZOFFSETFROM:+0100
TZOFFSETTO:+0200
TZNAME:Europe/Brussels CEST
END:DAYLIGHT
BEGIN:DAYLIGHT
DTSTART:20330327T030000
RDATE:20331030T020000
TZOFFSETFROM:+0100
TZOFFSETTO:+0200
TZNAME:Europe/Brussels CEST
END:DAYLIGHT
BEGIN:DAYLIGHT
DTSTART:20340326T030000
RDATE:20341029T020000
TZOFFSETFROM:+0100
TZOFFSETTO:+0200
TZNAME:Europe/Brussels CEST
END:DAYLIGHT
BEGIN:DAYLIGHT
DTSTART:20350325T030000
RDATE:20351028T020000
TZOFFSETFROM:+0100
TZOFFSETTO:+0200
TZNAME:Europe/Brussels CEST
END:DAYLIGHT
BEGIN:DAYLIGHT
DTSTART:20360330T030000
RDATE:20361026T020000
TZOFFSETFROM:+0100
TZOFFSETTO:+0200
TZNAME:Europe/Brussels CEST
END:DAYLIGHT
BEGIN:DAYLIGHT
DTSTART:20370329T030000
RDATE:20371025T020000
TZOFFSETFROM:+0100
TZOFFSETTO:+0200
TZNAME:Europe/Brussels CEST
END:DAYLIGHT
END:VTIMEZONE
BEGIN:VEVENT
UID:7974d8bafb0963411f12327c078c623d
CATEGORIES:Formations
CREATED:20230207T121942
SUMMARY:Formation à l'animation d'ateliers d'écriture RAP J2
LOCATION:Peuple et Culture\, rue du Beau Mur 45\, 4030 Liège (Grivegnée)
DESCRIPTION:Les 15 et 16 juin 2023 de 9h30 à 17h à l’Espace Cacérès de Peuple et Cultur
 e, rue du Beau Mur 45, 4030 Liège (Grivegnée)\nLa formation vise à permettr
 e aux participant.es d'acquérir expériences, connaissances et compétences p
 our concevoir, animer et évaluer des ateliers où l'écriture RAP est destiné
 e à être portée oralement dans l'espace public.\nObjectifs \n\n - S'appropr
 ier les méthodes d'animation d’un atelier d’écriture RAP ;\n - Prendre cons
 cience de la multiplicité des formes et fonctions de l'oralité dans l'espac
 e public hier et aujourd'hui.\n - S'interroger sur la nécessité de la prise
  en compte d'autrui pour une portée sociopolitique dans l'acte d'écrire\n -
  Prendre en considération l'engagement physique dans l'exercice de sa citoy
 enneté : le corps et la voix au service d'un propos.Méthodologie\nLes métho
 dologies et les pédagogies s'inscrivent en rupture avec le modèle scolaire 
 et requièrent une implication active des participant.es.\nPublic\nTravaille
 ur.euse.s salarié.e.s ou bénévoles des secteurs associatif ou non marchand 
 public/privé travaillant avec des groupes d’adultes ou de jeunes.\nPrix\n10
 0 € ((remboursés par le Fonds 4S pour les travailleurs/travailleuses des co
 mmissions paritaires 329.02 et 329.03)\n \nInscription (http://www.peuple-e
 t-culture-wb.be/index.php?option=com_rsform&amp;view=rsform&amp;formId=1&am
 p;Itemid=158)\n
X-ALT-DESC;FMTTYPE=text/html:<p><strong>Les 15 et 16 juin 2023 de 9h30 à 17h <strong>à l’Espace Cacérès 
 de </strong>Peuple et Culture, rue du Beau Mur 45, 4030 Liège (Grivegnée)</
 strong></p><p>La formation vise à permettre aux participant.es d'acquérir e
 xpériences, connaissances et compétences pour concevoir, animer et évaluer 
 des ateliers où l'écriture RAP est destinée à être portée oralement dans l'
 espace public.</p><p><strong>Objectifs </strong></p><ul><li>S'approprier le
 s méthodes d'animation d’un atelier d’écriture RAP&nbsp;;</li><li>Prendre c
 onscience de la multiplicité des formes et fonctions de l'oralité dans l'es
 pace public hier et aujourd'hui.</li><li>S'interroger sur la nécessité de l
 a prise en compte d'autrui pour une portée sociopolitique dans l'acte d'écr
 ire</li><li>Prendre en considération l'engagement physique dans l'exercice 
 de sa citoyenneté : le corps et la voix au service d'un propos.</li></ul><p
 ><strong>Méthodologie</strong></p><p>Les méthodologies et les pédagogies s'
 inscrivent en rupture avec le modèle scolaire et requièrent une implication
  active des participant.es.</p><p><strong>Public</strong></p><p>Travailleur
 .euse.s salarié.e.s ou bénévoles des secteurs associatif ou non marchand pu
 blic/privé travaillant avec des groupes d’adultes ou de jeunes.</p><p><stro
 ng>Prix</strong></p><p>100 € ((remboursés par le Fonds 4S pour les travaill
 eurs/travailleuses des commissions paritaires 329.02 et 329.03)</p><p><stro
 ng>&nbsp;</strong></p><p><a href="http://www.peuple-et-culture-wb.be/index.
 php?option=com_rsform&amp;view=rsform&amp;formId=1&amp;Itemid=158" target="
 _self">Inscription</a></p>
CONTACT:Marie-Ève Maréchal : 0474 / 81.22.63 Cette adresse e-mail est protégée contre les robots spammeurs. Vous devez activer le JavaScript pour la visualiser.
DTSTAMP:20260420T013959
DTSTART;TZID=Europe/Brussels:20230616T093000
DTEND;TZID=Europe/Brussels:20230616T170000
SEQUENCE:0
TRANSP:OPAQUE
END:VEVENT
END:VCALENDAR